BEGIN:VCALENDAR
VERSION:2.0
PRODID:-//Mairie de Saint Siffret - ECPv6.15.20//NONSGML v1.0//EN
CALSCALE:GREGORIAN
METHOD:PUBLISH
X-ORIGINAL-URL:https://mairiesaintsiffret.fr
X-WR-CALDESC:Évènements pour Mairie de Saint Siffret
REFRESH-INTERVAL;VALUE=DURATION:PT1H
X-Robots-Tag:noindex
X-PUBLISHED-TTL:PT1H
BEGIN:VTIMEZONE
TZID:Europe/Paris
BEGIN:DAYLIGHT
TZOFFSETFROM:+0100
TZOFFSETTO:+0200
TZNAME:CEST
DTSTART:20230326T010000
END:DAYLIGHT
BEGIN:STANDARD
TZOFFSETFROM:+0200
TZOFFSETTO:+0100
TZNAME:CET
DTSTART:20231029T010000
END:STANDARD
BEGIN:DAYLIGHT
TZOFFSETFROM:+0100
TZOFFSETTO:+0200
TZNAME:CEST
DTSTART:20240331T010000
END:DAYLIGHT
BEGIN:STANDARD
TZOFFSETFROM:+0200
TZOFFSETTO:+0100
TZNAME:CET
DTSTART:20241027T010000
END:STANDARD
BEGIN:DAYLIGHT
TZOFFSETFROM:+0100
TZOFFSETTO:+0200
TZNAME:CEST
DTSTART:20250330T010000
END:DAYLIGHT
BEGIN:STANDARD
TZOFFSETFROM:+0200
TZOFFSETTO:+0100
TZNAME:CET
DTSTART:20251026T010000
END:STANDARD
END:VTIMEZONE
BEGIN:VEVENT
DTSTART;TZID=Europe/Paris:20241107T080000
DTEND;TZID=Europe/Paris:20241117T233000
DTSTAMP:20260426T031608
CREATED:20241211T071539Z
LAST-MODIFIED:20241211T071641Z
UID:843-1730966400-1731886200@mairiesaintsiffret.fr
SUMMARY:Vente de sapin de Noël - APE
DESCRIPTION:L’association des parents d’élèves (APE) de l’école communale de Saint-Siffret\, organise une vente de sapin : \n100 % des bénéfices serviront à financer toutes nos actions  !\n\n\n\nCommandes possibles jusqu’au 17 novembre\, alors dépêchez-vous 🏃‍♂️‍➡️\n\n\n– Pour un paiement par CB\, rendez-vous ici : https://www.helloasso.com/associations/ape-de-l-ecole-de-saint-siffret/boutiques/les-sapins-de-l-ape-2024-25\n\n\n– Par chèque : téléchargez le bon de commande sur notre site\, remplissez et déposez-le avec votre chèque dans la boite aux lettres de l’APE à l’école (route de Saint-Maximin 30700 Saint-Siffret)\n\n\nRETRAIT : le samedi 30 novembre entre 9h et 13h au Foyer Broche à Saint-Siffret.\n\n\nTout le monde y a droit alors PARLEZ-EN AUTOUR DE VOUS !!\n\n\nPour toute demande de renseignement : apestsiffret@gmail.com
URL:https://mairiesaintsiffret.fr/agenda/vente-de-sapin-de-noel-ape/
ATTACH;FMTTYPE=image/jpeg:https://mairiesaintsiffret.fr/wp-content/uploads/2024/12/IMG_1541.jpeg
END:VEVENT
END:VCALENDAR