BEGIN:VCALENDAR
VERSION:2.0
PRODID:-//Mairie de Saint Siffret - ECPv6.15.20//NONSGML v1.0//EN
CALSCALE:GREGORIAN
METHOD:PUBLISH
X-ORIGINAL-URL:https://mairiesaintsiffret.fr
X-WR-CALDESC:Évènements pour Mairie de Saint Siffret
REFRESH-INTERVAL;VALUE=DURATION:PT1H
X-Robots-Tag:noindex
X-PUBLISHED-TTL:PT1H
BEGIN:VTIMEZONE
TZID:Europe/Paris
BEGIN:DAYLIGHT
TZOFFSETFROM:+0100
TZOFFSETTO:+0200
TZNAME:CEST
DTSTART:20240331T010000
END:DAYLIGHT
BEGIN:STANDARD
TZOFFSETFROM:+0200
TZOFFSETTO:+0100
TZNAME:CET
DTSTART:20241027T010000
END:STANDARD
BEGIN:DAYLIGHT
TZOFFSETFROM:+0100
TZOFFSETTO:+0200
TZNAME:CEST
DTSTART:20250330T010000
END:DAYLIGHT
BEGIN:STANDARD
TZOFFSETFROM:+0200
TZOFFSETTO:+0100
TZNAME:CET
DTSTART:20251026T010000
END:STANDARD
BEGIN:DAYLIGHT
TZOFFSETFROM:+0100
TZOFFSETTO:+0200
TZNAME:CEST
DTSTART:20260329T010000
END:DAYLIGHT
BEGIN:STANDARD
TZOFFSETFROM:+0200
TZOFFSETTO:+0100
TZNAME:CET
DTSTART:20261025T010000
END:STANDARD
END:VTIMEZONE
BEGIN:VEVENT
DTSTART;TZID=Europe/Paris:20250108T100000
DTEND;TZID=Europe/Paris:20250108T120000
DTSTAMP:20260425T234823
CREATED:20250102T151344Z
LAST-MODIFIED:20250102T151344Z
UID:1298-1736330400-1736337600@mairiesaintsiffret.fr
SUMMARY:Ludothèque
DESCRIPTION:Des animations gratuites pour tous !\nVenez partager une « pause jeu » en famille ou entre amis\, à la\nLudothèque du Pays d’Uzès…\nJeux de société\, jeux de construction\, jeux sportifs\, jouets\,\ngrands jeux en bois… autant d’animations pour trouver\, ou\nretrouver\, le plaisir de jouer…
URL:https://mairiesaintsiffret.fr/agenda/ludotheque/
LOCATION:Foyer W. Broche\, Route de Saint-Maximin\, Saint-Siffret\, 30700
ATTACH;FMTTYPE=application/pdf:https://mairiesaintsiffret.fr/wp-content/uploads/2025/01/Ludotheque-AFFICHE-3.pdf
END:VEVENT
END:VCALENDAR