BEGIN:VCALENDAR
VERSION:2.0
PRODID:-//Mairie de Saint Siffret - ECPv6.15.20//NONSGML v1.0//EN
CALSCALE:GREGORIAN
METHOD:PUBLISH
X-ORIGINAL-URL:https://mairiesaintsiffret.fr
X-WR-CALDESC:Évènements pour Mairie de Saint Siffret
REFRESH-INTERVAL;VALUE=DURATION:PT1H
X-Robots-Tag:noindex
X-PUBLISHED-TTL:PT1H
BEGIN:VTIMEZONE
TZID:Europe/Paris
BEGIN:DAYLIGHT
TZOFFSETFROM:+0100
TZOFFSETTO:+0200
TZNAME:CEST
DTSTART:20240331T010000
END:DAYLIGHT
BEGIN:STANDARD
TZOFFSETFROM:+0200
TZOFFSETTO:+0100
TZNAME:CET
DTSTART:20241027T010000
END:STANDARD
BEGIN:DAYLIGHT
TZOFFSETFROM:+0100
TZOFFSETTO:+0200
TZNAME:CEST
DTSTART:20250330T010000
END:DAYLIGHT
BEGIN:STANDARD
TZOFFSETFROM:+0200
TZOFFSETTO:+0100
TZNAME:CET
DTSTART:20251026T010000
END:STANDARD
BEGIN:DAYLIGHT
TZOFFSETFROM:+0100
TZOFFSETTO:+0200
TZNAME:CEST
DTSTART:20260329T010000
END:DAYLIGHT
BEGIN:STANDARD
TZOFFSETFROM:+0200
TZOFFSETTO:+0100
TZNAME:CET
DTSTART:20261025T010000
END:STANDARD
END:VTIMEZONE
BEGIN:VEVENT
DTSTART;TZID=Europe/Paris:20250126T100000
DTEND;TZID=Europe/Paris:20250126T170000
DTSTAMP:20260425T234849
CREATED:20250124T150146Z
LAST-MODIFIED:20250124T150146Z
UID:1385-1737885600-1737910800@mairiesaintsiffret.fr
SUMMARY:La VT’Truffes
DESCRIPTION:LA 12ème VT’TRUFFES passera par Saint-Siffret !\nDIMANCHE 26 JANVIER 2025 \nVTT DÉCOUVERTE 23 KM/ D+ 300\nVTT SPORT 35-45 KM/ D+ 600 – 750\nVTT RAID 60 KM/ D+ 900 ( Hommage à Vincent Fauvelet *)\nGRAVEL 60 KM / D+ 800\nRANDO-TRAIL 10Km D+ 253 et 13 km D+ 329 \nTous les circuits sont nouveaux\n\nDépart UZÈS(Gard)  Domaine Viticole St Firmin.\nPour tous à l’arrivée : Soupe truffée + bouteille de vin du Domaine. \nA l’arrivée : buvette\, sandwich – frites \nTombola : des truffes d’Uzès – un VTT et nombreux autres lots. \nInscription par internet sur notre site.\nRando VTT et Pédestre : 12€ (+3€ si inscription sur place).\nGratuit pour les moins de 12 ans \nInscriptions en ligne :\nOuverte le Jeudi 5 Décembre à 8h\nFermeture le Jeudi 23 Janvier à 20h \nRepas aux truffes : 20€ (réservation obligatoire\, 200 repas maxi) \nINFOS : 06 27 81 35 23 (Denis) et www.uzesveloclub.fr\nInscriptions et départs à partir de 8h jusqu’à 10h. \n  \nScreenshot
URL:https://mairiesaintsiffret.fr/agenda/la-vttruffes/
CATEGORIES:Sportif
ATTACH;FMTTYPE=image/jpeg:https://mairiesaintsiffret.fr/wp-content/uploads/2025/01/IMG_1008.jpeg
END:VEVENT
END:VCALENDAR