BEGIN:VCALENDAR
VERSION:2.0
PRODID:-//Mairie de Saint Siffret - ECPv6.15.20//NONSGML v1.0//EN
CALSCALE:GREGORIAN
METHOD:PUBLISH
X-ORIGINAL-URL:https://mairiesaintsiffret.fr
X-WR-CALDESC:Évènements pour Mairie de Saint Siffret
REFRESH-INTERVAL;VALUE=DURATION:PT1H
X-Robots-Tag:noindex
X-PUBLISHED-TTL:PT1H
BEGIN:VTIMEZONE
TZID:Europe/Paris
BEGIN:DAYLIGHT
TZOFFSETFROM:+0100
TZOFFSETTO:+0200
TZNAME:CEST
DTSTART:20240331T010000
END:DAYLIGHT
BEGIN:STANDARD
TZOFFSETFROM:+0200
TZOFFSETTO:+0100
TZNAME:CET
DTSTART:20241027T010000
END:STANDARD
BEGIN:DAYLIGHT
TZOFFSETFROM:+0100
TZOFFSETTO:+0200
TZNAME:CEST
DTSTART:20250330T010000
END:DAYLIGHT
BEGIN:STANDARD
TZOFFSETFROM:+0200
TZOFFSETTO:+0100
TZNAME:CET
DTSTART:20251026T010000
END:STANDARD
BEGIN:DAYLIGHT
TZOFFSETFROM:+0100
TZOFFSETTO:+0200
TZNAME:CEST
DTSTART:20260329T010000
END:DAYLIGHT
BEGIN:STANDARD
TZOFFSETFROM:+0200
TZOFFSETTO:+0100
TZNAME:CET
DTSTART:20261025T010000
END:STANDARD
END:VTIMEZONE
BEGIN:VEVENT
DTSTART;TZID=Europe/Paris:20250517T140000
DTEND;TZID=Europe/Paris:20250517T190000
DTSTAMP:20260425T171904
CREATED:20250414T142641Z
LAST-MODIFIED:20250414T143533Z
UID:1608-1747490400-1747508400@mairiesaintsiffret.fr
SUMMARY:💽💥🤸🏾Battle NEW GENERATION🤸🏾💥💽
DESCRIPTION:Le samedi 17 mai a partir de 10h avec DJ TAJ MAHAL \n✨Stage de 10h à 12h \n✨Cercles à 13h \n✨Battles à 14h \nEntrés 5 €( gratuit pour les danseurs).  Buvette et restauration sur place \n 
URL:https://mairiesaintsiffret.fr/agenda/%f0%9f%92%bd%f0%9f%92%a5%f0%9f%a4%b8%f0%9f%8f%bebattle-new-generation%f0%9f%a4%b8%f0%9f%8f%be%f0%9f%92%a5%f0%9f%92%bd/
LOCATION:Foyer W. Broche\, Route de Saint-Maximin\, Saint-Siffret\, 30700
ATTACH;FMTTYPE=image/jpeg:https://mairiesaintsiffret.fr/wp-content/uploads/2025/04/Battle-17-mai.jpg
END:VEVENT
BEGIN:VEVENT
DTSTART;TZID=Europe/Paris:20250517T180000
DTEND;TZID=Europe/Paris:20250518T000000
DTSTAMP:20260425T171904
CREATED:20250414T143303Z
LAST-MODIFIED:20250414T145357Z
UID:1611-1747504800-1747526400@mairiesaintsiffret.fr
SUMMARY:🎉🥳🎇Fête annuelle au club house🎇 🥳🎉
DESCRIPTION:Organisé par le Tennis Club La Pinède
URL:https://mairiesaintsiffret.fr/agenda/%f0%9f%8e%89%f0%9f%a5%b3%f0%9f%8e%87fete-annuelle-au-club-house%f0%9f%8e%87-%f0%9f%a5%b3%f0%9f%8e%89/
LOCATION:Club House
END:VEVENT
END:VCALENDAR