BEGIN:VCALENDAR
VERSION:2.0
PRODID:-//Mairie de Saint Siffret - ECPv6.15.20//NONSGML v1.0//EN
CALSCALE:GREGORIAN
METHOD:PUBLISH
X-ORIGINAL-URL:https://mairiesaintsiffret.fr
X-WR-CALDESC:Évènements pour Mairie de Saint Siffret
REFRESH-INTERVAL;VALUE=DURATION:PT1H
X-Robots-Tag:noindex
X-PUBLISHED-TTL:PT1H
BEGIN:VTIMEZONE
TZID:Europe/Paris
BEGIN:DAYLIGHT
TZOFFSETFROM:+0100
TZOFFSETTO:+0200
TZNAME:CEST
DTSTART:20240331T010000
END:DAYLIGHT
BEGIN:STANDARD
TZOFFSETFROM:+0200
TZOFFSETTO:+0100
TZNAME:CET
DTSTART:20241027T010000
END:STANDARD
BEGIN:DAYLIGHT
TZOFFSETFROM:+0100
TZOFFSETTO:+0200
TZNAME:CEST
DTSTART:20250330T010000
END:DAYLIGHT
BEGIN:STANDARD
TZOFFSETFROM:+0200
TZOFFSETTO:+0100
TZNAME:CET
DTSTART:20251026T010000
END:STANDARD
BEGIN:DAYLIGHT
TZOFFSETFROM:+0100
TZOFFSETTO:+0200
TZNAME:CEST
DTSTART:20260329T010000
END:DAYLIGHT
BEGIN:STANDARD
TZOFFSETFROM:+0200
TZOFFSETTO:+0100
TZNAME:CET
DTSTART:20261025T010000
END:STANDARD
END:VTIMEZONE
BEGIN:VEVENT
DTSTART;TZID=Europe/Paris:20250611T100000
DTEND;TZID=Europe/Paris:20250611T120000
DTSTAMP:20260425T153433
CREATED:20250605T101507Z
LAST-MODIFIED:20250606T134752Z
UID:2393-1749636000-1749643200@mairiesaintsiffret.fr
SUMMARY:ℹ OUVERTURE DE L’ESPACE CULTUREL 🎉 📚
DESCRIPTION:Nous avons le plaisir de vous informer que le nouvel espace culturel situé en extension du foyer W. BROCHE\, ouvrira ses portes au publics à partir du mercredi 11 juin à partir de 10h00 ! \n🕕 Les jours et horaires d’ouvertures sont : \nDu mercredi au samedi\, de 10h à 12h et de 15h à 18h  \nCette nouvelle salle située en extension du foyer Broche\, vous proposera :\n👉 1 espace bibliothèque 📚 connecté au réseau des bibliothèques de la CCPU. Des collections d’ouvrages pour tout les goûts et tout les âges 😎\, mais aussi\, des DVD et CD\n👉 1 espace télétravail en coworking – postes équipés\, wifi et scanner à disposition\n👉 1 ludothèque pour jouer\, passer un bon moment autour de jeux de société\,\n👉 1 espace de convivialité \nD’autres activités et services seront petit à petit mis en place ! Pour cela\, nous avons besoin de vos retours\, de vos idées et de vos avis. \nMélanie Yvon votre bibliothécaire en charge de l’animation de l’espace culturel se tient à votre disposition. \nℹ️ La bibliothèque de l’espace culturel est intégré au réseau des Bibliothèques du Pays d’Uzès. \nSi vous avez déjà en votre possession une carte de lecteur pour l’une des médiathèques ou bibliothèques du réseau du Pays d’Uzès\, celle-ci fonctionnera à Saint-Siffret. \nSi vous n’avez pas encore votre carte de lecteur\, vous pourrez vous l’a procurer à l’accueil de l’espace culturel auprès de Mélanie Yvon\, aux jours et heures d’ouverture de la salle. \nPLUS D’INFORMATION SUR COMMENT S’INSCRIRE ET COMMENT EMPRUNTER DES DOCUMENTS : https://www.mediatheques.ccpaysduzes.fr/page/sinscrire-et-emprunter-des-documents\n  \nℹ️ Enfin\, pour découvrir toutes les collections mises à votre disposition en 1 clic : https://www.mediatheques.ccpaysduzes.fr
URL:https://mairiesaintsiffret.fr/agenda/%e2%84%b9-ouverture-de-lespace-culturel-%f0%9f%8e%89-%f0%9f%93%9a/
LOCATION:Espace culturel – Foyer W. Broche\, Route de Saint-Maximin\, Saint-Siffret\, 30700
ATTACH;FMTTYPE=image/jpeg:https://mairiesaintsiffret.fr/wp-content/uploads/2025/06/horaires-Tiers-lieu_page-0002.jpg
END:VEVENT
BEGIN:VEVENT
DTSTART;TZID=Europe/Paris:20250611T100000
DTEND;TZID=Europe/Paris:20250611T120000
DTSTAMP:20260425T153433
CREATED:20250605T121601Z
LAST-MODIFIED:20250605T121918Z
UID:2403-1749636000-1749643200@mairiesaintsiffret.fr
SUMMARY:Ludothèque
DESCRIPTION: Venez partager une pause de jeux en famille ou entre amis à la ludothèque itinérante du pays d’Uzes Le MERCREDI 11 JUIN au foyer Broche de St SIFFRET de 10h à 12h 
URL:https://mairiesaintsiffret.fr/agenda/ludotheque-9/
LOCATION:Foyer W. Broche\, Route de Saint-Maximin\, Saint-Siffret\, 30700
ATTACH;FMTTYPE=image/jpeg:https://mairiesaintsiffret.fr/wp-content/uploads/2025/06/Affiche-Ludotheque_page-0001-1.jpg
END:VEVENT
BEGIN:VEVENT
DTSTART;TZID=Europe/Paris:20250611T100000
DTEND;TZID=Europe/Paris:20250611T120000
DTSTAMP:20260425T153433
CREATED:20250606T134457Z
LAST-MODIFIED:20250606T134932Z
UID:2424-1749636000-1749643200@mairiesaintsiffret.fr
SUMMARY:🚚📚Mobilivre nous rejoins pour l'ouverture de l'espace culturel le 11 juin a partir de 10h 🥳🙌
DESCRIPTION:Mobilivre c’est quoi ?👇 \n👉Mobilivre repose sur la mise en réseau des lecteurs\, des éditeurs et des libraires\, avec une attention particulière portée aux petites maisons d’édition souvent sous- représentées en librairie. Chaque mois\, les lecteurs peuvent découvrir la “météo des pages”\, une sélection littéraire renouvelée\, composée de recommandations et de coups de cœur partagés par les libraires et la communauté des lecteurs. Mais Mobilivre\, c’est aussi un relais des événements littéraires organisés par les éditeurs et … libraires dans les régions : rencontres\, dédicaces\, ateliers d’écriture. autant de moments pour faire vivre la littérature au plus près des lecteurs. \nRemettre Le Livre au milieu du village 👇 \n👉Mobilivre s’inscrit comme un véritable David face à Goliath\, un pied de nez à l’hégémonie des grandes plateformes de vente en ligne. Face à la standardisation et à la logique purement marchande des géants du e-commerce\, cette aventure littéraire défend une autre vision du livre et de la culture : plus humaine\, plus locale et plus engagée. Soutenu par des éditeurs indépendants\, des libraires passionnés et un public en quête d’authenticité\, Mobilivre ne se contente pas de proposer des ouvrages\, il invite chacun à devenir acteur du bien culturel. Ici\, le livre ne se réduit pas à une transaction : il est vecteur de rencontres\, de découvertes et de partage. En favorisant la diversité éditoriale et en mettant en lumière les petites maisons d’édition\, Mobilivre redonne au livre sa juste place : au cœur de la cité\, au plus près des lecteurs. \n👉Mobilivre propose l’application la plus complète pour celles et ceux en quête de découvertes littéraires. Bien plus qu’un simple service de commande de livres\, elle crée un véritable réseau de mise en relation immédiate entre lecteurs\, éditeurs et libraires indépendants\, favorisant ainsi une approche participative et immersive de la lecture.\nUne sélection personnalisée et un accès facilité aux livres
URL:https://mairiesaintsiffret.fr/agenda/%f0%9f%9a%9a%f0%9f%93%9amobilivre-nous-rejoins-pour-louverture-de-lespace-culturel-le-11-juin-a-partir-de-10h-%f0%9f%a5%b3%f0%9f%99%8c/
ATTACH;FMTTYPE=image/jpeg:https://mairiesaintsiffret.fr/wp-content/uploads/2025/06/Affiche-lancement-Mobilivre_page-0001.jpg
END:VEVENT
END:VCALENDAR