BEGIN:VCALENDAR
VERSION:2.0
PRODID:-//Mairie de Saint Siffret - ECPv6.15.20//NONSGML v1.0//EN
CALSCALE:GREGORIAN
METHOD:PUBLISH
X-ORIGINAL-URL:https://mairiesaintsiffret.fr
X-WR-CALDESC:Évènements pour Mairie de Saint Siffret
REFRESH-INTERVAL;VALUE=DURATION:PT1H
X-Robots-Tag:noindex
X-PUBLISHED-TTL:PT1H
BEGIN:VTIMEZONE
TZID:Europe/Paris
BEGIN:DAYLIGHT
TZOFFSETFROM:+0100
TZOFFSETTO:+0200
TZNAME:CEST
DTSTART:20240331T010000
END:DAYLIGHT
BEGIN:STANDARD
TZOFFSETFROM:+0200
TZOFFSETTO:+0100
TZNAME:CET
DTSTART:20241027T010000
END:STANDARD
BEGIN:DAYLIGHT
TZOFFSETFROM:+0100
TZOFFSETTO:+0200
TZNAME:CEST
DTSTART:20250330T010000
END:DAYLIGHT
BEGIN:STANDARD
TZOFFSETFROM:+0200
TZOFFSETTO:+0100
TZNAME:CET
DTSTART:20251026T010000
END:STANDARD
BEGIN:DAYLIGHT
TZOFFSETFROM:+0100
TZOFFSETTO:+0200
TZNAME:CEST
DTSTART:20260329T010000
END:DAYLIGHT
BEGIN:STANDARD
TZOFFSETFROM:+0200
TZOFFSETTO:+0100
TZNAME:CET
DTSTART:20261025T010000
END:STANDARD
END:VTIMEZONE
BEGIN:VEVENT
DTSTART;TZID=Europe/Paris:20250627T080000
DTEND;TZID=Europe/Paris:20250629T010000
DTSTAMP:20260425T153530
CREATED:20250415T080303Z
LAST-MODIFIED:20250617T104547Z
UID:1644-1751011200-1751158800@mairiesaintsiffret.fr
SUMMARY:🎉🎺🐮💃Fête Votive 💃🐮🎺🎉
DESCRIPTION:Le Vendredi 27 juin au programme : 👇 \n👉18h30 PREMIERE SOIRÉE DE LA FÊTE VOTIVE 2025\n⭐ Petite restauration sur place \n👉19:30 TAUREAU PISCINE AVEC LA MANADE DE LA CLASTRE \nLe Samedi 28 juin au programme : 👇 \n👉09:00 CONCOURS DE BELOTE (PRIX POUR LES 1ER ET 2ÈMES) \n👉11:30 TAUREAU PISCINE AVEC LA MANADE DE LA CLASTRE ! \n👉13:00 ANIMATION MUSICALE PAR DJ LOIC !\n⭐  Repas sur réservation au 06 73 87 93 05 date limite 23/06\n18 EUROS Plat\, Dessert et Café ! \n👉14:30 TOURNOI DE PÉTANQUE ! (50 EUROS + MISES) \n👉19:30 TAUREAU PISCINE AVEC LA MANADE DE LA CLASTRE | \n👉21:00 – 01:00 DJLOÏC POUR ENFLAMMER LE DANCE FLOOR !! \n⭐ NAVETTES GRATUITES POUR LE LOFT \nOrganisé par le comité des fêtes.
URL:https://mairiesaintsiffret.fr/agenda/%f0%9f%8e%89%f0%9f%8e%ba%f0%9f%90%ae%f0%9f%92%83fete-votive-%f0%9f%92%83%f0%9f%90%ae%f0%9f%8e%ba%f0%9f%8e%89/
LOCATION:Foyer W. Broche\, Route de Saint-Maximin\, Saint-Siffret\, 30700
ATTACH;FMTTYPE=image/png:https://mairiesaintsiffret.fr/wp-content/uploads/2025/04/fETE-VOTIVE-1-1-scaled.png
END:VEVENT
END:VCALENDAR