BEGIN:VCALENDAR
VERSION:2.0
PRODID:-//Mairie de Saint Siffret - ECPv6.15.20//NONSGML v1.0//EN
CALSCALE:GREGORIAN
METHOD:PUBLISH
X-ORIGINAL-URL:https://mairiesaintsiffret.fr
X-WR-CALDESC:Évènements pour Mairie de Saint Siffret
REFRESH-INTERVAL;VALUE=DURATION:PT1H
X-Robots-Tag:noindex
X-PUBLISHED-TTL:PT1H
BEGIN:VTIMEZONE
TZID:Europe/Paris
BEGIN:DAYLIGHT
TZOFFSETFROM:+0100
TZOFFSETTO:+0200
TZNAME:CEST
DTSTART:20240331T010000
END:DAYLIGHT
BEGIN:STANDARD
TZOFFSETFROM:+0200
TZOFFSETTO:+0100
TZNAME:CET
DTSTART:20241027T010000
END:STANDARD
BEGIN:DAYLIGHT
TZOFFSETFROM:+0100
TZOFFSETTO:+0200
TZNAME:CEST
DTSTART:20250330T010000
END:DAYLIGHT
BEGIN:STANDARD
TZOFFSETFROM:+0200
TZOFFSETTO:+0100
TZNAME:CET
DTSTART:20251026T010000
END:STANDARD
BEGIN:DAYLIGHT
TZOFFSETFROM:+0100
TZOFFSETTO:+0200
TZNAME:CEST
DTSTART:20260329T010000
END:DAYLIGHT
BEGIN:STANDARD
TZOFFSETFROM:+0200
TZOFFSETTO:+0100
TZNAME:CET
DTSTART:20261025T010000
END:STANDARD
END:VTIMEZONE
BEGIN:VEVENT
DTSTART;VALUE=DATE:20250726
DTEND;VALUE=DATE:20250727
DTSTAMP:20260425T140047
CREATED:20250723T135129Z
LAST-MODIFIED:20250723T135301Z
UID:2805-1753488000-1753574399@mairiesaintsiffret.fr
SUMMARY:Marc Fernandez à Saint-Siffret !
DESCRIPTION:Samedi 26 juillet : Art et Patrimoine à Saint-Siffret !Votre Espace Culturel vous donne rendez-vous au parc de La Péran dès le matin pour une journée placée sous le signe du jeu de société\, de la découverte et de la convivialité. \nAu programme : \n\nDes animations ludiques autour du jeu de société pour petits et grands\,\nLa présence du MobiLivre\,\nEt un moment privilégié avec Marc Fernandez\, auteur de Goutte d’Or Connexion\, qui sera présent de 15h à 16h45 pour une rencontre et une séance de dédicaces. Son dernier ouvrage est d’ores et déjà disponible dans votre Espace Culturel !\n\nVenez nombreux partager ce beau moment culturel avec nous !
URL:https://mairiesaintsiffret.fr/agenda/marc-fernandez-a-saint-siffret/
LOCATION:Parc de La Péran\, Place de l’ancienne école\, Saint-Siffret\, 30700
CATEGORIES:Culture
ATTACH;FMTTYPE=image/jpeg:https://mairiesaintsiffret.fr/wp-content/uploads/2025/07/Programme_Marc_Fernandez_BLEED-2_page-0001-1-scaled.jpg
ORGANIZER;CN="espace culturel":MAILTO:espace-culturel@mairiesaintsiffret.fr
END:VEVENT
BEGIN:VEVENT
DTSTART;TZID=Europe/Paris:20250726T080000
DTEND;TZID=Europe/Paris:20250727T170000
DTSTAMP:20260425T140047
CREATED:20250415T080643Z
LAST-MODIFIED:20250627T134942Z
UID:1646-1753516800-1753635600@mairiesaintsiffret.fr
SUMMARY:🖼️🤩🏛️Festival Art et Patrimoine🏛️🤩🖼️
DESCRIPTION:La mairie de Saint-Siffret\, en partenariat avec l’association Tous en scène Saint-Siffret\, ont le plaisir de vous annoncer que la 5ème édition du festival d’art contemporain « Art & Patrimoine » se déroulera les 26 et 27 juillet 2025 !\n\n\n\n\n\n\nAu programme: \n⭐ Un week-end dédié à l’Art \n⭐ La découverte du patrimoine (3 visites guidées gratuites -samedi 17h30\, dimanche 10h30 et 17h30) \n⭐ 60 artistes exposants \n⭐ Chasse au trésor pour les enfants (Les Mystères de Saint-Siffret – gratuit) \n⭐ Concert Sud Musique (samedi 21h30 – gratuit) \n⭐ Petite restauration \nVenez nombreux flâner dans Saint-Siffret à la découverte d’Artistes talentueux. 🤩 \n 
URL:https://mairiesaintsiffret.fr/agenda/%f0%9f%96%bc%ef%b8%8f%f0%9f%a4%a9%f0%9f%8f%9b%ef%b8%8ffestival-art-et-patrimoine%f0%9f%8f%9b%ef%b8%8f%f0%9f%a4%a9%f0%9f%96%bc%ef%b8%8f/
ATTACH;FMTTYPE=image/jpeg:https://mairiesaintsiffret.fr/wp-content/uploads/2025/04/art-et-patrimoine-2025.jpg
ORGANIZER;CN="Mairie de Saint-Siffret":MAILTO:contact@mairiesaintsiffret.fr
END:VEVENT
BEGIN:VEVENT
DTSTART;TZID=Europe/Paris:20250726T150000
DTEND;TZID=Europe/Paris:20250726T160000
DTSTAMP:20260425T140047
CREATED:20250721T080030Z
LAST-MODIFIED:20250709T150710Z
UID:2747-1753542000-1753545600@mairiesaintsiffret.fr
SUMMARY:🎲APRÈS-MIDI JEUX DE SOCIÉTÉ 📚
DESCRIPTION:La bibliothèque vous invite à partager un moment convivial et ludique lors de ses après-midis jeux de société ! 🎉 \nVenez découvrir ou redécouvrir le plaisir de jouer ensemble\, que vous soyez joueur débutant\, passionné ou simplement curieux. \n🕒 Quand ?\nTous les samedis de 15H à 18H \n📍 Où ?\nÀ l’Espace Culturel – Foyer William Broche\, Rte de Saint Maximin. \n👨‍👩‍👧‍👦 Pour qui ?\nCes rencontres sont ouvertes à tous : enfants\, adolescents\, adultes et familles. \nDes jeux adaptés à chaque âge et à chaque envie seront disponibles\, du jeu de stratégie au jeu de coopération\, en passant par les grands classiques. \n🎯 Pourquoi venir ?\nPour s’amuser\, rencontrer de nouvelles personnes\, découvrir de nouveaux jeux et passer un bon moment en toute simplicité !
URL:https://mairiesaintsiffret.fr/agenda/%f0%9f%8e%b2apres-midi-jeux-de-societe-%f0%9f%93%9a-4/
LOCATION:Espace culturel – Foyer W. Broche\, Route de Saint-Maximin\, Saint-Siffret\, 30700
CATEGORIES:Culture
ATTACH;FMTTYPE=image/jpeg:https://mairiesaintsiffret.fr/wp-content/uploads/2025/07/Apres-midi-jeux-_page-0001.jpg
ORGANIZER;CN="espace culturel":MAILTO:espace-culturel@mairiesaintsiffret.fr
END:VEVENT
END:VCALENDAR