BEGIN:VCALENDAR
VERSION:2.0
PRODID:-//Mairie de Saint Siffret - ECPv6.15.20//NONSGML v1.0//EN
CALSCALE:GREGORIAN
METHOD:PUBLISH
X-ORIGINAL-URL:https://mairiesaintsiffret.fr
X-WR-CALDESC:Évènements pour Mairie de Saint Siffret
REFRESH-INTERVAL;VALUE=DURATION:PT1H
X-Robots-Tag:noindex
X-PUBLISHED-TTL:PT1H
BEGIN:VTIMEZONE
TZID:Europe/Paris
BEGIN:DAYLIGHT
TZOFFSETFROM:+0100
TZOFFSETTO:+0200
TZNAME:CEST
DTSTART:20240331T010000
END:DAYLIGHT
BEGIN:STANDARD
TZOFFSETFROM:+0200
TZOFFSETTO:+0100
TZNAME:CET
DTSTART:20241027T010000
END:STANDARD
BEGIN:DAYLIGHT
TZOFFSETFROM:+0100
TZOFFSETTO:+0200
TZNAME:CEST
DTSTART:20250330T010000
END:DAYLIGHT
BEGIN:STANDARD
TZOFFSETFROM:+0200
TZOFFSETTO:+0100
TZNAME:CET
DTSTART:20251026T010000
END:STANDARD
BEGIN:DAYLIGHT
TZOFFSETFROM:+0100
TZOFFSETTO:+0200
TZNAME:CEST
DTSTART:20260329T010000
END:DAYLIGHT
BEGIN:STANDARD
TZOFFSETFROM:+0200
TZOFFSETTO:+0100
TZNAME:CET
DTSTART:20261025T010000
END:STANDARD
END:VTIMEZONE
BEGIN:VEVENT
DTSTART;TZID=Europe/Paris:20250820T190000
DTEND;TZID=Europe/Paris:20250820T233000
DTSTAMP:20260425T122652
CREATED:20250813T165157Z
LAST-MODIFIED:20250819T124121Z
UID:2835-1755716400-1755732600@mairiesaintsiffret.fr
SUMMARY:MARCHÉ NOCTURNE - ANNULÉ ⛈️
DESCRIPTION:🔴 ANNULÉ ⛈️ ☔️ \nLe traditionnel marché nocturne qui devait se dérouler le mercredi 30 août à partir de 19h00 au Parc de La Péran est ANNULÉ !!
URL:https://mairiesaintsiffret.fr/agenda/2835/
LOCATION:Parc de La Péran\, Place de l’ancienne école\, Saint-Siffret\, 30700
CATEGORIES:Communal
ATTACH;FMTTYPE=image/jpeg:https://mairiesaintsiffret.fr/wp-content/uploads/2025/08/IMG_2437.jpeg
ORGANIZER;CN="Mairie de Saint-Siffret":MAILTO:contact@mairiesaintsiffret.fr
END:VEVENT
END:VCALENDAR