BEGIN:VCALENDAR
VERSION:2.0
PRODID:-//Mairie de Saint Siffret - ECPv6.15.20//NONSGML v1.0//EN
CALSCALE:GREGORIAN
METHOD:PUBLISH
X-ORIGINAL-URL:https://mairiesaintsiffret.fr
X-WR-CALDESC:Évènements pour Mairie de Saint Siffret
REFRESH-INTERVAL;VALUE=DURATION:PT1H
X-Robots-Tag:noindex
X-PUBLISHED-TTL:PT1H
BEGIN:VTIMEZONE
TZID:Europe/Paris
BEGIN:DAYLIGHT
TZOFFSETFROM:+0100
TZOFFSETTO:+0200
TZNAME:CEST
DTSTART:20240331T010000
END:DAYLIGHT
BEGIN:STANDARD
TZOFFSETFROM:+0200
TZOFFSETTO:+0100
TZNAME:CET
DTSTART:20241027T010000
END:STANDARD
BEGIN:DAYLIGHT
TZOFFSETFROM:+0100
TZOFFSETTO:+0200
TZNAME:CEST
DTSTART:20250330T010000
END:DAYLIGHT
BEGIN:STANDARD
TZOFFSETFROM:+0200
TZOFFSETTO:+0100
TZNAME:CET
DTSTART:20251026T010000
END:STANDARD
BEGIN:DAYLIGHT
TZOFFSETFROM:+0100
TZOFFSETTO:+0200
TZNAME:CEST
DTSTART:20260329T010000
END:DAYLIGHT
BEGIN:STANDARD
TZOFFSETFROM:+0200
TZOFFSETTO:+0100
TZNAME:CET
DTSTART:20261025T010000
END:STANDARD
END:VTIMEZONE
BEGIN:VEVENT
DTSTART;TZID=Europe/Paris:20251015T100000
DTEND;TZID=Europe/Paris:20251015T120000
DTSTAMP:20260423T011915
CREATED:20250918T144728Z
LAST-MODIFIED:20250918T144728Z
UID:3023-1760522400-1760529600@mairiesaintsiffret.fr
SUMMARY:Ludothèque
DESCRIPTION:
URL:https://mairiesaintsiffret.fr/agenda/ludotheque-10/
LOCATION:Foyer W. Broche\, Route de Saint-Maximin\, Saint-Siffret\, 30700
END:VEVENT
END:VCALENDAR