BEGIN:VCALENDAR
VERSION:2.0
PRODID:-//Mairie de Saint Siffret - ECPv6.15.20//NONSGML v1.0//EN
CALSCALE:GREGORIAN
METHOD:PUBLISH
X-ORIGINAL-URL:https://mairiesaintsiffret.fr
X-WR-CALDESC:Évènements pour Mairie de Saint Siffret
REFRESH-INTERVAL;VALUE=DURATION:PT1H
X-Robots-Tag:noindex
X-PUBLISHED-TTL:PT1H
BEGIN:VTIMEZONE
TZID:Europe/Paris
BEGIN:DAYLIGHT
TZOFFSETFROM:+0100
TZOFFSETTO:+0200
TZNAME:CEST
DTSTART:20240331T010000
END:DAYLIGHT
BEGIN:STANDARD
TZOFFSETFROM:+0200
TZOFFSETTO:+0100
TZNAME:CET
DTSTART:20241027T010000
END:STANDARD
BEGIN:DAYLIGHT
TZOFFSETFROM:+0100
TZOFFSETTO:+0200
TZNAME:CEST
DTSTART:20250330T010000
END:DAYLIGHT
BEGIN:STANDARD
TZOFFSETFROM:+0200
TZOFFSETTO:+0100
TZNAME:CET
DTSTART:20251026T010000
END:STANDARD
BEGIN:DAYLIGHT
TZOFFSETFROM:+0100
TZOFFSETTO:+0200
TZNAME:CEST
DTSTART:20260329T010000
END:DAYLIGHT
BEGIN:STANDARD
TZOFFSETFROM:+0200
TZOFFSETTO:+0100
TZNAME:CET
DTSTART:20261025T010000
END:STANDARD
END:VTIMEZONE
BEGIN:VEVENT
DTSTART;TZID=Europe/Paris:20251112T170000
DTEND;TZID=Europe/Paris:20251112T170000
DTSTAMP:20260422T233343
CREATED:20251106T150709Z
LAST-MODIFIED:20251110T151730Z
UID:3087-1762966800-1762966800@mairiesaintsiffret.fr
SUMMARY:FORMATION AU COMPOSTAGE
DESCRIPTION:SAINT-SIFFRET AU FOYER W. BROCHE LE MERCREDI 12 NOVEMBRE 2025 À 18H00 \nLe compostage est une méthode simple\, efficace et naturelle pour réduire vos déchets et produire un fertilisant riche en éléments nutritifs pour vos plantes § \nUn Maître Composteur vous partagera ses astuces de montage\, démarrage et d’utilisation du compost. Après la suite de la formation un composteur vous sera offert. \nInscrivez vous en ligne sur www.sictomu.fr ou au 04 66 22 13 70
URL:https://mairiesaintsiffret.fr/agenda/formation-au-compostage-4/
LOCATION:Foyer W. Broche\, Route de Saint-Maximin\, Saint-Siffret\, 30700
ATTACH;FMTTYPE=image/jpeg:https://mairiesaintsiffret.fr/wp-content/uploads/2025/11/SAINT-SIFFRET_page-0001.jpg
END:VEVENT
BEGIN:VEVENT
DTSTART;TZID=Europe/Paris:20251112T190000
DTEND;TZID=Europe/Paris:20251112T210000
DTSTAMP:20260422T233343
CREATED:20251103T152442Z
LAST-MODIFIED:20251110T153101Z
UID:3109-1762974000-1762981200@mairiesaintsiffret.fr
SUMMARY:Conseil Municipal
DESCRIPTION:Ce mercredi 12 novembre\,  le conseil municipal tiendra séance à 19h00\, salle du conseil de la mairie. \nℹ️ Les séances du conseil municipal sont ouvertes au public ! \nBonne journée 👋
URL:https://mairiesaintsiffret.fr/agenda/conseil-municipal/
LOCATION:Mairie de Saint-Siffret\, Route de Saint-Maximin\, Saint-Siffret\, 30700
ATTACH;FMTTYPE=image/jpeg:https://mairiesaintsiffret.fr/wp-content/uploads/2025/11/IMG-20251110-WA0000.jpg
END:VEVENT
END:VCALENDAR