BEGIN:VCALENDAR
VERSION:2.0
PRODID:-//Mairie de Saint Siffret - ECPv6.15.20//NONSGML v1.0//EN
CALSCALE:GREGORIAN
METHOD:PUBLISH
X-ORIGINAL-URL:https://mairiesaintsiffret.fr
X-WR-CALDESC:Évènements pour Mairie de Saint Siffret
REFRESH-INTERVAL;VALUE=DURATION:PT1H
X-Robots-Tag:noindex
X-PUBLISHED-TTL:PT1H
BEGIN:VTIMEZONE
TZID:Europe/Paris
BEGIN:DAYLIGHT
TZOFFSETFROM:+0100
TZOFFSETTO:+0200
TZNAME:CEST
DTSTART:20240331T010000
END:DAYLIGHT
BEGIN:STANDARD
TZOFFSETFROM:+0200
TZOFFSETTO:+0100
TZNAME:CET
DTSTART:20241027T010000
END:STANDARD
BEGIN:DAYLIGHT
TZOFFSETFROM:+0100
TZOFFSETTO:+0200
TZNAME:CEST
DTSTART:20250330T010000
END:DAYLIGHT
BEGIN:STANDARD
TZOFFSETFROM:+0200
TZOFFSETTO:+0100
TZNAME:CET
DTSTART:20251026T010000
END:STANDARD
BEGIN:DAYLIGHT
TZOFFSETFROM:+0100
TZOFFSETTO:+0200
TZNAME:CEST
DTSTART:20260329T010000
END:DAYLIGHT
BEGIN:STANDARD
TZOFFSETFROM:+0200
TZOFFSETTO:+0100
TZNAME:CET
DTSTART:20261025T010000
END:STANDARD
END:VTIMEZONE
BEGIN:VEVENT
DTSTART;TZID=Europe/Paris:20251130T100000
DTEND;TZID=Europe/Paris:20251130T170000
DTSTAMP:20260422T232327
CREATED:20251118T091747Z
LAST-MODIFIED:20251118T091805Z
UID:3138-1764496800-1764522000@mairiesaintsiffret.fr
SUMMARY:🦖JURASSIC TRAIL🏃
DESCRIPTION:La 16 ème édition du Jurassic Trail.\n\n🦖Nouveau : une course déguisée sur la T-Rex-race (première course de 200 m sans dossard). Les participants auront le temps de se changer pour le trail.\n\n\n\n🏃Les coureurs parcourront des monotraces ludiques et techniques\, graviront des bosses\, tout en profitant d’un esprit trail qui prône écologie et solidarité.\n\nLe départ se fera depuis la commune et le parcours fera découvrir les paysages autour d’Uzès et de Saint-Maximin\, avant de revenir a Saint-Siffret. Sur l’échelle des temps géologiques\, les organisateurs invitent à se situer sur le Jurassique. Un tableau sera mis à la disposition des participants pour suivre leur évolution en fonction de leur chrono et attribuer un tiret qui leur permettra de comparer leurs performances\, d’une année sur l’autre.
URL:https://mairiesaintsiffret.fr/agenda/%f0%9f%a6%96jurassic-trail%f0%9f%8f%83/
LOCATION:Espace culturel – Foyer W. Broche\, Route de Saint-Maximin\, Saint-Siffret\, 30700
ATTACH;FMTTYPE=image/webp:https://mairiesaintsiffret.fr/wp-content/uploads/2025/11/248-156-33987832-380x0-1.webp
END:VEVENT
END:VCALENDAR