BEGIN:VCALENDAR
VERSION:2.0
PRODID:-//Mairie de Saint Siffret - ECPv6.15.20//NONSGML v1.0//EN
CALSCALE:GREGORIAN
METHOD:PUBLISH
X-ORIGINAL-URL:https://mairiesaintsiffret.fr
X-WR-CALDESC:Évènements pour Mairie de Saint Siffret
REFRESH-INTERVAL;VALUE=DURATION:PT1H
X-Robots-Tag:noindex
X-PUBLISHED-TTL:PT1H
BEGIN:VTIMEZONE
TZID:Europe/Paris
BEGIN:DAYLIGHT
TZOFFSETFROM:+0100
TZOFFSETTO:+0200
TZNAME:CEST
DTSTART:20240331T010000
END:DAYLIGHT
BEGIN:STANDARD
TZOFFSETFROM:+0200
TZOFFSETTO:+0100
TZNAME:CET
DTSTART:20241027T010000
END:STANDARD
BEGIN:DAYLIGHT
TZOFFSETFROM:+0100
TZOFFSETTO:+0200
TZNAME:CEST
DTSTART:20250330T010000
END:DAYLIGHT
BEGIN:STANDARD
TZOFFSETFROM:+0200
TZOFFSETTO:+0100
TZNAME:CET
DTSTART:20251026T010000
END:STANDARD
BEGIN:DAYLIGHT
TZOFFSETFROM:+0100
TZOFFSETTO:+0200
TZNAME:CEST
DTSTART:20260329T010000
END:DAYLIGHT
BEGIN:STANDARD
TZOFFSETFROM:+0200
TZOFFSETTO:+0100
TZNAME:CET
DTSTART:20261025T010000
END:STANDARD
END:VTIMEZONE
BEGIN:VEVENT
DTSTART;TZID=Europe/Paris:20251207T100000
DTEND;TZID=Europe/Paris:20251207T180000
DTSTAMP:20260422T214702
CREATED:20251202T100202Z
LAST-MODIFIED:20251202T122923Z
UID:3164-1765101600-1765130400@mairiesaintsiffret.fr
SUMMARY:🎄✨ Marché de Noël de l’Âge d’Or ✨🎄
DESCRIPTION:Ho ho ho ! Les fêtes approchent et les amis de l’Âge d’Or vous invite à son marché de Noël plein de magie\, de bonne humeur et de belles découvertes ! \n  \n📅 Date : 7 décembre \n📍 Lieu : Foyer Broche \n⏰ Heure : 10h à 18h \n  \nAu programme : \n✨ Stands artisanaux et créations faites maison \n☕ Gourmandises de Noël\, vin chaud et douceurs d’hiver \n🎁 Idées cadeaux uniques \n🎶 Ambiance conviviale et décor féerique \n🤝 Moments de partage entre générations \n  \nVenez nombreux pour célébrer l’esprit de Noël\, soutenir nos artisans et passer un instant chaleureux en famille ou entre amis ! \n  \n🎅 Les amis de l’Âge d’Or vous attend avec le sourire !
URL:https://mairiesaintsiffret.fr/agenda/%f0%9f%8e%84%e2%9c%a8-marche-de-noel-de-lage-dor-%e2%9c%a8%f0%9f%8e%84/
LOCATION:Foyer W. Broche\, Route de Saint-Maximin\, Saint-Siffret\, 30700
END:VEVENT
END:VCALENDAR