BEGIN:VCALENDAR
VERSION:2.0
PRODID:-//Mairie de Saint Siffret - ECPv6.15.20//NONSGML v1.0//EN
CALSCALE:GREGORIAN
METHOD:PUBLISH
X-ORIGINAL-URL:https://mairiesaintsiffret.fr
X-WR-CALDESC:Évènements pour Mairie de Saint Siffret
REFRESH-INTERVAL;VALUE=DURATION:PT1H
X-Robots-Tag:noindex
X-PUBLISHED-TTL:PT1H
BEGIN:VTIMEZONE
TZID:Europe/Paris
BEGIN:DAYLIGHT
TZOFFSETFROM:+0100
TZOFFSETTO:+0200
TZNAME:CEST
DTSTART:20240331T010000
END:DAYLIGHT
BEGIN:STANDARD
TZOFFSETFROM:+0200
TZOFFSETTO:+0100
TZNAME:CET
DTSTART:20241027T010000
END:STANDARD
BEGIN:DAYLIGHT
TZOFFSETFROM:+0100
TZOFFSETTO:+0200
TZNAME:CEST
DTSTART:20250330T010000
END:DAYLIGHT
BEGIN:STANDARD
TZOFFSETFROM:+0200
TZOFFSETTO:+0100
TZNAME:CET
DTSTART:20251026T010000
END:STANDARD
BEGIN:DAYLIGHT
TZOFFSETFROM:+0100
TZOFFSETTO:+0200
TZNAME:CEST
DTSTART:20260329T010000
END:DAYLIGHT
BEGIN:STANDARD
TZOFFSETFROM:+0200
TZOFFSETTO:+0100
TZNAME:CET
DTSTART:20261025T010000
END:STANDARD
END:VTIMEZONE
BEGIN:VEVENT
DTSTART;TZID=Europe/Paris:20251220T150000
DTEND;TZID=Europe/Paris:20251220T220000
DTSTAMP:20260422T214702
CREATED:20251212T084748Z
LAST-MODIFIED:20251212T084748Z
UID:3187-1766242800-1766268000@mairiesaintsiffret.fr
SUMMARY:🎄 Fête de Noël de l’APE 🎄
DESCRIPTION:L’Association des Parents d’Élèves a le plaisir de vous inviter à sa grande Fête de Noël !Au programme : un moment chaleureux et convivial pour petits et grands\, placé sous le signe de la magie des fêtes. \n✨ Au rendez-vous : \n\n\nAnimations pour les enfants \n\n\nAteliers créatifs et décorations \n\n\nStands gourmands et boissons chaudes \n\n\nMusique et ambiance festive \n\n\nPrésence du Père Noël pour une séance photo pleine de sourires \n\n\nVenez partager un moment de joie en famille et soutenir les actions de l’APE.Nous vous attendons nombreux pour célébrer ensemble la magie de Noël !
URL:https://mairiesaintsiffret.fr/agenda/%f0%9f%8e%84-fete-de-noel-de-lape-%f0%9f%8e%84/
LOCATION:Foyer W. Broche\, Route de Saint-Maximin\, Saint-Siffret\, 30700
ATTACH;FMTTYPE=image/jpeg:https://mairiesaintsiffret.fr/wp-content/uploads/2025/12/Affiche-fete-Noel-APE_page-0001.jpg
END:VEVENT
END:VCALENDAR