BEGIN:VCALENDAR
VERSION:2.0
PRODID:-//Mairie de Saint Siffret - ECPv6.15.20//NONSGML v1.0//EN
CALSCALE:GREGORIAN
METHOD:PUBLISH
X-ORIGINAL-URL:https://mairiesaintsiffret.fr
X-WR-CALDESC:Évènements pour Mairie de Saint Siffret
REFRESH-INTERVAL;VALUE=DURATION:PT1H
X-Robots-Tag:noindex
X-PUBLISHED-TTL:PT1H
BEGIN:VTIMEZONE
TZID:Europe/Paris
BEGIN:DAYLIGHT
TZOFFSETFROM:+0100
TZOFFSETTO:+0200
TZNAME:CEST
DTSTART:20240331T010000
END:DAYLIGHT
BEGIN:STANDARD
TZOFFSETFROM:+0200
TZOFFSETTO:+0100
TZNAME:CET
DTSTART:20241027T010000
END:STANDARD
BEGIN:DAYLIGHT
TZOFFSETFROM:+0100
TZOFFSETTO:+0200
TZNAME:CEST
DTSTART:20250330T010000
END:DAYLIGHT
BEGIN:STANDARD
TZOFFSETFROM:+0200
TZOFFSETTO:+0100
TZNAME:CET
DTSTART:20251026T010000
END:STANDARD
BEGIN:DAYLIGHT
TZOFFSETFROM:+0100
TZOFFSETTO:+0200
TZNAME:CEST
DTSTART:20260329T010000
END:DAYLIGHT
BEGIN:STANDARD
TZOFFSETFROM:+0200
TZOFFSETTO:+0100
TZNAME:CET
DTSTART:20261025T010000
END:STANDARD
BEGIN:DAYLIGHT
TZOFFSETFROM:+0100
TZOFFSETTO:+0200
TZNAME:CEST
DTSTART:20270328T010000
END:DAYLIGHT
BEGIN:STANDARD
TZOFFSETFROM:+0200
TZOFFSETTO:+0100
TZNAME:CET
DTSTART:20271031T010000
END:STANDARD
END:VTIMEZONE
BEGIN:VEVENT
DTSTART;TZID=Europe/Paris:20251231T200000
DTEND;TZID=Europe/Paris:20260101T010000
DTSTAMP:20260422T200346
CREATED:20251223T153700Z
LAST-MODIFIED:20251223T153745Z
UID:3250-1767211200-1767229200@mairiesaintsiffret.fr
SUMMARY:🎆Réveillon du 31 décembre🎆
DESCRIPTION:L’association Sport et Détente informe les habitants que le repas du Réveillon du 31 décembre sera organisé\, afin de célébrer ensemble la fin d’année dans une ambiance festive et conviviale. \n🎉 Au programme\n\n\nRepas festif \n\n\nMoment chaleureux et convivial \n\n\nSoirée placée sous le signe du partage et de la bonne humeur \n\n\n📅 Date et lieu\n📆 Mardi 31 décembre📍 Foyer W. Broche \n📝 Informations pratiques\n\n\nInscription obligatoire \n\n\nNous invitons chaleureusement les habitants à venir partager ce moment festif et convivial pour terminer l’année ensemble. \nAssociation Sport et Détente
URL:https://mairiesaintsiffret.fr/agenda/reveillon-du-31-decembre/
LOCATION:Foyer W. Broche\, Route de Saint-Maximin\, Saint-Siffret\, 30700
END:VEVENT
END:VCALENDAR