BEGIN:VCALENDAR
VERSION:2.0
PRODID:-//Mairie de Saint Siffret - ECPv6.15.20//NONSGML v1.0//EN
CALSCALE:GREGORIAN
METHOD:PUBLISH
X-ORIGINAL-URL:https://mairiesaintsiffret.fr
X-WR-CALDESC:Évènements pour Mairie de Saint Siffret
REFRESH-INTERVAL;VALUE=DURATION:PT1H
X-Robots-Tag:noindex
X-PUBLISHED-TTL:PT1H
BEGIN:VTIMEZONE
TZID:Europe/Paris
BEGIN:DAYLIGHT
TZOFFSETFROM:+0100
TZOFFSETTO:+0200
TZNAME:CEST
DTSTART:20250330T010000
END:DAYLIGHT
BEGIN:STANDARD
TZOFFSETFROM:+0200
TZOFFSETTO:+0100
TZNAME:CET
DTSTART:20251026T010000
END:STANDARD
BEGIN:DAYLIGHT
TZOFFSETFROM:+0100
TZOFFSETTO:+0200
TZNAME:CEST
DTSTART:20260329T010000
END:DAYLIGHT
BEGIN:STANDARD
TZOFFSETFROM:+0200
TZOFFSETTO:+0100
TZNAME:CET
DTSTART:20261025T010000
END:STANDARD
BEGIN:DAYLIGHT
TZOFFSETFROM:+0100
TZOFFSETTO:+0200
TZNAME:CEST
DTSTART:20270328T010000
END:DAYLIGHT
BEGIN:STANDARD
TZOFFSETFROM:+0200
TZOFFSETTO:+0100
TZNAME:CET
DTSTART:20271031T010000
END:STANDARD
END:VTIMEZONE
BEGIN:VEVENT
DTSTART;TZID=Europe/Paris:20260109T080000
DTEND;TZID=Europe/Paris:20260109T170000
DTSTAMP:20260422T200419
CREATED:20260106T110653Z
LAST-MODIFIED:20260109T084605Z
UID:3259-1767945600-1767978000@mairiesaintsiffret.fr
SUMMARY:🇫🇷 Voeux de M. Le Maire -vendredi 09 janvier 🇫🇷
DESCRIPTION:Monsieur le Maire de Saint-Siffret\,\nLe Conseil Municipal\,\nvous souhaitent une bonne Année\, et vous convient à la traditionnelle cérémonie des vœux\, autour d’un apéritif et de la galette des rois \n📆 Vendredi 09 janvier\n🕠 à partir de 18h30\n📌 Au foyer W. Broche
URL:https://mairiesaintsiffret.fr/agenda/%f0%9f%87%ab%f0%9f%87%b7-voeux-de-m-le-maire-vendredi-09-janvier-%f0%9f%87%ab%f0%9f%87%b7/
ATTACH;FMTTYPE=image/jpeg:https://mairiesaintsiffret.fr/wp-content/uploads/2026/01/IMG-20260105-WA0000.jpg
END:VEVENT
END:VCALENDAR