BEGIN:VCALENDAR
VERSION:2.0
PRODID:-//Mairie de Saint Siffret - ECPv6.15.20//NONSGML v1.0//EN
CALSCALE:GREGORIAN
METHOD:PUBLISH
X-ORIGINAL-URL:https://mairiesaintsiffret.fr
X-WR-CALDESC:Évènements pour Mairie de Saint Siffret
REFRESH-INTERVAL;VALUE=DURATION:PT1H
X-Robots-Tag:noindex
X-PUBLISHED-TTL:PT1H
BEGIN:VTIMEZONE
TZID:Europe/Paris
BEGIN:DAYLIGHT
TZOFFSETFROM:+0100
TZOFFSETTO:+0200
TZNAME:CEST
DTSTART:20250330T010000
END:DAYLIGHT
BEGIN:STANDARD
TZOFFSETFROM:+0200
TZOFFSETTO:+0100
TZNAME:CET
DTSTART:20251026T010000
END:STANDARD
BEGIN:DAYLIGHT
TZOFFSETFROM:+0100
TZOFFSETTO:+0200
TZNAME:CEST
DTSTART:20260329T010000
END:DAYLIGHT
BEGIN:STANDARD
TZOFFSETFROM:+0200
TZOFFSETTO:+0100
TZNAME:CET
DTSTART:20261025T010000
END:STANDARD
BEGIN:DAYLIGHT
TZOFFSETFROM:+0100
TZOFFSETTO:+0200
TZNAME:CEST
DTSTART:20270328T010000
END:DAYLIGHT
BEGIN:STANDARD
TZOFFSETFROM:+0200
TZOFFSETTO:+0100
TZNAME:CET
DTSTART:20271031T010000
END:STANDARD
END:VTIMEZONE
BEGIN:VEVENT
DTSTART;VALUE=DATE:20260115
DTEND;VALUE=DATE:20260216
DTSTAMP:20260422T181552
CREATED:20251223T145036Z
LAST-MODIFIED:20251223T145036Z
UID:3239-1768435200-1771199999@mairiesaintsiffret.fr
SUMMARY:Recensement de la population
DESCRIPTION:Du 15 janvier au 15 février se déroulera le recensement de la population.Durant cette période\, des agents recenseurs\, dûment identifiés et mandatés\, se rendront au domicile des habitants afin de collecter les informations nécessaires. \n🎯 Objectifs\nLe recensement permet de : \n\n\nconnaître la population exacte\, \n\n\nmieux planifier les équipements et services publics (écoles\, santé\, transports\, infrastructures)\, \n\n\nsoutenir le développement local. \n\n\n📝 Déroulement\n\n\nLes agents présenteront une carte officielle d’identification. \n\n\nLes informations recueillies restent strictement confidentielles et protégées par la loi. \n\n\nLa participation de chacun est obligatoire mais surtout essentielle pour une meilleure prise en compte des besoins de la communauté. \n\n\n📅 Dates\nDu 15 janvier 2025 au 15 février 2025 \n📞 Contact\nPour toute information complémentaire\, veuillez contacter : \n\n\nMairie de Saint-Siffret \n\n\nTéléphone : 04.66.22.20.64 \n\n\nEmail : contact@mairiesaintsiffret.fr \n\n\nNous comptons sur la coopération et le sens civique de tous les habitants.
URL:https://mairiesaintsiffret.fr/agenda/recensement-de-la-population/
ATTACH;FMTTYPE=image/png:https://mairiesaintsiffret.fr/wp-content/uploads/2025/12/annonce-presse-A4_MAG_RVB-scaled.png
END:VEVENT
BEGIN:VEVENT
DTSTART;TZID=Europe/Paris:20260204T100000
DTEND;TZID=Europe/Paris:20260204T120000
DTSTAMP:20260422T181552
CREATED:20250918T144823Z
LAST-MODIFIED:20250918T144823Z
UID:3027-1770199200-1770206400@mairiesaintsiffret.fr
SUMMARY:Ludothèque
DESCRIPTION:
URL:https://mairiesaintsiffret.fr/agenda/ludotheque-12/
LOCATION:Foyer W. Broche\, Route de Saint-Maximin\, Saint-Siffret\, 30700
END:VEVENT
BEGIN:VEVENT
DTSTART;TZID=Europe/Paris:20260204T150000
DTEND;TZID=Europe/Paris:20260204T160000
DTSTAMP:20260422T181552
CREATED:20260122T152601Z
LAST-MODIFIED:20260122T153135Z
UID:3290-1770217200-1770220800@mairiesaintsiffret.fr
SUMMARY:Atelier K-POP
DESCRIPTION:Atelier K-POP. \nCet atelier est animé par Maya et Pauline. Il a lieu le mercredi après-midi de 15 h à 16 h. \nPour plus d’informations\, contactez l’Âge d’or.
URL:https://mairiesaintsiffret.fr/agenda/atelier-k-pop/
END:VEVENT
BEGIN:VEVENT
DTSTART;TZID=Europe/Paris:20260204T150000
DTEND;TZID=Europe/Paris:20260204T160000
DTSTAMP:20260422T181552
CREATED:20260123T132855Z
LAST-MODIFIED:20260123T133007Z
UID:3317-1770217200-1770220800@mairiesaintsiffret.fr
SUMMARY:📚✨ L'HEURE DES HISTOIRES - FEVRIER 2026 ✨📚
DESCRIPTION:📚 L’HEURE DES HISTOIRES – Saisons et nature !  \nAujourd’hui\, les grenouilles sont à l’honneur ! 🐸\nVenez écouter une belle histoire pleine de bonds\, de coassements et d’aventures au fil des saisons.\nEntre mare\, pluie et soleil\, nos petites grenouilles vous invitent à découvrir la nature en s’amusant.\nRejoignez nous pour un après-midi chaleureux autour de belles histoires\, d’un goûter gourmand 🍪 et de moments d’animation pour petits et grands ✨ \n📍 Foyer William Broche\, route de Saint-Maximin📅 Mercredi 4 Février à 15h🎁 Entrée libre et gratuite ! \n📞 Contact : 04 48 76 58 50📧 espace-culturel@mairiesaintsiffret.fr
URL:https://mairiesaintsiffret.fr/agenda/%f0%9f%93%9a%e2%9c%a8-lheure-des-histoires-fevrier-2026-%e2%9c%a8%f0%9f%93%9a/
LOCATION:Espace culturel – Foyer W. Broche\, Route de Saint-Maximin\, Saint-Siffret\, 30700
CATEGORIES:Communal,Culture,Evènement
ATTACH;FMTTYPE=image/png:https://mairiesaintsiffret.fr/wp-content/uploads/2026/01/HDH_FEV_2025-scaled.png
ORGANIZER;CN="espace culturel":MAILTO:espace-culturel@mairiesaintsiffret.fr
END:VEVENT
END:VCALENDAR