BEGIN:VCALENDAR
VERSION:2.0
PRODID:-//Mairie de Saint Siffret - ECPv6.15.20//NONSGML v1.0//EN
CALSCALE:GREGORIAN
METHOD:PUBLISH
X-ORIGINAL-URL:https://mairiesaintsiffret.fr
X-WR-CALDESC:Évènements pour Mairie de Saint Siffret
REFRESH-INTERVAL;VALUE=DURATION:PT1H
X-Robots-Tag:noindex
X-PUBLISHED-TTL:PT1H
BEGIN:VTIMEZONE
TZID:Europe/Paris
BEGIN:DAYLIGHT
TZOFFSETFROM:+0100
TZOFFSETTO:+0200
TZNAME:CEST
DTSTART:20250330T010000
END:DAYLIGHT
BEGIN:STANDARD
TZOFFSETFROM:+0200
TZOFFSETTO:+0100
TZNAME:CET
DTSTART:20251026T010000
END:STANDARD
BEGIN:DAYLIGHT
TZOFFSETFROM:+0100
TZOFFSETTO:+0200
TZNAME:CEST
DTSTART:20260329T010000
END:DAYLIGHT
BEGIN:STANDARD
TZOFFSETFROM:+0200
TZOFFSETTO:+0100
TZNAME:CET
DTSTART:20261025T010000
END:STANDARD
BEGIN:DAYLIGHT
TZOFFSETFROM:+0100
TZOFFSETTO:+0200
TZNAME:CEST
DTSTART:20270328T010000
END:DAYLIGHT
BEGIN:STANDARD
TZOFFSETFROM:+0200
TZOFFSETTO:+0100
TZNAME:CET
DTSTART:20271031T010000
END:STANDARD
END:VTIMEZONE
BEGIN:VEVENT
DTSTART;TZID=Europe/Paris:20260228T080000
DTEND;TZID=Europe/Paris:20260228T170000
DTSTAMP:20260422T181650
CREATED:20260212T142633Z
LAST-MODIFIED:20260223T151611Z
UID:3354-1772265600-1772298000@mairiesaintsiffret.fr
SUMMARY:🔥 Soirée dansante + cassoulet à Saint-Siffret ! 🔥
DESCRIPTION:Envie de passer une super soirée entre amis ?Rendez-vous le 28 février 2026 à 19h au Foyer W. Broche à Saint-Siffret pour une soirée dansante avec repas 🍽️💃 \n✨ Au programme :🎤 1ère partie chantée par Jérémie🎧 Ambiance assurée par DJ Gégé🍲 Cassoulet à 20 € \n📞 Réservation par téléphone ou SMS : 07 66 35 94 21📧 Ou par mail : tousenscenestsiffret@gmail.com \nVenez manger\, danser et surtout passer un bon moment ! 🕺💃
URL:https://mairiesaintsiffret.fr/agenda/%f0%9f%94%a5-soiree-dansante-cassoulet-a-saint-siffret-%f0%9f%94%a5/
ATTACH;FMTTYPE=image/jpeg:https://mairiesaintsiffret.fr/wp-content/uploads/2026/02/Affiche-soiree-cassoulet-V6_page-0001-scaled.jpg
END:VEVENT
END:VCALENDAR