BEGIN:VCALENDAR
VERSION:2.0
PRODID:-//Mairie de Saint Siffret - ECPv6.15.20//NONSGML v1.0//EN
CALSCALE:GREGORIAN
METHOD:PUBLISH
X-ORIGINAL-URL:https://mairiesaintsiffret.fr
X-WR-CALDESC:Évènements pour Mairie de Saint Siffret
REFRESH-INTERVAL;VALUE=DURATION:PT1H
X-Robots-Tag:noindex
X-PUBLISHED-TTL:PT1H
BEGIN:VTIMEZONE
TZID:Europe/Paris
BEGIN:DAYLIGHT
TZOFFSETFROM:+0100
TZOFFSETTO:+0200
TZNAME:CEST
DTSTART:20250330T010000
END:DAYLIGHT
BEGIN:STANDARD
TZOFFSETFROM:+0200
TZOFFSETTO:+0100
TZNAME:CET
DTSTART:20251026T010000
END:STANDARD
BEGIN:DAYLIGHT
TZOFFSETFROM:+0100
TZOFFSETTO:+0200
TZNAME:CEST
DTSTART:20260329T010000
END:DAYLIGHT
BEGIN:STANDARD
TZOFFSETFROM:+0200
TZOFFSETTO:+0100
TZNAME:CET
DTSTART:20261025T010000
END:STANDARD
BEGIN:DAYLIGHT
TZOFFSETFROM:+0100
TZOFFSETTO:+0200
TZNAME:CEST
DTSTART:20270328T010000
END:DAYLIGHT
BEGIN:STANDARD
TZOFFSETFROM:+0200
TZOFFSETTO:+0100
TZNAME:CET
DTSTART:20271031T010000
END:STANDARD
END:VTIMEZONE
BEGIN:VEVENT
DTSTART;TZID=Europe/Paris:20260317T080000
DTEND;TZID=Europe/Paris:20260317T170000
DTSTAMP:20260422T164759
CREATED:20260317T143940Z
LAST-MODIFIED:20260317T151450Z
UID:3506-1773734400-1773766800@mairiesaintsiffret.fr
SUMMARY:📚✨ Livres en balade à Saint-Siffret ! ✨📚
DESCRIPTION:L’association Les Amis de l’Âge d’Or vous donne rendez-vous pour une journée placée sous le signe de la lecture et du partage ! \n🗓 Samedi 21 mars \n📍 Parking de l’épicerie – Saint-Siffret \n🕘 De 9h à 18h \n📖 Venez découvrir leur fond de bibliothèque\, flâner parmi les livres… \n👉 Choisissez\, emportez\, et laissez-vous emporter par la lecture ! \nUn moment convivial ouvert à tous\, pour petits et grands lecteurs 💛 \nEt que vive la lecture !
URL:https://mairiesaintsiffret.fr/agenda/%f0%9f%93%9a%e2%9c%a8-livres-en-balade-a-saint-siffret-%e2%9c%a8%f0%9f%93%9a/
LOCATION:Espace Briargues\, Route de Saint-Maximin\, Saint-Siffret\, 30700
END:VEVENT
END:VCALENDAR