BEGIN:VCALENDAR
VERSION:2.0
PRODID:-//Mairie de Saint Siffret - ECPv6.15.20//NONSGML v1.0//EN
CALSCALE:GREGORIAN
METHOD:PUBLISH
X-ORIGINAL-URL:https://mairiesaintsiffret.fr
X-WR-CALDESC:Évènements pour Mairie de Saint Siffret
REFRESH-INTERVAL;VALUE=DURATION:PT1H
X-Robots-Tag:noindex
X-PUBLISHED-TTL:PT1H
BEGIN:VTIMEZONE
TZID:Europe/Paris
BEGIN:DAYLIGHT
TZOFFSETFROM:+0100
TZOFFSETTO:+0200
TZNAME:CEST
DTSTART:20250330T010000
END:DAYLIGHT
BEGIN:STANDARD
TZOFFSETFROM:+0200
TZOFFSETTO:+0100
TZNAME:CET
DTSTART:20251026T010000
END:STANDARD
BEGIN:DAYLIGHT
TZOFFSETFROM:+0100
TZOFFSETTO:+0200
TZNAME:CEST
DTSTART:20260329T010000
END:DAYLIGHT
BEGIN:STANDARD
TZOFFSETFROM:+0200
TZOFFSETTO:+0100
TZNAME:CET
DTSTART:20261025T010000
END:STANDARD
BEGIN:DAYLIGHT
TZOFFSETFROM:+0100
TZOFFSETTO:+0200
TZNAME:CEST
DTSTART:20270328T010000
END:DAYLIGHT
BEGIN:STANDARD
TZOFFSETFROM:+0200
TZOFFSETTO:+0100
TZNAME:CET
DTSTART:20271031T010000
END:STANDARD
END:VTIMEZONE
BEGIN:VEVENT
DTSTART;TZID=Europe/Paris:20260328T190000
DTEND;TZID=Europe/Paris:20260329T010000
DTSTAMP:20260422T164812
CREATED:20260324T094932Z
LAST-MODIFIED:20260326T105217Z
UID:3525-1774724400-1774746000@mairiesaintsiffret.fr
SUMMARY:🍻 FESTIBIÈRE 2026 🍻
DESCRIPTION:📅 Rendez-vous le 28 mars 2026\n🕖 De 19h à 1h\n📍 Foyer Broche – Saint-Siffret \nEnvie de passer une soirée conviviale entre amis ? Ne manquez pas la Festibière ! \nAu programme :\n🍺 Bières blonde\, blanche\, ambrée\n🍷 Vin & softs\n🍔 Petite restauration\n🎧 Ambiance assurée avec DJ Galindo \n👉 Une soirée festive\, gourmande et musicale vous attend ! \n⚠️ L’abus d’alcool est dangereux pour la santé\, à consommer avec modération. \nOn vous attend nombreux pour faire la fête ! 🎉
URL:https://mairiesaintsiffret.fr/agenda/%f0%9f%8d%bb-festibiere-2026-%f0%9f%8d%bb/
LOCATION:Foyer W. Broche\, Route de Saint-Maximin\, Saint-Siffret\, 30700
ATTACH;FMTTYPE=image/png:https://mairiesaintsiffret.fr/wp-content/uploads/2026/03/festibiere.2803.png
END:VEVENT
END:VCALENDAR