BEGIN:VCALENDAR
VERSION:2.0
PRODID:-//Mairie de Saint Siffret - ECPv6.15.20//NONSGML v1.0//EN
CALSCALE:GREGORIAN
METHOD:PUBLISH
X-ORIGINAL-URL:https://mairiesaintsiffret.fr
X-WR-CALDESC:Évènements pour Mairie de Saint Siffret
REFRESH-INTERVAL;VALUE=DURATION:PT1H
X-Robots-Tag:noindex
X-PUBLISHED-TTL:PT1H
BEGIN:VTIMEZONE
TZID:Europe/Paris
BEGIN:DAYLIGHT
TZOFFSETFROM:+0100
TZOFFSETTO:+0200
TZNAME:CEST
DTSTART:20250330T010000
END:DAYLIGHT
BEGIN:STANDARD
TZOFFSETFROM:+0200
TZOFFSETTO:+0100
TZNAME:CET
DTSTART:20251026T010000
END:STANDARD
BEGIN:DAYLIGHT
TZOFFSETFROM:+0100
TZOFFSETTO:+0200
TZNAME:CEST
DTSTART:20260329T010000
END:DAYLIGHT
BEGIN:STANDARD
TZOFFSETFROM:+0200
TZOFFSETTO:+0100
TZNAME:CET
DTSTART:20261025T010000
END:STANDARD
BEGIN:DAYLIGHT
TZOFFSETFROM:+0100
TZOFFSETTO:+0200
TZNAME:CEST
DTSTART:20270328T010000
END:DAYLIGHT
BEGIN:STANDARD
TZOFFSETFROM:+0200
TZOFFSETTO:+0100
TZNAME:CET
DTSTART:20271031T010000
END:STANDARD
END:VTIMEZONE
BEGIN:VEVENT
DTSTART;TZID=Europe/Paris:20260402T140000
DTEND;TZID=Europe/Paris:20260430T180000
DTSTAMP:20260422T164801
CREATED:20260312T150038Z
LAST-MODIFIED:20260312T151205Z
UID:3440-1775138400-1777572000@mairiesaintsiffret.fr
SUMMARY:🖼️ESPACE CULTUREL - RESTITUTION : LE DIEU CORNU
DESCRIPTION: Du 1 au 30 avril 2026\n Foyer William Broche – Route de Saint-Maximin \nUne exposition visuelle du travail de Michel Faupel sur le Dieu Cornu de Saint-Siffret.\n  Entrée libre et gratuite
URL:https://mairiesaintsiffret.fr/agenda/%f0%9f%96%bc%ef%b8%8fesapce-culturel-restitution-le-dieu-cornu/
LOCATION:Espace culturel – Foyer W. Broche\, Route de Saint-Maximin\, Saint-Siffret\, 30700
CATEGORIES:Culture,Evènement
ATTACH;FMTTYPE=application/pdf:https://mairiesaintsiffret.fr/wp-content/uploads/2026/03/AFFICHE_DIEU_CORNU_rotated.pdf
ORGANIZER;CN="espace culturel":MAILTO:espace-culturel@mairiesaintsiffret.fr
END:VEVENT
BEGIN:VEVENT
DTSTART;TZID=Europe/Paris:20260411T190000
DTEND;TZID=Europe/Paris:20260412T010000
DTSTAMP:20260422T164801
CREATED:20260302T144221Z
LAST-MODIFIED:20260326T103117Z
UID:3414-1775934000-1775955600@mairiesaintsiffret.fr
SUMMARY:🎉 SOIRÉE ANNUELLE DE SPORT ET DETENTE – 30 ANS 🎉
DESCRIPTION:L’Association Sport & Détente de Saint-Siffret fête ses 30 ans d’existence et vous invite à une soirée exceptionnelle ! \n📅 Samedi 11 avril🕖 À partir de 19h📍 Au foyer \n✨ AU PROGRAMME\n💃 Soirée festive et dansante🎆 Ambiance conviviale pour célébrer cet anniversaire \n🍽️ MENU\n\nApéritif\nGardiane\nFromage & dessert\nCafé et vin compris\n\n💶 Tarif : 30€ \n📞 RÉSERVATIONS\n👉 Christine : 06 72 61 59 26👉 Nathalie : 06 10 07 93 39 \n🎊 VENEZ FÊTER LES 30 ANS AVEC NOUS !\nL’association Sport et détente vous invite a sa fête annuelle.
URL:https://mairiesaintsiffret.fr/agenda/fete-de-la-gym/
LOCATION:Foyer W. Broche\, Route de Saint-Maximin\, Saint-Siffret\, 30700
ATTACH;FMTTYPE=image/jpeg:https://mairiesaintsiffret.fr/wp-content/uploads/2026/03/20260326123342_00001-scaled.jpg
END:VEVENT
END:VCALENDAR