BEGIN:VCALENDAR
VERSION:2.0
PRODID:-//Mairie de Saint Siffret - ECPv6.15.20//NONSGML v1.0//EN
CALSCALE:GREGORIAN
METHOD:PUBLISH
X-ORIGINAL-URL:https://mairiesaintsiffret.fr
X-WR-CALDESC:Évènements pour Mairie de Saint Siffret
REFRESH-INTERVAL;VALUE=DURATION:PT1H
X-Robots-Tag:noindex
X-PUBLISHED-TTL:PT1H
BEGIN:VTIMEZONE
TZID:Europe/Paris
BEGIN:DAYLIGHT
TZOFFSETFROM:+0100
TZOFFSETTO:+0200
TZNAME:CEST
DTSTART:20230326T010000
END:DAYLIGHT
BEGIN:STANDARD
TZOFFSETFROM:+0200
TZOFFSETTO:+0100
TZNAME:CET
DTSTART:20231029T010000
END:STANDARD
BEGIN:DAYLIGHT
TZOFFSETFROM:+0100
TZOFFSETTO:+0200
TZNAME:CEST
DTSTART:20240331T010000
END:DAYLIGHT
BEGIN:STANDARD
TZOFFSETFROM:+0200
TZOFFSETTO:+0100
TZNAME:CET
DTSTART:20241027T010000
END:STANDARD
BEGIN:DAYLIGHT
TZOFFSETFROM:+0100
TZOFFSETTO:+0200
TZNAME:CEST
DTSTART:20250330T010000
END:DAYLIGHT
BEGIN:STANDARD
TZOFFSETFROM:+0200
TZOFFSETTO:+0100
TZNAME:CET
DTSTART:20251026T010000
END:STANDARD
END:VTIMEZONE
BEGIN:VEVENT
DTSTART;TZID=Europe/Paris:20240617T143000
DTEND;TZID=Europe/Paris:20240617T173000
DTSTAMP:20260422T232904
CREATED:20250418T142616Z
LAST-MODIFIED:20250418T142616Z
UID:2167-1718634600-1718645400@mairiesaintsiffret.fr
SUMMARY:ASSOCIATION PEINTURE & ARTS PLASTIQUES - portes ouvertes
DESCRIPTION:L’ASSOCIATION PEINTURE & ARTS PLASTIQUES \norganise des portes ouvertes \nCours de peintures à l’huile \nle LUNDI 17 juin de 14h30 à 17h30 \nau foyer W.Broche (offert) \nET \nCours d’aquarelle \n le MERCREDI 19 juin de 10h00 à 12h00 \nau foyer W.Broche
URL:https://mairiesaintsiffret.fr/agenda/association-peinture-arts-plastiques-portes-ouvertes-2/
CATEGORIES:Associations
ATTACH;FMTTYPE=image/jpeg:https://mairiesaintsiffret.fr/wp-content/uploads/2025/04/peinture-1.jpg
END:VEVENT
END:VCALENDAR