BEGIN:VCALENDAR
VERSION:2.0
PRODID:-//Mairie de Saint Siffret - ECPv6.15.20//NONSGML v1.0//EN
CALSCALE:GREGORIAN
METHOD:PUBLISH
X-ORIGINAL-URL:https://mairiesaintsiffret.fr
X-WR-CALDESC:Évènements pour Mairie de Saint Siffret
REFRESH-INTERVAL;VALUE=DURATION:PT1H
X-Robots-Tag:noindex
X-PUBLISHED-TTL:PT1H
BEGIN:VTIMEZONE
TZID:Europe/Paris
BEGIN:DAYLIGHT
TZOFFSETFROM:+0100
TZOFFSETTO:+0200
TZNAME:CEST
DTSTART:20230326T010000
END:DAYLIGHT
BEGIN:STANDARD
TZOFFSETFROM:+0200
TZOFFSETTO:+0100
TZNAME:CET
DTSTART:20231029T010000
END:STANDARD
BEGIN:DAYLIGHT
TZOFFSETFROM:+0100
TZOFFSETTO:+0200
TZNAME:CEST
DTSTART:20240331T010000
END:DAYLIGHT
BEGIN:STANDARD
TZOFFSETFROM:+0200
TZOFFSETTO:+0100
TZNAME:CET
DTSTART:20241027T010000
END:STANDARD
BEGIN:DAYLIGHT
TZOFFSETFROM:+0100
TZOFFSETTO:+0200
TZNAME:CEST
DTSTART:20250330T010000
END:DAYLIGHT
BEGIN:STANDARD
TZOFFSETFROM:+0200
TZOFFSETTO:+0100
TZNAME:CET
DTSTART:20251026T010000
END:STANDARD
END:VTIMEZONE
BEGIN:VEVENT
DTSTART;TZID=Europe/Paris:20240907T120000
DTEND;TZID=Europe/Paris:20240907T170000
DTSTAMP:20260422T175717
CREATED:20250418T143911Z
LAST-MODIFIED:20250418T143911Z
UID:2195-1725710400-1725728400@mairiesaintsiffret.fr
SUMMARY:Forum des Associations et Activités 2024
DESCRIPTION:Le forum des associations et des activités aura lieu \nle samedi 7 septembre 2024 de 12h à 17h \nAU FOYER W.BROCHE \nPrésentation des associations\, démonstrations… sont au programme de cette après-midi. \nPetite restauration et buvette sur place
URL:https://mairiesaintsiffret.fr/agenda/forum-des-associations-et-activites-2024/
CATEGORIES:Associations
ATTACH;FMTTYPE=image/png:https://mairiesaintsiffret.fr/wp-content/uploads/2025/04/AU-FOYER-W.-BROCHE_20240906_093329_0000.png
END:VEVENT
END:VCALENDAR