BEGIN:VCALENDAR
VERSION:2.0
PRODID:-//Mairie de Saint Siffret - ECPv6.15.20//NONSGML v1.0//EN
CALSCALE:GREGORIAN
METHOD:PUBLISH
X-ORIGINAL-URL:https://mairiesaintsiffret.fr
X-WR-CALDESC:Évènements pour Mairie de Saint Siffret
REFRESH-INTERVAL;VALUE=DURATION:PT1H
X-Robots-Tag:noindex
X-PUBLISHED-TTL:PT1H
BEGIN:VTIMEZONE
TZID:Europe/Paris
BEGIN:DAYLIGHT
TZOFFSETFROM:+0100
TZOFFSETTO:+0200
TZNAME:CEST
DTSTART:20240331T010000
END:DAYLIGHT
BEGIN:STANDARD
TZOFFSETFROM:+0200
TZOFFSETTO:+0100
TZNAME:CET
DTSTART:20241027T010000
END:STANDARD
BEGIN:DAYLIGHT
TZOFFSETFROM:+0100
TZOFFSETTO:+0200
TZNAME:CEST
DTSTART:20250330T010000
END:DAYLIGHT
BEGIN:STANDARD
TZOFFSETFROM:+0200
TZOFFSETTO:+0100
TZNAME:CET
DTSTART:20251026T010000
END:STANDARD
BEGIN:DAYLIGHT
TZOFFSETFROM:+0100
TZOFFSETTO:+0200
TZNAME:CEST
DTSTART:20260329T010000
END:DAYLIGHT
BEGIN:STANDARD
TZOFFSETFROM:+0200
TZOFFSETTO:+0100
TZNAME:CET
DTSTART:20261025T010000
END:STANDARD
END:VTIMEZONE
BEGIN:VEVENT
DTSTART;VALUE=DATE:20250608
DTEND;VALUE=DATE:20250609
DTSTAMP:20260422T031502
CREATED:20250415T074805Z
LAST-MODIFIED:20250423T115607Z
UID:1634-1749340800-1749427199@mairiesaintsiffret.fr
SUMMARY:🏷️📦🪑Vide Grenier - Association des parents d’élèves (APE)🪑📦🏷️
DESCRIPTION:Vide grenier organisé par l’association des Parents d’élèves (APE) de l’école de Saint-Siffret au profit des enfants 👧 de l’école 😊 \n📣 Des bonnes affaires pour pas cher ? Rdv dimanche 8 juin dès 8h à notre grand vide-grenier annuel ! \nAu Foyer Broche\, route de Saint-Maximin – 30700 Saint-Siffret \n\nAu programme :\n⛱️ Plus de 150 exposants\n🍺 Buvette\, snacks et boissons\n🍟 Restauration\n💦 Animations rafraîchissantes toute la journée \nPrévoyez un parasol\, un bob et un maillot ! \n\nVous souhaitez exposer ?\n10 € l’emplacement de 5m x 4m\n👉 Réservations : https://www.apesaintsiffret.fr/programme/vide-grenier \nLes bénéfices de cet événement sont destinés à financer des projets pédagogiques et des activités pour tous les enfants de l’école\, alors merci de votre soutien 🙏 \nL’équipe de l’APE a hâte de vous y accueillir nombreux !
URL:https://mairiesaintsiffret.fr/agenda/%f0%9f%8f%b7%ef%b8%8f%f0%9f%93%a6%f0%9f%aa%91vide-grenier-ape%f0%9f%aa%91%f0%9f%93%a6%f0%9f%8f%b7%ef%b8%8f/
LOCATION:Foyer W. Broche\, Route de Saint-Maximin\, Saint-Siffret\, 30700
CATEGORIES:Associations
ATTACH;FMTTYPE=image/jpeg:https://mairiesaintsiffret.fr/wp-content/uploads/2025/04/IMG_2153.jpeg
END:VEVENT
END:VCALENDAR