BEGIN:VCALENDAR
VERSION:2.0
PRODID:-//Mairie de Saint Siffret - ECPv6.15.20//NONSGML v1.0//EN
CALSCALE:GREGORIAN
METHOD:PUBLISH
X-ORIGINAL-URL:https://mairiesaintsiffret.fr
X-WR-CALDESC:Évènements pour Mairie de Saint Siffret
REFRESH-INTERVAL;VALUE=DURATION:PT1H
X-Robots-Tag:noindex
X-PUBLISHED-TTL:PT1H
BEGIN:VTIMEZONE
TZID:Europe/Paris
BEGIN:DAYLIGHT
TZOFFSETFROM:+0100
TZOFFSETTO:+0200
TZNAME:CEST
DTSTART:20240331T010000
END:DAYLIGHT
BEGIN:STANDARD
TZOFFSETFROM:+0200
TZOFFSETTO:+0100
TZNAME:CET
DTSTART:20241027T010000
END:STANDARD
BEGIN:DAYLIGHT
TZOFFSETFROM:+0100
TZOFFSETTO:+0200
TZNAME:CEST
DTSTART:20250330T010000
END:DAYLIGHT
BEGIN:STANDARD
TZOFFSETFROM:+0200
TZOFFSETTO:+0100
TZNAME:CET
DTSTART:20251026T010000
END:STANDARD
BEGIN:DAYLIGHT
TZOFFSETFROM:+0100
TZOFFSETTO:+0200
TZNAME:CEST
DTSTART:20260329T010000
END:DAYLIGHT
BEGIN:STANDARD
TZOFFSETFROM:+0200
TZOFFSETTO:+0100
TZNAME:CET
DTSTART:20261025T010000
END:STANDARD
END:VTIMEZONE
BEGIN:VEVENT
DTSTART;TZID=Europe/Paris:20250906T133000
DTEND;TZID=Europe/Paris:20250906T170000
DTSTAMP:20260421T221244
CREATED:20250814T075816Z
LAST-MODIFIED:20250905T140629Z
UID:2842-1757165400-1757178000@mairiesaintsiffret.fr
SUMMARY:🎾 FORUM DES ASSOCIATIONS 🎶
DESCRIPTION:🥁🧘🏻‍♀️FORUM DES ASSOCIATIONS 2025 🎭 \nVous souhaitez faire une activité culturelle ou sportive à Saint-Siffret ? Ou découvrir l’offre associative de votre village ? \nLes associations de la commune vous accueilleront au Foyer Broche\, le : \n➡️ SAMEDI 06 SEPTEMBRE de 13H30 à 17h00 au foyer W. Broche\nVenez y découvrir le dynamisme de nos associations\, et pourquoi pas vous inscrire à certaines activités proposées tout au long de l’année : \n– L’Entente Bouliste des Garrigues de l’Uzège (EBGU) : pratique et concours de la pétanque \n– Tous en Scène Saint-Siffret : Cours de musique\, théâtre\, chorale (chœur de vinyles) – programmation d’évènements culturels \n– Sport & détente : Cours de gymnastique\, yoga\, pilâtes et zumba \n– Peinture et Arts Plastiques : Cours de peinture à l’huile et aquarelle (Adultes et enfants) \n– Tennis club de la Pinède : Ecole de Tennis (enfants) et pratique du tennis (pour tous) \n– Les amis de l’âge d’Or : Activités pour les séniors – balades\, chant\, généalogie\, atelier culinaires\, …. \n– Hip Hip Hop : Danse Hip Hop \n– Club de Bridge de Saint-Siffret : Pratique et cours de bridge \n– Association de chasse \n– Les amis du Centaure – Activités équestres \n– L’association des parents d’élèves (APE) \n  \nPlus d’information sur : https://mairiesaintsiffret.fr/associations-a-st-siffret/
URL:https://mairiesaintsiffret.fr/agenda/forum-des-associations-2/
LOCATION:Foyer W. Broche\, Route de Saint-Maximin\, Saint-Siffret\, 30700
CATEGORIES:Associations
ATTACH;FMTTYPE=image/png:https://mairiesaintsiffret.fr/wp-content/uploads/2025/08/Samedi-06-septembre.png
ORGANIZER;CN="Mairie de Saint-Siffret":MAILTO:contact@mairiesaintsiffret.fr
END:VEVENT
END:VCALENDAR