BEGIN:VCALENDAR
VERSION:2.0
PRODID:-//Mairie de Saint Siffret - ECPv6.15.20//NONSGML v1.0//EN
CALSCALE:GREGORIAN
METHOD:PUBLISH
X-ORIGINAL-URL:https://mairiesaintsiffret.fr
X-WR-CALDESC:Évènements pour Mairie de Saint Siffret
REFRESH-INTERVAL;VALUE=DURATION:PT1H
X-Robots-Tag:noindex
X-PUBLISHED-TTL:PT1H
BEGIN:VTIMEZONE
TZID:Europe/Paris
BEGIN:DAYLIGHT
TZOFFSETFROM:+0100
TZOFFSETTO:+0200
TZNAME:CEST
DTSTART:20220327T010000
END:DAYLIGHT
BEGIN:STANDARD
TZOFFSETFROM:+0200
TZOFFSETTO:+0100
TZNAME:CET
DTSTART:20221030T010000
END:STANDARD
BEGIN:DAYLIGHT
TZOFFSETFROM:+0100
TZOFFSETTO:+0200
TZNAME:CEST
DTSTART:20230326T010000
END:DAYLIGHT
BEGIN:STANDARD
TZOFFSETFROM:+0200
TZOFFSETTO:+0100
TZNAME:CET
DTSTART:20231029T010000
END:STANDARD
BEGIN:DAYLIGHT
TZOFFSETFROM:+0100
TZOFFSETTO:+0200
TZNAME:CEST
DTSTART:20240331T010000
END:DAYLIGHT
BEGIN:STANDARD
TZOFFSETFROM:+0200
TZOFFSETTO:+0100
TZNAME:CET
DTSTART:20241027T010000
END:STANDARD
END:VTIMEZONE
BEGIN:VEVENT
DTSTART;TZID=Europe/Paris:20230506T100000
DTEND;TZID=Europe/Paris:20230506T140000
DTSTAMP:20260423T133402
CREATED:20250417T160151Z
LAST-MODIFIED:20250417T160220Z
UID:1943-1683367200-1683381600@mairiesaintsiffret.fr
SUMMARY:Formation au compostage
DESCRIPTION:La CC PAYS D’UZÈS et le SICTOMU vous invitent à une \n\n\nFORMATION AU COMPOSTAGE \n\n\nLe samedi 6 mai 2023 au Foyer W. Broche à Saint-Siffret \n\n\nVeuillez trouver ci-joint le formulaire à remplir concernant les journées de formation au compostage avec à l’issue la distribution d’un composteur. \nCe dernier est à renvoyer au SICTOMU (cmf@sictomu.fr) accompagné d’un justificatif de domicile (une photo de bonne qualité de ce document peut suffire). \nEn fonction de l’affluence\, les heures de séances peuvent varier\, aussi l’horaire définitif sera communiqué par le Sictomu aux inscrits aussi tôt que possible. \nLa formation dure environ 45 minutes et vous permettra d’acquérir les connaissances de bases pour la bonne gestion du compostage : montage du matériel\, démarrage\, apports autorisés/interdits\, utilisation du compost\, comment prévenir et rectifier tout dysfonctionnement\, etc… \nAussi\, en parallèle à la journée une initiative citoyenne proposera un troc de plantes et de boutures. Ce sera l’occasion de venir échanger sur vos pratiques de jardinage et de compostage et d’échanger vos jeunes pousses.
URL:https://mairiesaintsiffret.fr/agenda/formation-au-compostage/
CATEGORIES:CCPU
ATTACH;FMTTYPE=image/jpeg:https://mairiesaintsiffret.fr/wp-content/uploads/2025/04/4-St-Siffret-06-05-23-1.jpg
END:VEVENT
BEGIN:VEVENT
DTSTART;TZID=Europe/Paris:20230510T100000
DTEND;TZID=Europe/Paris:20230510T120000
DTSTAMP:20260423T133402
CREATED:20250417T161109Z
LAST-MODIFIED:20250417T161109Z
UID:1970-1683712800-1683720000@mairiesaintsiffret.fr
SUMMARY:Ludothèque
DESCRIPTION:
URL:https://mairiesaintsiffret.fr/agenda/ludotheque-5/
CATEGORIES:CCPU
ATTACH;FMTTYPE=image/jpeg:https://mairiesaintsiffret.fr/wp-content/uploads/2025/04/Ludotheque-AFFICHE_page-0001-1.jpg
END:VEVENT
END:VCALENDAR