BEGIN:VCALENDAR
VERSION:2.0
PRODID:-//Mairie de Saint Siffret - ECPv6.15.20//NONSGML v1.0//EN
CALSCALE:GREGORIAN
METHOD:PUBLISH
X-ORIGINAL-URL:https://mairiesaintsiffret.fr
X-WR-CALDESC:Évènements pour Mairie de Saint Siffret
REFRESH-INTERVAL;VALUE=DURATION:PT1H
X-Robots-Tag:noindex
X-PUBLISHED-TTL:PT1H
BEGIN:VTIMEZONE
TZID:Europe/Paris
BEGIN:DAYLIGHT
TZOFFSETFROM:+0100
TZOFFSETTO:+0200
TZNAME:CEST
DTSTART:20230326T010000
END:DAYLIGHT
BEGIN:STANDARD
TZOFFSETFROM:+0200
TZOFFSETTO:+0100
TZNAME:CET
DTSTART:20231029T010000
END:STANDARD
BEGIN:DAYLIGHT
TZOFFSETFROM:+0100
TZOFFSETTO:+0200
TZNAME:CEST
DTSTART:20240331T010000
END:DAYLIGHT
BEGIN:STANDARD
TZOFFSETFROM:+0200
TZOFFSETTO:+0100
TZNAME:CET
DTSTART:20241027T010000
END:STANDARD
BEGIN:DAYLIGHT
TZOFFSETFROM:+0100
TZOFFSETTO:+0200
TZNAME:CEST
DTSTART:20250330T010000
END:DAYLIGHT
BEGIN:STANDARD
TZOFFSETFROM:+0200
TZOFFSETTO:+0100
TZNAME:CET
DTSTART:20251026T010000
END:STANDARD
END:VTIMEZONE
BEGIN:VEVENT
DTSTART;TZID=Europe/Paris:20241107T080000
DTEND;TZID=Europe/Paris:20241117T233000
DTSTAMP:20260426T013119
CREATED:20241211T071539Z
LAST-MODIFIED:20241211T071641Z
UID:843-1730966400-1731886200@mairiesaintsiffret.fr
SUMMARY:Vente de sapin de Noël - APE
DESCRIPTION:L’association des parents d’élèves (APE) de l’école communale de Saint-Siffret\, organise une vente de sapin : \n100 % des bénéfices serviront à financer toutes nos actions  !\n\n\n\nCommandes possibles jusqu’au 17 novembre\, alors dépêchez-vous 🏃‍♂️‍➡️\n\n\n– Pour un paiement par CB\, rendez-vous ici : https://www.helloasso.com/associations/ape-de-l-ecole-de-saint-siffret/boutiques/les-sapins-de-l-ape-2024-25\n\n\n– Par chèque : téléchargez le bon de commande sur notre site\, remplissez et déposez-le avec votre chèque dans la boite aux lettres de l’APE à l’école (route de Saint-Maximin 30700 Saint-Siffret)\n\n\nRETRAIT : le samedi 30 novembre entre 9h et 13h au Foyer Broche à Saint-Siffret.\n\n\nTout le monde y a droit alors PARLEZ-EN AUTOUR DE VOUS !!\n\n\nPour toute demande de renseignement : apestsiffret@gmail.com
URL:https://mairiesaintsiffret.fr/agenda/vente-de-sapin-de-noel-ape/
ATTACH;FMTTYPE=image/jpeg:https://mairiesaintsiffret.fr/wp-content/uploads/2024/12/IMG_1541.jpeg
END:VEVENT
BEGIN:VEVENT
DTSTART;TZID=Europe/Paris:20241111T110000
DTEND;TZID=Europe/Paris:20241111T120000
DTSTAMP:20260426T013119
CREATED:20241201T163950Z
LAST-MODIFIED:20241210T222522Z
UID:562-1731322800-1731326400@mairiesaintsiffret.fr
SUMMARY:COMMEMORATION DU 11 NOVEMBRE
DESCRIPTION:Saint-Siffret célèbrera l’Armistice de la Grande Guerre de 1914-1918 et rendra hommage à ses morts :\nLe lundi 11 novembre 2024 à 11h00 – Parc de La Péran
URL:https://mairiesaintsiffret.fr/agenda/commemoration-du-11-novembre/
LOCATION:Parc de La Péran\, Place de l’ancienne école\, Saint-Siffret\, 30700
CATEGORIES:Communal
ATTACH;FMTTYPE=image/png:https://mairiesaintsiffret.fr/wp-content/uploads/2024/11/IMAGE-11-NOVEMBRE-2.png
ORGANIZER;CN="Mairie de Saint-Siffret":MAILTO:contact@mairiesaintsiffret.fr
END:VEVENT
BEGIN:VEVENT
DTSTART;TZID=Europe/Paris:20241113T100000
DTEND;TZID=Europe/Paris:20241113T120000
DTSTAMP:20260426T013119
CREATED:20241211T072414Z
LAST-MODIFIED:20241211T072414Z
UID:847-1731492000-1731499200@mairiesaintsiffret.fr
SUMMARY:LUDOTHÈQUE de la CCPU
DESCRIPTION:La LUDOTHÈQUE du la communauté de commune du Pays d’Uzès vous propose de venir jouer seul ou en famille\, de 3 à 99 ans l’instant d’une matinée! \nVenez profiter d’un moment de convivialité avec joie et bonne humeur …. \nEn toute gratuité et pour tout public. \n\nPlus d’information sur : https://www.ccpaysduzes.fr/actualites/item/planning-ludotheque-juin-2024.html
URL:https://mairiesaintsiffret.fr/agenda/ludotheque-de-la-ccpu/
LOCATION:Foyer W. Broche\, Route de Saint-Maximin\, Saint-Siffret\, 30700
CATEGORIES:Culture
ATTACH;FMTTYPE=image/jpeg:https://mairiesaintsiffret.fr/wp-content/uploads/2024/12/IMG_1540.jpeg
END:VEVENT
BEGIN:VEVENT
DTSTART;TZID=Europe/Paris:20241123T110000
DTEND;TZID=Europe/Paris:20241123T140000
DTSTAMP:20260426T013119
CREATED:20241210T222349Z
LAST-MODIFIED:20241210T222349Z
UID:832-1732359600-1732370400@mairiesaintsiffret.fr
SUMMARY:Accueil des nouveaux arrivants 2024
DESCRIPTION:Monsieur le Maire Dominique Vincent et sa 1ère adjointe Nathalie FABIÉ\, invitent les nouveaux arrivants 2024 à participer à une matinée d’accueil. \nLe samedi 23 novembre 2024 \nà partir de 11h00 à la salle du parc de la Péran. \nCe moment d’échange sera suivi d’un moment de convivialité.
URL:https://mairiesaintsiffret.fr/agenda/accueil-des-nouveaux-arrivants-2024/
LOCATION:Parc de La Péran\, Place de l’ancienne école\, Saint-Siffret\, 30700
CATEGORIES:Communal
ATTACH;FMTTYPE=image/jpeg:https://mairiesaintsiffret.fr/wp-content/uploads/2024/11/IMG_1530.jpeg
ORGANIZER;CN="Mairie de Saint-Siffret":MAILTO:contact@mairiesaintsiffret.fr
END:VEVENT
BEGIN:VEVENT
DTSTART;TZID=Europe/Paris:20241124T100000
DTEND;TZID=Europe/Paris:20241124T130000
DTSTAMP:20260426T013119
CREATED:20241210T220134Z
LAST-MODIFIED:20241210T220221Z
UID:818-1732442400-1732453200@mairiesaintsiffret.fr
SUMMARY:Jurassic Trail
DESCRIPTION:Le dimanche 24 novembre 2024 – 18km\nDépart 10h du foyer Wiliam Broche à Saint Siffret\nL’association Raid Attitude vous propose un trail court d’un format de 18km avec 500 D+\, mais qui conserve néanmoins toute les caractéristiques d’un trail comme on l’aime.\nDes monotraces ludiques et techniques\, des petites bosses bien raides et toujours un esprit Trail \,écologique et solidaire omniprésent.\nL’épreuve au départ de Saint Siffret tournera autour des communes d’Uzès et de Saint Maximin avant de revenir à Saint Siffret. \n  \nLes 2 premiers kilomètres seront suffisamment large afin de fluidifier le peloton. Huit bosses de difficultés diverses viendront agrémenter ce parcours.\nLe passage éclair dans la Vallée de l’Eure d’Uzès aura cette année encore tout son sens avec la descente technique des Filous\, passage du pont de singe\, montée au parc du Duché et remontée des Super Filous avec ses escaliers taillés dans la roche.\nLe juge de paix du Jurassic se situera comme chaque année en fin de parcours (14 ème km) avec la fameuse bosse du T-Rex. \nL’association Raid Attitude \, les bénévoles\, les partenaires et la municipalité de St Siffret ont hâtent de vous accueillir pour cette nouvelle édition du JURASSIC TRAIL. \nPlus d’informations sur : https://www.raidattitude.fr/ \n\n 
URL:https://mairiesaintsiffret.fr/agenda/jurassic-trail/
LOCATION:Foyer W. Broche\, Route de Saint-Maximin\, Saint-Siffret\, 30700
ATTACH;FMTTYPE=image/jpeg:https://mairiesaintsiffret.fr/wp-content/uploads/2024/12/IMG_1536.jpeg
END:VEVENT
BEGIN:VEVENT
DTSTART;TZID=Europe/Paris:20241129T190000
DTEND;TZID=Europe/Paris:20241129T230000
DTSTAMP:20260426T013119
CREATED:20241210T221444Z
LAST-MODIFIED:20241210T221444Z
UID:826-1732906800-1732921200@mairiesaintsiffret.fr
SUMMARY:Bœuf Musical - Tous en Scéne
DESCRIPTION:Organisé par l’association Tous en Scène \nRdv le vendredi 29 novembre à partir de 19h00 à la salle du parc de la Péran \nMusiciens\, chanteurs\, venez nous rejoindre pour cette nouvelle soirée autour de la passion de la musique …… \nPlus d’information sur : https://tousenscenestsiffret.com/
URL:https://mairiesaintsiffret.fr/agenda/boeuf-musical-tous-en-scene/
LOCATION:Parc de La Péran\, Place de l’ancienne école\, Saint-Siffret\, 30700
CATEGORIES:Culture,musique
ATTACH;FMTTYPE=image/jpeg:https://mairiesaintsiffret.fr/wp-content/uploads/2024/12/IMG_1537.jpeg
END:VEVENT
BEGIN:VEVENT
DTSTART;TZID=Europe/Paris:20241129T193000
DTEND;TZID=Europe/Paris:20241129T213000
DTSTAMP:20260426T013119
CREATED:20241210T213015Z
LAST-MODIFIED:20241210T213015Z
UID:806-1732908600-1732915800@mairiesaintsiffret.fr
SUMMARY:Assemblée générale du comité des fêtes
DESCRIPTION:Rendez-vous le 29/11/2024  à 19h30 au foyer Broche pour l’assemblée générale annuelle du Comité des fêtes et d’animation de Saint-Siffret
URL:https://mairiesaintsiffret.fr/agenda/assemblee-generale-du-comite-des-fetes/
LOCATION:Foyer W. Broche\, Route de Saint-Maximin\, Saint-Siffret\, 30700
ATTACH;FMTTYPE=image/jpeg:https://mairiesaintsiffret.fr/wp-content/uploads/2024/12/IMG_1534.jpeg
END:VEVENT
END:VCALENDAR