BEGIN:VCALENDAR
VERSION:2.0
PRODID:-//Mairie de Saint Siffret - ECPv6.15.20//NONSGML v1.0//EN
CALSCALE:GREGORIAN
METHOD:PUBLISH
X-ORIGINAL-URL:https://mairiesaintsiffret.fr
X-WR-CALDESC:Évènements pour Mairie de Saint Siffret
REFRESH-INTERVAL;VALUE=DURATION:PT1H
X-Robots-Tag:noindex
X-PUBLISHED-TTL:PT1H
BEGIN:VTIMEZONE
TZID:Europe/Paris
BEGIN:DAYLIGHT
TZOFFSETFROM:+0100
TZOFFSETTO:+0200
TZNAME:CEST
DTSTART:20230326T010000
END:DAYLIGHT
BEGIN:STANDARD
TZOFFSETFROM:+0200
TZOFFSETTO:+0100
TZNAME:CET
DTSTART:20231029T010000
END:STANDARD
BEGIN:DAYLIGHT
TZOFFSETFROM:+0100
TZOFFSETTO:+0200
TZNAME:CEST
DTSTART:20240331T010000
END:DAYLIGHT
BEGIN:STANDARD
TZOFFSETFROM:+0200
TZOFFSETTO:+0100
TZNAME:CET
DTSTART:20241027T010000
END:STANDARD
BEGIN:DAYLIGHT
TZOFFSETFROM:+0100
TZOFFSETTO:+0200
TZNAME:CEST
DTSTART:20250330T010000
END:DAYLIGHT
BEGIN:STANDARD
TZOFFSETFROM:+0200
TZOFFSETTO:+0100
TZNAME:CET
DTSTART:20251026T010000
END:STANDARD
BEGIN:DAYLIGHT
TZOFFSETFROM:+0100
TZOFFSETTO:+0200
TZNAME:CEST
DTSTART:20260329T010000
END:DAYLIGHT
BEGIN:STANDARD
TZOFFSETFROM:+0200
TZOFFSETTO:+0100
TZNAME:CET
DTSTART:20261025T010000
END:STANDARD
END:VTIMEZONE
BEGIN:VEVENT
DTSTART;TZID=Europe/Paris:20241204T190000
DTEND;TZID=Europe/Paris:20241204T203000
DTSTAMP:20260425T234930
CREATED:20241210T214107Z
LAST-MODIFIED:20241210T214220Z
UID:809-1733338800-1733344200@mairiesaintsiffret.fr
SUMMARY:🇫🇷Conseil Municipal 🇫🇷
DESCRIPTION:Le prochain conseil municipal aura lieu le : \nMercredi 04 décembre 2024 à 19h00 \nSalle du conseil – Mairie de Saint-Siffret \nOrdre du jour ⤵️ \n 
URL:https://mairiesaintsiffret.fr/agenda/%f0%9f%87%ab%f0%9f%87%b7conseil-municipal-%f0%9f%87%ab%f0%9f%87%b7/
LOCATION:Mairie de Saint-Siffret\, Route de Saint-Maximin\, Saint-Siffret\, 30700
ATTACH;FMTTYPE=image/png:https://mairiesaintsiffret.fr/wp-content/uploads/2024/11/IMG_1527.png
ORGANIZER;CN="Mairie de Saint-Siffret":MAILTO:contact@mairiesaintsiffret.fr
END:VEVENT
BEGIN:VEVENT
DTSTART;TZID=Europe/Paris:20241208T100000
DTEND;TZID=Europe/Paris:20241208T180000
DTSTAMP:20260425T234930
CREATED:20241201T163522Z
LAST-MODIFIED:20241201T163557Z
UID:552-1733652000-1733680800@mairiesaintsiffret.fr
SUMMARY:LES AMIS DE L'AGE D'OR
DESCRIPTION:L’association Les Amis de l’Age d’Or organise Dimanche 8 décembre 2024 son Marché de Noël de 10h à 18h au Foyer Broche. \n 
URL:https://mairiesaintsiffret.fr/agenda/les-amis-de-lage-dor/
ATTACH;FMTTYPE=image/jpeg:https://mairiesaintsiffret.fr/wp-content/uploads/2024/12/Marche-de-Noel.jpg
END:VEVENT
BEGIN:VEVENT
DTSTART;TZID=Europe/Paris:20241215T110000
DTEND;TZID=Europe/Paris:20241215T140000
DTSTAMP:20260425T234930
CREATED:20241126T100007Z
LAST-MODIFIED:20241209T201843Z
UID:234-1734260400-1734271200@mairiesaintsiffret.fr
SUMMARY:CONCERT DE NOËL
DESCRIPTION:LA CHORALE « CHOEUR DE VINYLES »  DE L’ASSOCIATION TOUS EN SCENE ET LES ENFANTS DE L’ÉCOLE DE SAINT-SIFFRET\, \nVous convient à venir chanter le : \nSamedi 15 décembre 2024 à 11h\, à l’espace briargues Saint-Siffret.
URL:https://mairiesaintsiffret.fr/agenda/concert-de-noel/
LOCATION:Espace Briargues\, Route de Saint-Maximin\, Saint-Siffret\, 30700
ATTACH;FMTTYPE=image/jpeg:https://mairiesaintsiffret.fr/wp-content/uploads/2024/11/CDV-affiche-Concert-de-Noel.jpg
END:VEVENT
BEGIN:VEVENT
DTSTART;TZID=Europe/Paris:20241217T170000
DTEND;TZID=Europe/Paris:20241217T230000
DTSTAMP:20260425T234930
CREATED:20241203T155213Z
LAST-MODIFIED:20241210T214945Z
UID:636-1734454800-1734476400@mairiesaintsiffret.fr
SUMMARY:Un Noël à Saint-Siffret (APE)🎄
DESCRIPTION:L’APE de Saint-Siffret vous invite à venir fêter Noël en famille le 17 décembre\, de 17h à 23h\, au Foyer Broche 🎅☃️\nAu programme :\nPhotos avec le Père-Noël (le vrai de vrai)\, flashmob de Mariah 💃\, Grand Quiz des familles (sur inscription)\, concours du plus beau pull de Noël 🦌 et plein d’autres surprises…\n\nAu menu pour vous :\n\n\n🥂 À boire : Winter Shots\, vin chaud\, bière\, softs et café/thé\n🧀 À manger : Épicerie des lutins\, raclette revisitée et menu enfant de Noël\n\nEntrée gratuite 😊\, restauration payante (CB acceptée)\n\n\n\n\nInfos utiles et inscriptions au Quiz ici 👉 https://www.apesaintsiffret.fr/programme/noel
URL:https://mairiesaintsiffret.fr/agenda/un-noel-a-saint-siffret/
LOCATION:Foyer W. Broche\, Route de Saint-Maximin\, Saint-Siffret\, 30700
ATTACH;FMTTYPE=image/jpeg:https://mairiesaintsiffret.fr/wp-content/uploads/2024/12/image0.jpeg
END:VEVENT
BEGIN:VEVENT
DTSTART;VALUE=DATE:20241223
DTEND;VALUE=DATE:20241224
DTSTAMP:20260425T234930
CREATED:20241211T070004Z
LAST-MODIFIED:20241211T085707Z
UID:834-1734912000-1734998399@mairiesaintsiffret.fr
SUMMARY:Ateliers dessins - Noël et Manga
DESCRIPTION:L’association Tous en scène vous propose des ateliers dessins\, animés par Patrice Biron Vannier – horaires : de 10h à 11h30 et de 14h à 15h30.\nProchains ateliers à Saint-Siffret (10 € / enfant) :\n\n23 déc.\, de 10h à 11h30 : Atelier Noël\, Salle La Péran\n23 déc.\, de 14h à 15h30 : Atelier MANGA\, Salle La Péran\n27 déc.\, de 10h à 11h30 : Atelier Jour de l’An\, Salle La Péran\n27 déc.\, de 14h à 15h30 : Atelier MANGA\, Salle La Péran\n3 janvier\, de 10h à 11h30 : Atelier Nouvelle Année\, Salle La Péran\n3 janvier\, de 14h à 15h30 : Atelier MANGA\, Salle La Péran\n\nRéservation : ICI !\n\n\nPatrice Biron Vannier : \n« Illustrateur professionnel\, je vais vous apprendre à dessiner par vous-même\, afin de libérer votre imagination !\nProfesseur de dessin\, je donne des cours sur Uzès\, au collège St Firmin et à l’école Ste Anne.\nLors les vacances scolaires\, je donne des cours sous forme d’ateliers à l’association Les Petites Mains d’Uzès\, à la MJC d’Uzès et à l’Association Tous en Scène Saint Siffret. »
URL:https://mairiesaintsiffret.fr/agenda/ateliers-dessins-tous-en-scene/
LOCATION:Parc de La Péran\, Place de l’ancienne école\, Saint-Siffret\, 30700
CATEGORIES:Culture
ATTACH;FMTTYPE=image/webp:https://mairiesaintsiffret.fr/wp-content/uploads/2024/12/IMG_1538.webp
END:VEVENT
BEGIN:VEVENT
DTSTART;VALUE=DATE:20241227
DTEND;VALUE=DATE:20241228
DTSTAMP:20260425T234930
CREATED:20241211T070156Z
LAST-MODIFIED:20241211T085451Z
UID:837-1735257600-1735343999@mairiesaintsiffret.fr
SUMMARY:Ateliers dessins - Jour de l'An et Manga
DESCRIPTION:L’association Tous en scène vous propose des ateliers dessins\, animés par Patrice Biron Vannier – horaires : de 10h à 11h30 et de 14h à 15h30.\nProchains ateliers à Saint-Siffret (10 € / enfant) :\n\n27 déc.\, de 10h à 11h30 : Atelier Jour de l’An\, Salle La Péran\n27 déc.\, de 14h à 15h30 : Atelier MANGA\, Salle La Péran\n3 janvier\, de 10h à 11h30 : Atelier Nouvelle Année\, Salle La Péran\n3 janvier\, de 14h à 15h30 : Atelier MANGA\, Salle La Péran\n\nRéservation : ICI !\n\nPatrice Biron Vannier : \n« Illustrateur professionnel\, je vais vous apprendre à dessiner par vous-même\, afin de libérer votre imagination !\nProfesseur de dessin\, je donne des cours sur Uzès\, au collège St Firmin et à l’école Ste Anne.\nLors les vacances scolaires\, je donne des cours sous forme d’ateliers à l’association Les Petites Mains d’Uzès\, à la MJC d’Uzès et à l’Association Tous en Scène Saint Siffret. » \n 
URL:https://mairiesaintsiffret.fr/agenda/ateliers-dessins-tous-en-scene-2/
LOCATION:Parc de La Péran\, Place de l’ancienne école\, Saint-Siffret\, 30700
CATEGORIES:Culture
ATTACH;FMTTYPE=image/webp:https://mairiesaintsiffret.fr/wp-content/uploads/2024/12/IMG_1538.webp
END:VEVENT
BEGIN:VEVENT
DTSTART;TZID=Europe/Paris:20241231T200000
DTEND;TZID=Europe/Paris:20250101T000000
DTSTAMP:20260425T234930
CREATED:20241210T101321Z
LAST-MODIFIED:20241210T101321Z
UID:747-1735675200-1735689600@mairiesaintsiffret.fr
SUMMARY:Réveillon de la Saint-Sylvestre
DESCRIPTION:Organisé par l’Association « Sport et Détente ». \nRéservation avant le 22 décembre. \nLe 31 décembre à partir de 20h au Foyer W. Broche. \n 
URL:https://mairiesaintsiffret.fr/agenda/reveillon-de-la-saint-sylvestre/
ATTACH;FMTTYPE=image/jpeg:https://mairiesaintsiffret.fr/wp-content/uploads/2024/12/REVEILLON-2024.jpg
END:VEVENT
END:VCALENDAR