BEGIN:VCALENDAR
VERSION:2.0
PRODID:-//Mairie de Saint Siffret - ECPv6.15.20//NONSGML v1.0//EN
CALSCALE:GREGORIAN
METHOD:PUBLISH
X-ORIGINAL-URL:https://mairiesaintsiffret.fr
X-WR-CALDESC:Évènements pour Mairie de Saint Siffret
REFRESH-INTERVAL;VALUE=DURATION:PT1H
X-Robots-Tag:noindex
X-PUBLISHED-TTL:PT1H
BEGIN:VTIMEZONE
TZID:Europe/Paris
BEGIN:DAYLIGHT
TZOFFSETFROM:+0100
TZOFFSETTO:+0200
TZNAME:CEST
DTSTART:20240331T010000
END:DAYLIGHT
BEGIN:STANDARD
TZOFFSETFROM:+0200
TZOFFSETTO:+0100
TZNAME:CET
DTSTART:20241027T010000
END:STANDARD
BEGIN:DAYLIGHT
TZOFFSETFROM:+0100
TZOFFSETTO:+0200
TZNAME:CEST
DTSTART:20250330T010000
END:DAYLIGHT
BEGIN:STANDARD
TZOFFSETFROM:+0200
TZOFFSETTO:+0100
TZNAME:CET
DTSTART:20251026T010000
END:STANDARD
BEGIN:DAYLIGHT
TZOFFSETFROM:+0100
TZOFFSETTO:+0200
TZNAME:CEST
DTSTART:20260329T010000
END:DAYLIGHT
BEGIN:STANDARD
TZOFFSETFROM:+0200
TZOFFSETTO:+0100
TZNAME:CET
DTSTART:20261025T010000
END:STANDARD
END:VTIMEZONE
BEGIN:VEVENT
DTSTART;VALUE=DATE:20250103
DTEND;VALUE=DATE:20250104
DTSTAMP:20260425T221719
CREATED:20241211T070240Z
LAST-MODIFIED:20241211T085616Z
UID:839-1735862400-1735948799@mairiesaintsiffret.fr
SUMMARY:Ateliers dessins - Nouvelle Année et Manga
DESCRIPTION:L’association Tous en scène vous propose des ateliers dessins\, animés par Patrice Biron Vannier – horaires : de 10h à 11h30 et de 14h à 15h30.\nProchains ateliers à Saint-Siffret (10 € / enfant) :\n\n3 janvier\, de 10h à 11h30 : Atelier Nouvelle Année\, Salle La Péran\n3 janvier\, de 14h à 15h30 : Atelier MANGA\, Salle La Péran\n\nRéservation : ICI !\n\nPatrice Biron Vannier : \n« Illustrateur professionnel\, je vais vous apprendre à dessiner par vous-même\, afin de libérer votre imagination !\nProfesseur de dessin\, je donne des cours sur Uzès\, au collège St Firmin et à l’école Ste Anne.\nLors les vacances scolaires\, je donne des cours sous forme d’ateliers à l’association Les Petites Mains d’Uzès\, à la MJC d’Uzès et à l’Association Tous en Scène Saint Siffret. »
URL:https://mairiesaintsiffret.fr/agenda/ateliers-dessins-tous-en-scene-3/
LOCATION:Parc de La Péran\, Place de l’ancienne école\, Saint-Siffret\, 30700
CATEGORIES:Culture
ATTACH;FMTTYPE=image/webp:https://mairiesaintsiffret.fr/wp-content/uploads/2024/12/IMG_1538.webp
END:VEVENT
BEGIN:VEVENT
DTSTART;TZID=Europe/Paris:20250108T100000
DTEND;TZID=Europe/Paris:20250108T120000
DTSTAMP:20260425T221719
CREATED:20250102T151344Z
LAST-MODIFIED:20250102T151344Z
UID:1298-1736330400-1736337600@mairiesaintsiffret.fr
SUMMARY:Ludothèque
DESCRIPTION:Des animations gratuites pour tous !\nVenez partager une « pause jeu » en famille ou entre amis\, à la\nLudothèque du Pays d’Uzès…\nJeux de société\, jeux de construction\, jeux sportifs\, jouets\,\ngrands jeux en bois… autant d’animations pour trouver\, ou\nretrouver\, le plaisir de jouer…
URL:https://mairiesaintsiffret.fr/agenda/ludotheque/
LOCATION:Foyer W. Broche\, Route de Saint-Maximin\, Saint-Siffret\, 30700
ATTACH;FMTTYPE=application/pdf:https://mairiesaintsiffret.fr/wp-content/uploads/2025/01/Ludotheque-AFFICHE-3.pdf
END:VEVENT
BEGIN:VEVENT
DTSTART;TZID=Europe/Paris:20250110T183000
DTEND;TZID=Europe/Paris:20250110T183000
DTSTAMP:20260425T221719
CREATED:20241216T134840Z
LAST-MODIFIED:20241230T160210Z
UID:1215-1736533800-1736533800@mairiesaintsiffret.fr
SUMMARY:🇫🇷 Cérémonie des Vœux 2025 🇫🇷
DESCRIPTION:Monsieur Le Maire de Saint-Siffret\, le Conseil Municipal\, le Conseil Municipal des enfants\, vous convient le : \nVendredi 10 janvier 2025 – à partir de 18h30  \nFoyer Broche \nLa cérémonie sera suivie d’un apéritif et de la galette des rois
URL:https://mairiesaintsiffret.fr/agenda/ceremonie-des-voeux-2025/
LOCATION:Foyer W. Broche\, Route de Saint-Maximin\, Saint-Siffret\, 30700
ATTACH;FMTTYPE=image/png:https://mairiesaintsiffret.fr/wp-content/uploads/2024/12/Voeux-2025.png
ORGANIZER;CN="Mairie de Saint-Siffret":MAILTO:contact@mairiesaintsiffret.fr
END:VEVENT
BEGIN:VEVENT
DTSTART;TZID=Europe/Paris:20250119T130000
DTEND;TZID=Europe/Paris:20250119T180000
DTSTAMP:20260425T221719
CREATED:20250107T153443Z
LAST-MODIFIED:20250107T153443Z
UID:1326-1737291600-1737309600@mairiesaintsiffret.fr
SUMMARY:LOTO APE Saint-Siffret
DESCRIPTION:Dimanche 19 Janvier dès 13h au Foyer W. Broche Saint-Siffret. Snacking et buvette sur place\nPlus d’information https://www.apesaintsiffret.fr/programme/loto
URL:https://mairiesaintsiffret.fr/agenda/loto-ape-saint-siffret/
LOCATION:Foyer W. Broche\, Route de Saint-Maximin\, Saint-Siffret\, 30700
ATTACH;FMTTYPE=image/png:https://mairiesaintsiffret.fr/wp-content/uploads/2025/01/Flyer-LOTO-St-Siffret.png
ORGANIZER;CN="Mairie de Saint-Siffret":MAILTO:contact@mairiesaintsiffret.fr
END:VEVENT
BEGIN:VEVENT
DTSTART;TZID=Europe/Paris:20250122T120000
DTEND;TZID=Europe/Paris:20250122T170000
DTSTAMP:20260425T221719
CREATED:20250112T092141Z
LAST-MODIFIED:20250112T092141Z
UID:1339-1737547200-1737565200@mairiesaintsiffret.fr
SUMMARY:Repas municipal des Aînés
DESCRIPTION:Monsieur le Maire\, Dominique Vincent et son conseil municipal\, vous convient au traditionnel repas des aînés qui se déroulera : \nLe mercredi 22 janvier à 12h00 au foyer W. Broche\n\n➡️ Inscription préalable obligatoire à contact@mairiesaintsiffret.fr \n➡️ Réservé aux habitants de Saint-Siffret de + de 65 ans
URL:https://mairiesaintsiffret.fr/agenda/repas-municipal-des-aines/
LOCATION:Foyer W. Broche\, Route de Saint-Maximin\, Saint-Siffret\, 30700
CATEGORIES:Communal
ATTACH;FMTTYPE=image/jpeg:https://mairiesaintsiffret.fr/wp-content/uploads/2025/01/IMG_1954.jpeg
ORGANIZER;CN="Mairie de Saint-Siffret":MAILTO:contact@mairiesaintsiffret.fr
END:VEVENT
BEGIN:VEVENT
DTSTART;TZID=Europe/Paris:20250125T100000
DTEND;TZID=Europe/Paris:20250125T180000
DTSTAMP:20260425T221719
CREATED:20250107T154542Z
LAST-MODIFIED:20250107T154542Z
UID:1329-1737799200-1737828000@mairiesaintsiffret.fr
SUMMARY:Battle Make it Funky
DESCRIPTION:Avec DJ Byronnex.\nStages de 10H à 12H\, cercles à 13H\, Battles 2VS2. Buvette et restauration sur place\, entrée 5€ (gratuit pour les danseurs).
URL:https://mairiesaintsiffret.fr/agenda/battle-make-it-funky/
LOCATION:Foyer W. Broche\, Route de Saint-Maximin\, Saint-Siffret\, 30700
ATTACH;FMTTYPE=image/jpeg:https://mairiesaintsiffret.fr/wp-content/uploads/2025/01/Battle_HipHop.jpg
ORGANIZER;CN="Mairie de Saint-Siffret":MAILTO:contact@mairiesaintsiffret.fr
END:VEVENT
BEGIN:VEVENT
DTSTART;TZID=Europe/Paris:20250126T100000
DTEND;TZID=Europe/Paris:20250126T170000
DTSTAMP:20260425T221719
CREATED:20250124T150146Z
LAST-MODIFIED:20250124T150146Z
UID:1385-1737885600-1737910800@mairiesaintsiffret.fr
SUMMARY:La VT’Truffes
DESCRIPTION:LA 12ème VT’TRUFFES passera par Saint-Siffret !\nDIMANCHE 26 JANVIER 2025 \nVTT DÉCOUVERTE 23 KM/ D+ 300\nVTT SPORT 35-45 KM/ D+ 600 – 750\nVTT RAID 60 KM/ D+ 900 ( Hommage à Vincent Fauvelet *)\nGRAVEL 60 KM / D+ 800\nRANDO-TRAIL 10Km D+ 253 et 13 km D+ 329 \nTous les circuits sont nouveaux\n\nDépart UZÈS(Gard)  Domaine Viticole St Firmin.\nPour tous à l’arrivée : Soupe truffée + bouteille de vin du Domaine. \nA l’arrivée : buvette\, sandwich – frites \nTombola : des truffes d’Uzès – un VTT et nombreux autres lots. \nInscription par internet sur notre site.\nRando VTT et Pédestre : 12€ (+3€ si inscription sur place).\nGratuit pour les moins de 12 ans \nInscriptions en ligne :\nOuverte le Jeudi 5 Décembre à 8h\nFermeture le Jeudi 23 Janvier à 20h \nRepas aux truffes : 20€ (réservation obligatoire\, 200 repas maxi) \nINFOS : 06 27 81 35 23 (Denis) et www.uzesveloclub.fr\nInscriptions et départs à partir de 8h jusqu’à 10h. \n  \nScreenshot
URL:https://mairiesaintsiffret.fr/agenda/la-vttruffes/
CATEGORIES:Sportif
ATTACH;FMTTYPE=image/jpeg:https://mairiesaintsiffret.fr/wp-content/uploads/2025/01/IMG_1008.jpeg
END:VEVENT
BEGIN:VEVENT
DTSTART;TZID=Europe/Paris:20250131T193000
DTEND;TZID=Europe/Paris:20250131T233000
DTSTAMP:20260425T221719
CREATED:20250121T102230Z
LAST-MODIFIED:20250121T125529Z
UID:1359-1738351800-1738366200@mairiesaintsiffret.fr
SUMMARY:BOEUF Musical
DESCRIPTION:  \n\n Vendredi 31 janvier à partir de 19h30 à salle La Péran\nAvec Tous en Scène
URL:https://mairiesaintsiffret.fr/agenda/boeuf-musical-2/
LOCATION:Parc de La Péran\, Place de l’ancienne école\, Saint-Siffret\, 30700
CATEGORIES:musique
ATTACH;FMTTYPE=image/jpeg:https://mairiesaintsiffret.fr/wp-content/uploads/2025/01/Mairie-St-Siffret_20250121_114728_0001-scaled.jpg
END:VEVENT
END:VCALENDAR