BEGIN:VCALENDAR
VERSION:2.0
PRODID:-//Mairie de Saint Siffret - ECPv6.15.20//NONSGML v1.0//EN
CALSCALE:GREGORIAN
METHOD:PUBLISH
X-ORIGINAL-URL:https://mairiesaintsiffret.fr
X-WR-CALDESC:Évènements pour Mairie de Saint Siffret
REFRESH-INTERVAL;VALUE=DURATION:PT1H
X-Robots-Tag:noindex
X-PUBLISHED-TTL:PT1H
BEGIN:VTIMEZONE
TZID:Europe/Paris
BEGIN:DAYLIGHT
TZOFFSETFROM:+0100
TZOFFSETTO:+0200
TZNAME:CEST
DTSTART:20240331T010000
END:DAYLIGHT
BEGIN:STANDARD
TZOFFSETFROM:+0200
TZOFFSETTO:+0100
TZNAME:CET
DTSTART:20241027T010000
END:STANDARD
BEGIN:DAYLIGHT
TZOFFSETFROM:+0100
TZOFFSETTO:+0200
TZNAME:CEST
DTSTART:20250330T010000
END:DAYLIGHT
BEGIN:STANDARD
TZOFFSETFROM:+0200
TZOFFSETTO:+0100
TZNAME:CET
DTSTART:20251026T010000
END:STANDARD
BEGIN:DAYLIGHT
TZOFFSETFROM:+0100
TZOFFSETTO:+0200
TZNAME:CEST
DTSTART:20260329T010000
END:DAYLIGHT
BEGIN:STANDARD
TZOFFSETFROM:+0200
TZOFFSETTO:+0100
TZNAME:CET
DTSTART:20261025T010000
END:STANDARD
END:VTIMEZONE
BEGIN:VEVENT
DTSTART;TZID=Europe/Paris:20250228T100000
DTEND;TZID=Europe/Paris:20250305T120000
DTSTAMP:20260425T185925
CREATED:20250228T143026Z
LAST-MODIFIED:20250228T143026Z
UID:1530-1740736800-1741176000@mairiesaintsiffret.fr
SUMMARY:🎲la ludothèque 🎲
DESCRIPTION:Venez partager une pause de jeux en famille ou entre amis à la ludothèque itinérante du pays d’Uzès Le MERCREDI 5 mars au foyer W. Broche de Saint-Siffret de 10h à 12h 
URL:https://mairiesaintsiffret.fr/agenda/%f0%9f%8e%b2la-ludotheque-%f0%9f%8e%b2/
LOCATION:Foyer W. Broche\, Route de Saint-Maximin\, Saint-Siffret\, 30700
ATTACH;FMTTYPE=image/jpeg:https://mairiesaintsiffret.fr/wp-content/uploads/2025/02/Affiche-Ludotheque_page-0001.jpg
END:VEVENT
BEGIN:VEVENT
DTSTART;TZID=Europe/Paris:20250309T100000
DTEND;TZID=Europe/Paris:20250309T180000
DTSTAMP:20260425T185925
CREATED:20250222T165247Z
LAST-MODIFIED:20250222T165247Z
UID:1468-1741514400-1741543200@mairiesaintsiffret.fr
SUMMARY:🎨 Vide-Loisirs Créatifs 🏺
DESCRIPTION:L’association Peinture et Arts Plastiques organise un Vide-Loisirs créatifs : \nDimanche 09 mars 2025 de 10h00 à 18h00\n📍Au foyer W. BROCHE \n✅ Buvette et restauration sur place 🍟☕️ \n\n➡️ Vous souhaitez exposer :  \nInformations et réservations ☎️ au 06 26 58 29 16 ou 06 06 59 01 71 \nOu par mail 📨 à partpassociationsaintsiffret@gmail.com
URL:https://mairiesaintsiffret.fr/agenda/%f0%9f%8e%a8-vide-loisirs-creatifs-%f0%9f%8f%ba/
LOCATION:Foyer W. Broche\, Route de Saint-Maximin\, Saint-Siffret\, 30700
CATEGORIES:Culture
ATTACH;FMTTYPE=image/png:https://mairiesaintsiffret.fr/wp-content/uploads/2025/02/IMG_2006.png
ORGANIZER;CN="association Peinture et Arts Plastiques":MAILTO:partpassociationsaintsiffret@gmail.com
END:VEVENT
BEGIN:VEVENT
DTSTART;TZID=Europe/Paris:20250314T093000
DTEND;TZID=Europe/Paris:20250314T093000
DTSTAMP:20260425T185925
CREATED:20250226T144731Z
LAST-MODIFIED:20250226T144731Z
UID:1521-1741944600-1741944600@mairiesaintsiffret.fr
SUMMARY:JOB DATING - Spécial services à la personne
DESCRIPTION:L’espace entreprise emploi (EEE) de la communauté de communes Pays d’Uzès\, organise un JOB DATING spécial service à la personne : \nVendredi 14 mars 2025 \nrendez-vous à partir de 9h30 dans les locaux de l’espace entreprise emploi d’Uzès pour échanger et un job DATING avec l’équipe de Bonjour Groupe Présence 30. \nContact: 04 66 75 77 30
URL:https://mairiesaintsiffret.fr/agenda/job-dating-special-services-a-la-personne/
LOCATION:Espace entreprise emploi\, Bâtiment Alzon - place des Cordeliers\, UZES\, 30700
CATEGORIES:CCPU
ATTACH;FMTTYPE=image/jpeg:https://mairiesaintsiffret.fr/wp-content/uploads/2025/02/IMG_1348.jpeg
END:VEVENT
BEGIN:VEVENT
DTSTART;TZID=Europe/Paris:20250315T190000
DTEND;TZID=Europe/Paris:20250316T010000
DTSTAMP:20260425T185925
CREATED:20250222T170147Z
LAST-MODIFIED:20250222T170147Z
UID:1474-1742065200-1742086800@mairiesaintsiffret.fr
SUMMARY:🍺 LA FESTI BIÈRE du comité des fêtes 🍻
DESCRIPTION:Le comité des fêtes et d’animations de Saint-Siffret\, vous donne rendez-vous : \n➡️ Le 15 mars 2025 au foyer W. BROCHE – de 19h00 à 01h00\n🪩Animation DJ GALINDO \n🍽️ Restauration sur place :  FRICANDELLES et Bières 🍺 \nEntrée gratuite 😉
URL:https://mairiesaintsiffret.fr/agenda/%f0%9f%8d%ba-la-festi-biere-du-comite-des-fetes-%f0%9f%8d%bb/
LOCATION:Foyer W. Broche\, Route de Saint-Maximin\, Saint-Siffret\, 30700
CATEGORIES:Evènement
ATTACH;FMTTYPE=image/jpeg:https://mairiesaintsiffret.fr/wp-content/uploads/2025/02/IMG_2007.jpeg
END:VEVENT
BEGIN:VEVENT
DTSTART;TZID=Europe/Paris:20250328T110000
DTEND;TZID=Europe/Paris:20250328T160000
DTSTAMP:20260425T185925
CREATED:20250328T142253Z
LAST-MODIFIED:20250328T142253Z
UID:1574-1743159600-1743177600@mairiesaintsiffret.fr
SUMMARY:🥚🐇🧺Chasse aux œufs de Pâques🥚🐇🧺
DESCRIPTION:  \nChasse aux œufs de Pâques et pique-nique familial. \nSamedi 12 avril  au Parc la Péran. \n🧺11h- Départ des maternelles/CP \n🥪12h- Pique-nique \n(amenez votre pique-nique\, buvette prévue par L’APE) \n🧺13h30-  Départ des plus grands \n 
URL:https://mairiesaintsiffret.fr/agenda/%f0%9f%a5%9a%f0%9f%90%87%f0%9f%a7%bachasse-aux-oeufs-de-paques%f0%9f%a5%9a%f0%9f%90%87%f0%9f%a7%ba/
LOCATION:Parc de La Péran\, Place de l’ancienne école\, Saint-Siffret\, 30700
ATTACH;FMTTYPE=application/pdf:https://mairiesaintsiffret.fr/wp-content/uploads/2025/03/AFFICHE-1.pdf
END:VEVENT
BEGIN:VEVENT
DTSTART;VALUE=DATE:20250329
DTEND;VALUE=DATE:20250331
DTSTAMP:20260425T185925
CREATED:20250112T094753Z
LAST-MODIFIED:20250112T094828Z
UID:1351-1743206400-1743379199@mairiesaintsiffret.fr
SUMMARY:Stage spécial GOSPEL
DESCRIPTION:L’association Tous en scène vous propose un week-end de stage Gospel dirigé par Laeticia UBEDA \nLes 29 et 30 mars 2025 à la salle de la Péran – Place de l’ancienne école à Saint-Siffret\n\n➡️ Inscription obligatoire (places limitées) \n➡️ Tarif : 80 € – Participation au Stage + concert du dimanche 15h00 \n➡️ Renseignements et inscriptions à : millianjeanyves@gmail.com ou veroniquenguyenchampale@orange.fr
URL:https://mairiesaintsiffret.fr/agenda/stage-special-gospel/
LOCATION:Parc de La Péran\, Place de l’ancienne école\, Saint-Siffret\, 30700
CATEGORIES:Culture,musique
ATTACH;FMTTYPE=image/jpeg:https://mairiesaintsiffret.fr/wp-content/uploads/2025/01/IMG_1956.jpeg
END:VEVENT
BEGIN:VEVENT
DTSTART;TZID=Europe/Paris:20250330T150000
DTEND;TZID=Europe/Paris:20250330T170000
DTSTAMP:20260425T185925
CREATED:20250112T093405Z
LAST-MODIFIED:20250112T093857Z
UID:1346-1743346800-1743354000@mairiesaintsiffret.fr
SUMMARY:Concert GOD’SPELL PROJECT
DESCRIPTION:L’association Tous en Scène\, vous propose un concert Gospel avec GOD’SPELL PROJECT \nLe dimanche 30 mars 2025 à 15h00 au foyer W. Broche\n\nLa billetterie pour le concert GOD’SPELL PROJECT à Saint Siffret est ouverte : \n➡️ https://www.billetweb.fr/concert-godspell-project \n– Tarifs : \n\nAdultes : 10 €\nEnfants de 6 à 12 ans: 5 €\nGratuit jusqu’à 6 ans\n\nRéservez dès à présent vos places 😊
URL:https://mairiesaintsiffret.fr/agenda/concert-godspell-project/
LOCATION:Foyer W. Broche\, Route de Saint-Maximin\, Saint-Siffret\, 30700
CATEGORIES:Culture,musique
ATTACH;FMTTYPE=image/jpeg:https://mairiesaintsiffret.fr/wp-content/uploads/2025/01/IMG_1956.jpeg
END:VEVENT
END:VCALENDAR