BEGIN:VCALENDAR
VERSION:2.0
PRODID:-//Mairie de Saint Siffret - ECPv6.15.20//NONSGML v1.0//EN
CALSCALE:GREGORIAN
METHOD:PUBLISH
X-ORIGINAL-URL:https://mairiesaintsiffret.fr
X-WR-CALDESC:Évènements pour Mairie de Saint Siffret
REFRESH-INTERVAL;VALUE=DURATION:PT1H
X-Robots-Tag:noindex
X-PUBLISHED-TTL:PT1H
BEGIN:VTIMEZONE
TZID:Europe/Paris
BEGIN:DAYLIGHT
TZOFFSETFROM:+0100
TZOFFSETTO:+0200
TZNAME:CEST
DTSTART:20240331T010000
END:DAYLIGHT
BEGIN:STANDARD
TZOFFSETFROM:+0200
TZOFFSETTO:+0100
TZNAME:CET
DTSTART:20241027T010000
END:STANDARD
BEGIN:DAYLIGHT
TZOFFSETFROM:+0100
TZOFFSETTO:+0200
TZNAME:CEST
DTSTART:20250330T010000
END:DAYLIGHT
BEGIN:STANDARD
TZOFFSETFROM:+0200
TZOFFSETTO:+0100
TZNAME:CET
DTSTART:20251026T010000
END:STANDARD
BEGIN:DAYLIGHT
TZOFFSETFROM:+0100
TZOFFSETTO:+0200
TZNAME:CEST
DTSTART:20260329T010000
END:DAYLIGHT
BEGIN:STANDARD
TZOFFSETFROM:+0200
TZOFFSETTO:+0100
TZNAME:CET
DTSTART:20261025T010000
END:STANDARD
END:VTIMEZONE
BEGIN:VEVENT
DTSTART;TZID=Europe/Paris:20250402T100000
DTEND;TZID=Europe/Paris:20250402T120000
DTSTAMP:20260425T171903
CREATED:20250326T095738Z
LAST-MODIFIED:20250326T100205Z
UID:1564-1743588000-1743595200@mairiesaintsiffret.fr
SUMMARY:Dédicace "Les Mystères de Saint-Siffret"
DESCRIPTION:*** Dédicace Les Mystères de Saint-Siffret !!! ***\nMercredi 2 avril – dédicace de 10h à 12h au Parc de la Péran à Saint-Siffret !!!\nEn collaboration avec l’association Tous En Scène Saint-Siffret\n—\nDE QUOI CA PARLE ?\n« Les Mystères de Saint-Siffret » est la suite de la bande dessinée « Les Mystères de Vers Pont du Gard ».\nVoici nos jeunes héros\, Hugo et Lize\, dans le paisible village de Saint-Siffret.\nIntrigués par des phénomènes étranges\, Hugo et Lize se retrouvent plongés dans une aventure palpitante\, où chaque recoin du village cache un secret. Au fil de leur quête\, ils feront des rencontres extraordinaires et découvriront des facettes cachées de ce village\, qui les conduiront bien plus loin qu’ils ne l’auraient imaginé.\nEntre énigmes à résoudre et alliés improbables\, cette aventure sera bien plus qu’une simple exploration : ce sera une véritable leçon de courage\, d’amitié et de dépassement de soi.
URL:https://mairiesaintsiffret.fr/agenda/dedicace-les-mysteres-de-saint-siffret/
LOCATION:Parc de La Péran\, Place de l’ancienne école\, Saint-Siffret\, 30700
CATEGORIES:Culture
ATTACH;FMTTYPE=image/jpeg:https://mairiesaintsiffret.fr/wp-content/uploads/2025/03/affiche-dedicace-fb.jpg
END:VEVENT
BEGIN:VEVENT
DTSTART;TZID=Europe/Paris:20250405T180000
DTEND;TZID=Europe/Paris:20250405T220000
DTSTAMP:20260425T171903
CREATED:20250220T115816Z
LAST-MODIFIED:20250331T132448Z
UID:1464-1743876000-1743890400@mairiesaintsiffret.fr
SUMMARY:⚠️ANNULÉ⚠️      🎻CONCERT VIOLONS ET VIOLONCELLE🎻
DESCRIPTION:Samedi 05 Avril 2025 à 18h\nPlaces limitées – Réservation au 06.78.55.86.65
URL:https://mairiesaintsiffret.fr/agenda/%e2%9a%a0%ef%b8%8fannule%e2%9a%a0%ef%b8%8f-%f0%9f%8e%bbconcert-violons-et-violoncelle%f0%9f%8e%bb/
LOCATION:Parc de La Péran\, Place de l’ancienne école\, Saint-Siffret\, 30700
ATTACH;FMTTYPE=image/jpeg:https://mairiesaintsiffret.fr/wp-content/uploads/2025/02/Affiche-Concert-Violon-Violoncelle_page-0001.jpg
END:VEVENT
BEGIN:VEVENT
DTSTART;TZID=Europe/Paris:20250421T100000
DTEND;TZID=Europe/Paris:20250421T180000
DTSTAMP:20260425T171903
CREATED:20250414T133805Z
LAST-MODIFIED:20250414T140138Z
UID:1592-1745229600-1745258400@mairiesaintsiffret.fr
SUMMARY:🏐🐰🍫Nouvelle journée Pétanque loisir🍫🐰🏐
DESCRIPTION:L’Entente Bouliste des Garrigues de l’Uzège organise le lundi 21 avril 2025 une journée pétanque ouverte à tous. \nBuvette et restauration sur place (spaghettis bolognaise + dessert 10  €).
URL:https://mairiesaintsiffret.fr/agenda/%f0%9f%8f%90%f0%9f%90%b0%f0%9f%8d%abnouvelle-journee-petanque-loisir%f0%9f%8d%ab%f0%9f%90%b0%f0%9f%8f%90/
ATTACH;FMTTYPE=image/jpeg:https://mairiesaintsiffret.fr/wp-content/uploads/2025/04/Affiche-Journee-Petanque-loisir-du-lundi-21avril2025-scaled.jpg
END:VEVENT
BEGIN:VEVENT
DTSTART;TZID=Europe/Paris:20250426T090000
DTEND;TZID=Europe/Paris:20250426T110000
DTSTAMP:20260425T171903
CREATED:20250414T135856Z
LAST-MODIFIED:20250424T145148Z
UID:1598-1745658000-1745665200@mairiesaintsiffret.fr
SUMMARY:🪴🌿Troc aux plantes 🌿🪴
DESCRIPTION:Le Troc aux plantes samedi 26 avril 2025 de 9h a 11h au foyer William Broche
URL:https://mairiesaintsiffret.fr/agenda/%f0%9f%aa%b4%f0%9f%8c%bftroc-aux-plantes-%f0%9f%8c%bf%f0%9f%aa%b4/
LOCATION:Foyer W. Broche\, Route de Saint-Maximin\, Saint-Siffret\, 30700
ORGANIZER;CN="Mairie de Saint-Siffret":MAILTO:contact@mairiesaintsiffret.fr
END:VEVENT
BEGIN:VEVENT
DTSTART;TZID=Europe/Paris:20250426T200000
DTEND;TZID=Europe/Paris:20250427T020000
DTSTAMP:20260425T171903
CREATED:20250414T140539Z
LAST-MODIFIED:20250414T145719Z
UID:1603-1745697600-1745719200@mairiesaintsiffret.fr
SUMMARY:🍴💃🏽🕺🏻Repas Dansant🕺🏻💃🏽🍴
DESCRIPTION:Le samedi 26 avril à partir de 20h Repas dansant organisé par Sport et Détente au Foyer William Broche
URL:https://mairiesaintsiffret.fr/agenda/repas-dansant/
LOCATION:Foyer W. Broche\, Route de Saint-Maximin\, Saint-Siffret\, 30700
ATTACH;FMTTYPE=image/jpeg:https://mairiesaintsiffret.fr/wp-content/uploads/2025/04/WhatsApp-Image-2025-03-25-a-18.57.51_a3df8bd8.jpg
END:VEVENT
BEGIN:VEVENT
DTSTART;TZID=Europe/Paris:20250430T100000
DTEND;TZID=Europe/Paris:20250430T120000
DTSTAMP:20260425T171903
CREATED:20250417T080909Z
LAST-MODIFIED:20250417T080909Z
UID:1684-1746007200-1746014400@mairiesaintsiffret.fr
SUMMARY:🎲♠️😊La Ludothèque😊♠️🎲
DESCRIPTION:Venez partager une pause de jeux en famille ou entre amis à la ludothèque itinérante du pays d’Uzès le MERCREDI 30 avril au foyer Broche de Saint-Siffret de 10h à 12h.
URL:https://mairiesaintsiffret.fr/agenda/%f0%9f%8e%b2%e2%99%a0%ef%b8%8f%f0%9f%98%8ala-ludotheque%f0%9f%98%8a%e2%99%a0%ef%b8%8f%f0%9f%8e%b2/
LOCATION:Foyer W. Broche\, Route de Saint-Maximin\, Saint-Siffret\, 30700
ATTACH;FMTTYPE=image/jpeg:https://mairiesaintsiffret.fr/wp-content/uploads/2025/04/Ludo-flyer-affiche-ST-SIFFRET-30-AVRIL_page-0003.jpg
END:VEVENT
END:VCALENDAR