BEGIN:VCALENDAR
VERSION:2.0
PRODID:-//Mairie de Saint Siffret - ECPv6.15.20//NONSGML v1.0//EN
CALSCALE:GREGORIAN
METHOD:PUBLISH
X-ORIGINAL-URL:https://mairiesaintsiffret.fr
X-WR-CALDESC:Évènements pour Mairie de Saint Siffret
REFRESH-INTERVAL;VALUE=DURATION:PT1H
X-Robots-Tag:noindex
X-PUBLISHED-TTL:PT1H
BEGIN:VTIMEZONE
TZID:Europe/Paris
BEGIN:DAYLIGHT
TZOFFSETFROM:+0100
TZOFFSETTO:+0200
TZNAME:CEST
DTSTART:20240331T010000
END:DAYLIGHT
BEGIN:STANDARD
TZOFFSETFROM:+0200
TZOFFSETTO:+0100
TZNAME:CET
DTSTART:20241027T010000
END:STANDARD
BEGIN:DAYLIGHT
TZOFFSETFROM:+0100
TZOFFSETTO:+0200
TZNAME:CEST
DTSTART:20250330T010000
END:DAYLIGHT
BEGIN:STANDARD
TZOFFSETFROM:+0200
TZOFFSETTO:+0100
TZNAME:CET
DTSTART:20251026T010000
END:STANDARD
BEGIN:DAYLIGHT
TZOFFSETFROM:+0100
TZOFFSETTO:+0200
TZNAME:CEST
DTSTART:20260329T010000
END:DAYLIGHT
BEGIN:STANDARD
TZOFFSETFROM:+0200
TZOFFSETTO:+0100
TZNAME:CET
DTSTART:20261025T010000
END:STANDARD
END:VTIMEZONE
BEGIN:VEVENT
DTSTART;TZID=Europe/Paris:20250502T094500
DTEND;TZID=Europe/Paris:20250502T104500
DTSTAMP:20260425T153518
CREATED:20250428T150457Z
LAST-MODIFIED:20250428T150457Z
UID:2249-1746179100-1746182700@mairiesaintsiffret.fr
SUMMARY:🏋️👌Sport et Santé à Saint-Siffret à partir du vendredi 2 mai 2025👌🏋️
DESCRIPTION:On vous proposent un nouveau créneau sport / santé à Saint-Siffret à partir du vendredi 2 mai 2025\, chaque semaine\, de 9h15 à 10h45\, à la salle Le Péran (place de l’ancienne école). \nL’objectif est de vous accompagner dans la reprise d’une activité physique douce\, adaptée à vos capacités et à vos besoins de santé (pathologies chroniques\, ALD\, ou simplement envie d’améliorer votre qualité de vie). L’activité est encadrée par une éducatrice socio-sportive diplômée APA (Activité Physique Adaptée). \nPour plus d’informations et vous inscrire : lmesnil@ufolep.org \n07 49 83 73 12 \n 
URL:https://mairiesaintsiffret.fr/agenda/%f0%9f%8f%8b%ef%b8%8f%f0%9f%91%8csport-et-sante-a-saint-siffret-a-partir-du-vendredi-2-mai-2025%f0%9f%91%8c%f0%9f%8f%8b%ef%b8%8f/
ATTACH;FMTTYPE=application/pdf:https://mairiesaintsiffret.fr/wp-content/uploads/2025/04/Flyer-UFO3S-UZES-1.pdf
END:VEVENT
BEGIN:VEVENT
DTSTART;TZID=Europe/Paris:20250517T140000
DTEND;TZID=Europe/Paris:20250517T190000
DTSTAMP:20260425T153518
CREATED:20250414T142641Z
LAST-MODIFIED:20250414T143533Z
UID:1608-1747490400-1747508400@mairiesaintsiffret.fr
SUMMARY:💽💥🤸🏾Battle NEW GENERATION🤸🏾💥💽
DESCRIPTION:Le samedi 17 mai a partir de 10h avec DJ TAJ MAHAL \n✨Stage de 10h à 12h \n✨Cercles à 13h \n✨Battles à 14h \nEntrés 5 €( gratuit pour les danseurs).  Buvette et restauration sur place \n 
URL:https://mairiesaintsiffret.fr/agenda/%f0%9f%92%bd%f0%9f%92%a5%f0%9f%a4%b8%f0%9f%8f%bebattle-new-generation%f0%9f%a4%b8%f0%9f%8f%be%f0%9f%92%a5%f0%9f%92%bd/
LOCATION:Foyer W. Broche\, Route de Saint-Maximin\, Saint-Siffret\, 30700
ATTACH;FMTTYPE=image/jpeg:https://mairiesaintsiffret.fr/wp-content/uploads/2025/04/Battle-17-mai.jpg
END:VEVENT
BEGIN:VEVENT
DTSTART;TZID=Europe/Paris:20250517T180000
DTEND;TZID=Europe/Paris:20250518T000000
DTSTAMP:20260425T153518
CREATED:20250414T143303Z
LAST-MODIFIED:20250414T145357Z
UID:1611-1747504800-1747526400@mairiesaintsiffret.fr
SUMMARY:🎉🥳🎇Fête annuelle au club house🎇 🥳🎉
DESCRIPTION:Organisé par le Tennis Club La Pinède
URL:https://mairiesaintsiffret.fr/agenda/%f0%9f%8e%89%f0%9f%a5%b3%f0%9f%8e%87fete-annuelle-au-club-house%f0%9f%8e%87-%f0%9f%a5%b3%f0%9f%8e%89/
LOCATION:Club House
END:VEVENT
BEGIN:VEVENT
DTSTART;VALUE=DATE:20250519
DTEND;VALUE=DATE:20250528
DTSTAMP:20260425T153518
CREATED:20250520T192034Z
LAST-MODIFIED:20250520T192034Z
UID:2332-1747612800-1748390399@mairiesaintsiffret.fr
SUMMARY:UNE SEMAINE SANS ÉCRAN - Programme 🙅‍♀️
DESCRIPTION:À l’initiative des enseignantes de l’école de Saint-Siffret\, notre village participe cette année encore à la semaine nationale sans écran. \nAssociations\, Parents\, Grands-Parents\, Mairie\, citoyens et surtout les enseignantes animeront cette semaine qui sera riche en activités pour nos chers petits ! \nPendant neuf jours\, du 19 au 27 mai\, on essaie de ne pas regarder les écrans de loisirs (télévision\, tablette\, ordi\, console\, de jeux\, smartphone\, etc.). Une occasion pour toute la famille\, de faire un pas de côté pour réfléchir à la place des écrans dans notre quotidien.Une occasion pour toute la famille\, de faire un pas de côté pour réfléchir à la place des écrans dans notre quotidien. \nPROGRAMME DE LA SEMAINE DU LUNDI 19 AU VENDREDI 23 MAI :\nLieu : Ecole de Saint-Siffret
URL:https://mairiesaintsiffret.fr/agenda/une-semaine-sans-ecran-programme-%f0%9f%99%85%e2%99%80%ef%b8%8f/
CATEGORIES:Ecole de Saint-Siffret
ATTACH;FMTTYPE=image/jpeg:https://mairiesaintsiffret.fr/wp-content/uploads/2025/05/IMG_2500.jpeg
END:VEVENT
BEGIN:VEVENT
DTSTART;TZID=Europe/Paris:20250521T180000
DTEND;TZID=Europe/Paris:20250521T203000
DTSTAMP:20260425T153518
CREATED:20250516T143232Z
LAST-MODIFIED:20250516T143505Z
UID:2267-1747850400-1747859400@mairiesaintsiffret.fr
SUMMARY:Formation au compostage
DESCRIPTION:Au Foyer William Broche
URL:https://mairiesaintsiffret.fr/agenda/formation-au-compostage-3/
LOCATION:Foyer W. Broche\, Route de Saint-Maximin\, Saint-Siffret\, 30700
ATTACH;FMTTYPE=image/jpeg:https://mairiesaintsiffret.fr/wp-content/uploads/2025/05/Saint-Siffret-au-foyer-mercredi-21-mai-2025-a-18h00-1.jpg
END:VEVENT
BEGIN:VEVENT
DTSTART;TZID=Europe/Paris:20250524T150000
DTEND;TZID=Europe/Paris:20250524T230000
DTSTAMP:20260425T153518
CREATED:20250414T144445Z
LAST-MODIFIED:20250520T193208Z
UID:1620-1748098800-1748127600@mairiesaintsiffret.fr
SUMMARY:🕵️🔐⏱GRANDE JOURNÉE SANS ÉCRAN - ANIMATIONS\, PIQUE NIQUE 🎲⚽️🎯
DESCRIPTION:Dans le cadre de la semaine sans écran\, l’association des parents d’élèves\, la Mairie\, l’association de l’entente des boulistes de l’Uzèges (EBGU)\, L’association les amis de l’âge d’or\,  l’association Peinture et Arts Plastique et David (citoyen passionné d’astronomie)\,\nVous ont préparé une journée pour vraiment se déconnecter\, petits et grands\, des écrans !\nUne belle journée de partage intergénérationnel\, avec de nombreuses animations.\n\n\nAU PROGRAMME DU SAMEDI 24 MAI : \nLieu : Foyer W. BROCHE – à Partir de 15h00 \n👉 De 15h à 18h30 : \n\nDémonstration et initiation de danse K-POP de 15h à 16h (amis de l’âge d’or)\nThéâtre de marionnettes\, pour que les enfants inventent leurs histoires\nInitiation à la pétanque (proposé et animé par Emmanuelle Oudiane\, de l’association de pétanque)\nJeux en bois (mairie)\nChallenge Flipper et Baby foot (mairie)\nChallenge Jeu de société (mairie)\nEscape Game (proposé et animé par Mélanie de la mairie)\nExpositions des dessins des enfants (par l’association peinture et arts plastiques)\nDégustation de pâtisseries fabriquées par les enfants la veille (école)\n\n👉 De 18h30 à 19h30: \n\nApéritif offert par la mairie\nAvec quelques gourmandises salées fabriquées par les enfants la veille (école)\n\n👉 De 19h30 à 20h30 : \n\nPique nique tiré du sac dans le parc du foyer.\n\n👉 De 20h30 à 22h45 : \n\nLilio et sa guitare \nConte sur les étoiles (par Mélanie et Emanuèle)\nFabrication d’une carte du ciel\, pour ceux qui vont faire l’observation du ciel (APE)\n\n👉 22h45 à … \n\nObservation du ciel animé par David (citoyen passionné d’astronomie)
URL:https://mairiesaintsiffret.fr/agenda/escape-game/
LOCATION:Foyer W. Broche\, Route de Saint-Maximin\, Saint-Siffret\, 30700
CATEGORIES:Associations,Communal,Culture,Ecole de Saint-Siffret,Sportif
ATTACH;FMTTYPE=image/jpeg:https://mairiesaintsiffret.fr/wp-content/uploads/2025/05/IMG_2500.jpeg
END:VEVENT
BEGIN:VEVENT
DTSTART;TZID=Europe/Paris:20250524T200000
DTEND;TZID=Europe/Paris:20250525T000000
DTSTAMP:20260425T153519
CREATED:20250414T143823Z
LAST-MODIFIED:20250506T115759Z
UID:1616-1748116800-1748131200@mairiesaintsiffret.fr
SUMMARY:♪🎤Soirée Georges Brassens🎤♪
DESCRIPTION:Organisé par Tous en Scène- au Parc de la Péran
URL:https://mairiesaintsiffret.fr/agenda/soiree-georges-brassens/
LOCATION:Parc de La Péran\, Place de l’ancienne école\, Saint-Siffret\, 30700
ATTACH;FMTTYPE=application/pdf:https://mairiesaintsiffret.fr/wp-content/uploads/2025/04/AFFICHE-Brassens-final-PDF.pdf
END:VEVENT
BEGIN:VEVENT
DTSTART;TZID=Europe/Paris:20250525T103000
DTEND;TZID=Europe/Paris:20250525T130000
DTSTAMP:20260425T153519
CREATED:20250520T132854Z
LAST-MODIFIED:20250520T182930Z
UID:2321-1748169000-1748178000@mairiesaintsiffret.fr
SUMMARY:🥁 La Rando Ecolo du CME - nettoyons la nature ♻🥾
DESCRIPTION:Dans le cadre de la semaine sans écrans\, les élus du Conseil Municipal des Enfants ont le plaisir de vous inviter à participer à une RANDO ECOLO 💪\n👉 le but :\nRamasser le maximum de déchets à l’occasion d’une balade dans notre beau village 🥰\n👉 ce dimanche 25 mai\n👉 départ du foyer Broche à 10h30 🕥\n👉 itinéraire libre pour chaque participant \nLes déchets collectés seront pesés 🏋à la fin de la matinée par les enfants 🧒🏻 \nUn apéritif offert par le CME clôturera la matinée à partir de 12h30 au Foyer 😊 \nLes enfants vous attendent nombreux et nombreuses\, gants 🧤 à la main et baskets aux pieds pour les aider dans leurs initiatives 👏 \nBonne soirée à tous
URL:https://mairiesaintsiffret.fr/agenda/%f0%9f%a5%81-la-rando-ecolo-du-cme-cest-ce-dimanche-%e2%99%bb%f0%9f%a5%be/
CATEGORIES:Conseil municipal des enfants
ATTACH;FMTTYPE=image/jpeg:https://mairiesaintsiffret.fr/wp-content/uploads/2025/05/Rando-ecolo.jpg
END:VEVENT
BEGIN:VEVENT
DTSTART;TZID=Europe/Paris:20250526T140000
DTEND;TZID=Europe/Paris:20250526T170000
DTSTAMP:20260425T153519
CREATED:20250423T112344Z
LAST-MODIFIED:20250424T174227Z
UID:2209-1748268000-1748278800@mairiesaintsiffret.fr
SUMMARY:♻️ Distribution des sacs jaunes ♻️
DESCRIPTION:À partir du 1er MAI 2025\, la distribution des sacs jaunes aura lieu 2 fois par mois en mairie : \nTous les derniers LUNDIS de chaque mois de 14h00 à 17H00 \net \nTous les derniers MERCREDIS de chaque mois de 8H00 à 12h00 \nMerci pour votre compréhension. \nLes services de la Mairie.
URL:https://mairiesaintsiffret.fr/agenda/distribution-des-sacs-jaunes/
LOCATION:Mairie de Saint-Siffret\, Route de Saint-Maximin\, Saint-Siffret\, 30700
CATEGORIES:Communal
ATTACH;FMTTYPE=image/png:https://mairiesaintsiffret.fr/wp-content/uploads/2025/04/Pour-les-habitants-de-Saint-Siffret-1.png
ORGANIZER;CN="Mairie de Saint-Siffret":MAILTO:contact@mairiesaintsiffret.fr
END:VEVENT
BEGIN:VEVENT
DTSTART;TZID=Europe/Paris:20250528T080000
DTEND;TZID=Europe/Paris:20250528T120000
DTSTAMP:20260425T153519
CREATED:20250423T112541Z
LAST-MODIFIED:20250424T174055Z
UID:2212-1748419200-1748433600@mairiesaintsiffret.fr
SUMMARY:♻️ Distribution des sacs jaunes ♻️
DESCRIPTION:À partir du 1er MAI 2025\, la distribution des sacs jaunes aura lieu 2 fois par mois en mairie : \nTous les derniers LUNDIS de chaque mois de 14h00 à 17H00 \net \nTous les derniers MERCREDIS de chaque mois de 8H00 à 12h00 \nMerci pour votre compréhension. \nLes services de la Mairie.
URL:https://mairiesaintsiffret.fr/agenda/%e2%99%bb%ef%b8%8f-distribution-des-sacs-jaunes-%e2%99%bb%ef%b8%8f/
LOCATION:Mairie de Saint-Siffret\, Route de Saint-Maximin\, Saint-Siffret\, 30700
CATEGORIES:Communal
ATTACH;FMTTYPE=image/png:https://mairiesaintsiffret.fr/wp-content/uploads/2025/04/Pour-les-habitants-de-Saint-Siffret-1.png
ORGANIZER;CN="Mairie de Saint-Siffret":MAILTO:contact@mairiesaintsiffret.fr
END:VEVENT
BEGIN:VEVENT
DTSTART;TZID=Europe/Paris:20250528T180000
DTEND;TZID=Europe/Paris:20250528T193000
DTSTAMP:20260425T153519
CREATED:20250501T073429Z
LAST-MODIFIED:20250501T073429Z
UID:2252-1748455200-1748460600@mairiesaintsiffret.fr
SUMMARY:📣 RÉUNION PUBLIQUE D’INFORMATION - Participation Citoyenne 🇫🇷
DESCRIPTION:📣 RÉUNION PUBLIQUE D’INFORMATION – PARTICIPATION CITOYENNE\n👮 Afin d’améliorer la sécurité de Saint-Siffret et de ses habitants\, la Municipalité souhaite mettre en place cette année\, en partenariat avec la Préfecture du Gard et les services de la Gendarmerie Nationale\, le dispositif de Participation Citoyenne. \n👉 Une réunion publique d’information se tiendra le mercredi 28 mai à partir de 18h00\, au foyer W. Broche \n🤝 Elle permettra de présenter ce dispositif qui consiste à faire participer les citoyens à la sécurité de la commune\, et à développer le contact avec les forces de sécurité de l’État. \nNous vous attendons nombreux pour cette réunion publique d’information\, afin d’échanger ensemble sur l’intérêt de la mise en place de ce dispositif sur notre village. \n\nℹ️ Qu’est que le dispositif de « Participation citoyenne » ?\nil s’agit d’un réseau de citoyens au sein de la population locale ( Bénévoles et sans prérogative de puissance publique) en lien avec les Forces de Sécurité de l’État (FSE)\, la gendarmerie\, afin de : \n\nDévelopper une culture de la sécurité auprès des habitants et susciter l’adhésion\,\nRenforcer le contact avec les forces de sécurité de l’État et la population\,\n Compléter des actions locales de prévention de la délinquance.\n\nDes référents seront désignés sur la base du volontariat et validés par les services de la gendarmerie afin d’être en lien direct avec les services de la Gendarmerie Nationale et la Police Municipale\, via un groupe privé WhatsApp. \nLe dispositif est encadré par la signature obligatoire d’un protocole\, par le Préfet\, la gendarmerie et la mairie. \nLe maire et la gendarmerie animent ce réseau en sensibilisant les citoyens référents : \n\nAu postures de vigilance\,\nAux gestes de prévention\,\nAux réflexes à développer
URL:https://mairiesaintsiffret.fr/agenda/%f0%9f%93%a3-reunion-publique-dinformation-participation-citoyenne-%f0%9f%87%ab%f0%9f%87%b7/
LOCATION:Foyer W. Broche\, Route de Saint-Maximin\, Saint-Siffret\, 30700
CATEGORIES:Communal
ATTACH;FMTTYPE=image/png:https://mairiesaintsiffret.fr/wp-content/uploads/2025/05/Sans-titre-297-x-420-mm.png
ORGANIZER;CN="Mairie de Saint-Siffret":MAILTO:contact@mairiesaintsiffret.fr
END:VEVENT
BEGIN:VEVENT
DTSTART;TZID=Europe/Paris:20250531T143000
DTEND;TZID=Europe/Paris:20250531T170000
DTSTAMP:20260425T153519
CREATED:20250415T073544Z
LAST-MODIFIED:20250520T131400Z
UID:1631-1748701800-1748710800@mairiesaintsiffret.fr
SUMMARY:🏐♬🎭La pétanque entre en scène🎭♬🏐
DESCRIPTION:Samedi 31 mai 2025 au boulodrome de Saint-Siffret \nPièce de Théâtre « Les Pieds tanqués » a 17h \nSuivie d’une Soirée musical \nRepas et bal animés par groupes musicaux a partir de 19h \nRepas: rougail saucisse\, fromage\, dessert et café \nOrganisé par L’EGBU et Tous en Scène.
URL:https://mairiesaintsiffret.fr/agenda/la-petanque-entre-en-scene/
LOCATION:Boulodrome
ATTACH;FMTTYPE=image/jpeg:https://mairiesaintsiffret.fr/wp-content/uploads/2025/04/Affiche-EBGU_page-0001.jpg
END:VEVENT
END:VCALENDAR