BEGIN:VCALENDAR
VERSION:2.0
PRODID:-//Mairie de Saint Siffret - ECPv6.15.20//NONSGML v1.0//EN
CALSCALE:GREGORIAN
METHOD:PUBLISH
X-ORIGINAL-URL:https://mairiesaintsiffret.fr
X-WR-CALDESC:Évènements pour Mairie de Saint Siffret
REFRESH-INTERVAL;VALUE=DURATION:PT1H
X-Robots-Tag:noindex
X-PUBLISHED-TTL:PT1H
BEGIN:VTIMEZONE
TZID:Europe/Paris
BEGIN:DAYLIGHT
TZOFFSETFROM:+0100
TZOFFSETTO:+0200
TZNAME:CEST
DTSTART:20240331T010000
END:DAYLIGHT
BEGIN:STANDARD
TZOFFSETFROM:+0200
TZOFFSETTO:+0100
TZNAME:CET
DTSTART:20241027T010000
END:STANDARD
BEGIN:DAYLIGHT
TZOFFSETFROM:+0100
TZOFFSETTO:+0200
TZNAME:CEST
DTSTART:20250330T010000
END:DAYLIGHT
BEGIN:STANDARD
TZOFFSETFROM:+0200
TZOFFSETTO:+0100
TZNAME:CET
DTSTART:20251026T010000
END:STANDARD
BEGIN:DAYLIGHT
TZOFFSETFROM:+0100
TZOFFSETTO:+0200
TZNAME:CEST
DTSTART:20260329T010000
END:DAYLIGHT
BEGIN:STANDARD
TZOFFSETFROM:+0200
TZOFFSETTO:+0100
TZNAME:CET
DTSTART:20261025T010000
END:STANDARD
END:VTIMEZONE
BEGIN:VEVENT
DTSTART;TZID=Europe/Paris:20250702T133000
DTEND;TZID=Europe/Paris:20250702T170000
DTSTAMP:20260425T122729
CREATED:20250617T105238Z
LAST-MODIFIED:20250617T105238Z
UID:2457-1751463000-1751475600@mairiesaintsiffret.fr
SUMMARY:Atelier voix et percussions corporelles
DESCRIPTION:ℹ️ Atelier voix et percussions corporelles \nLe 02.07 de 13h30 à 17h00 inscription : milianjeanyves@gmail.com // \n06 78 55 86 65 mercredi 02 juillet à 20h SAINT-SIFFRET -—
URL:https://mairiesaintsiffret.fr/agenda/atelier-voix-et-percussions-corporelles/
ATTACH;FMTTYPE=image/jpeg:https://mairiesaintsiffret.fr/wp-content/uploads/2025/06/Affiche-Atelier-voix-Saint-Siffret-02-07-3-1.jpg
END:VEVENT
BEGIN:VEVENT
DTSTART;TZID=Europe/Paris:20250702T133000
DTEND;TZID=Europe/Paris:20250702T220000
DTSTAMP:20260425T122729
CREATED:20250606T144227Z
LAST-MODIFIED:20250617T105302Z
UID:2441-1751463000-1751493600@mairiesaintsiffret.fr
SUMMARY:🎤🪘Concert Quatuor Vocal & Percussion🪘🎤
DESCRIPTION:UN QUATUOR VOCAL & PERCUSSIONS \n👉Ilyana DOUARCHE\, Camille BOUGHERABA\, Alex MOUTOUSSAMY\, Clément CHARLON.\n🌟chanson française\, percussions corporelles\, jazz\n👉Parc de la Péran Entrée libre au Chapeau \n 
URL:https://mairiesaintsiffret.fr/agenda/%f0%9f%8e%a4%f0%9f%aa%98concert-quatuor-vocal-percussion%f0%9f%aa%98%f0%9f%8e%a4/
LOCATION:Parc de La Péran\, Place de l’ancienne école\, Saint-Siffret\, 30700
ATTACH;FMTTYPE=image/jpeg:https://mairiesaintsiffret.fr/wp-content/uploads/2025/06/Affiche-Concert-Saint-Siffret-02-07-1.jpg
END:VEVENT
BEGIN:VEVENT
DTSTART;TZID=Europe/Paris:20250702T150000
DTEND;TZID=Europe/Paris:20250702T160000
DTSTAMP:20260425T122729
CREATED:20250702T101950Z
LAST-MODIFIED:20250702T140429Z
UID:2533-1751468400-1751472000@mairiesaintsiffret.fr
SUMMARY:📖L'HEURE DES HISTOIRES
DESCRIPTION:📗L’HEURE DES HISTOIRES à l’Espace Culturel : \nRendez-vous incontournable pour les petits et grands rêveurs !\nChaque premier mercredi du mois\, l’Espace Culturel ouvre grand les portes de l’imaginaire avec L’Heure des Histoires. \n✨ Contes\, albums et aventures merveilleuses attendent les enfants\, parents et grands-parents pour un moment de lecture doux\, ludique et plein de surprises. \n📍 Où ? À l’Espace Culturel – Foyer William Broche\, Rte de Saint Maximin.\n📅 Quand ? Le premier mercredi de chaque mois\n👶 Pour qui ? Ouvert et gratuit pour tous !\n🕓 Heure ? À 15 H \nVenez partager un instant magique autour des livres ! 📚💫
URL:https://mairiesaintsiffret.fr/agenda/%f0%9f%93%96lheure-des-histoires/
LOCATION:Espace culturel – Foyer W. Broche\, Route de Saint-Maximin\, Saint-Siffret\, 30700
CATEGORIES:Culture
ORGANIZER;CN="espace culturel":MAILTO:espace-culturel@mairiesaintsiffret.fr
END:VEVENT
BEGIN:VEVENT
DTSTART;TZID=Europe/Paris:20250705T150000
DTEND;TZID=Europe/Paris:20250705T180000
DTSTAMP:20260425T122729
CREATED:20250703T120202Z
LAST-MODIFIED:20250703T120202Z
UID:2717-1751727600-1751738400@mairiesaintsiffret.fr
SUMMARY:🎲APRÈS-MIDI JEUX DE SOCIÉTÉ 📚
DESCRIPTION:La bibliothèque vous invite à partager un moment convivial et ludique lors de ses après-midis jeux de société ! 🎉 \nVenez découvrir ou redécouvrir le plaisir de jouer ensemble\, que vous soyez joueur débutant\, passionné ou simplement curieux. \n🕒 Quand ?\nTous les samedis de 15H à 18H \n📍 Où ?\nÀ l’Espace Culturel – Foyer William Broche\, Rte de Saint Maximin. \n👨‍👩‍👧‍👦 Pour qui ?\nCes rencontres sont ouvertes à tous : enfants\, adolescents\, adultes et familles. \nDes jeux adaptés à chaque âge et à chaque envie seront disponibles\, du jeu de stratégie au jeu de coopération\, en passant par les grands classiques. \n🎯 Pourquoi venir ?\nPour s’amuser\, rencontrer de nouvelles personnes\, découvrir de nouveaux jeux et passer un bon moment en toute simplicité !
URL:https://mairiesaintsiffret.fr/agenda/%f0%9f%8e%b2apres-midi-jeux-de-societe-%f0%9f%93%9a/
LOCATION:Espace culturel – Foyer W. Broche\, Route de Saint-Maximin\, Saint-Siffret\, 30700
CATEGORIES:Culture
ORGANIZER;CN="espace culturel":MAILTO:espace-culturel@mairiesaintsiffret.fr
END:VEVENT
BEGIN:VEVENT
DTSTART;TZID=Europe/Paris:20250712T150000
DTEND;TZID=Europe/Paris:20250712T160000
DTSTAMP:20260425T122729
CREATED:20250704T153812Z
LAST-MODIFIED:20250709T150441Z
UID:2725-1752332400-1752336000@mairiesaintsiffret.fr
SUMMARY:🎲APRÈS-MIDI JEUX DE SOCIÉTÉ 📚
DESCRIPTION:La bibliothèque vous invite à partager un moment convivial et ludique lors de ses après-midis jeux de société ! 🎉 \nVenez découvrir ou redécouvrir le plaisir de jouer ensemble\, que vous soyez joueur débutant\, passionné ou simplement curieux. \n🕒 Quand ?\nTous les samedis de 15H à 18H \n📍 Où ?\nÀ l’Espace Culturel – Foyer William Broche\, Rte de Saint Maximin. \n👨‍👩‍👧‍👦 Pour qui ?\nCes rencontres sont ouvertes à tous : enfants\, adolescents\, adultes et familles. \nDes jeux adaptés à chaque âge et à chaque envie seront disponibles\, du jeu de stratégie au jeu de coopération\, en passant par les grands classiques. \n🎯 Pourquoi venir ?\nPour s’amuser\, rencontrer de nouvelles personnes\, découvrir de nouveaux jeux et passer un bon moment en toute simplicité !
URL:https://mairiesaintsiffret.fr/agenda/%f0%9f%8e%b2apres-midi-jeux-de-societe-%f0%9f%93%9a-2/
LOCATION:Espace culturel – Foyer W. Broche\, Route de Saint-Maximin\, Saint-Siffret\, 30700
CATEGORIES:Culture
ATTACH;FMTTYPE=image/jpeg:https://mairiesaintsiffret.fr/wp-content/uploads/2025/07/Apres-midi-jeux-_page-0001.jpg
ORGANIZER;CN="espace culturel":MAILTO:espace-culturel@mairiesaintsiffret.fr
END:VEVENT
BEGIN:VEVENT
DTSTART;TZID=Europe/Paris:20250714T190000
DTEND;TZID=Europe/Paris:20250714T235900
DTSTAMP:20260425T122729
CREATED:20250415T083026Z
LAST-MODIFIED:20250710T110257Z
UID:1648-1752519600-1752537540@mairiesaintsiffret.fr
SUMMARY:🇫🇷fête nationale🇫🇷
DESCRIPTION:Venez nombreux fêter le 14 juillet 2025 au parc de la Péran \nA partir de 19 heures. \nAu programme: \n👉Repas et Animation musicale \nInscriptions obligatoire en mairie avant le 11 juillet 2025 \nTarif :\n👉5 Euros pour les 5 à 14 ans\n👉10 Euros pour les résidents\n👉20 Euros pour les non-résidents \nOrganisé par la Mairie de Saint-Siffret.
URL:https://mairiesaintsiffret.fr/agenda/%f0%9f%8e%87fete-national%f0%9f%8e%87/
LOCATION:Parc de La Péran\, Place de l’ancienne école\, Saint-Siffret\, 30700
ATTACH;FMTTYPE=image/jpeg:https://mairiesaintsiffret.fr/wp-content/uploads/2025/04/20250624170705_page-0001.jpg
ORGANIZER;CN="Mairie de Saint-Siffret":MAILTO:contact@mairiesaintsiffret.fr
END:VEVENT
BEGIN:VEVENT
DTSTART;TZID=Europe/Paris:20250719T150000
DTEND;TZID=Europe/Paris:20250719T160000
DTSTAMP:20260425T122729
CREATED:20250714T080008Z
LAST-MODIFIED:20250709T150747Z
UID:2742-1752937200-1752940800@mairiesaintsiffret.fr
SUMMARY:🎲APRÈS-MIDI JEUX DE SOCIÉTÉ 📚
DESCRIPTION:La bibliothèque vous invite à partager un moment convivial et ludique lors de ses après-midis jeux de société ! 🎉 \nVenez découvrir ou redécouvrir le plaisir de jouer ensemble\, que vous soyez joueur débutant\, passionné ou simplement curieux. \n🕒 Quand ?\nTous les samedis de 15H à 18H \n📍 Où ?\nÀ l’Espace Culturel – Foyer William Broche\, Rte de Saint Maximin. \n👨‍👩‍👧‍👦 Pour qui ?\nCes rencontres sont ouvertes à tous : enfants\, adolescents\, adultes et familles. \nDes jeux adaptés à chaque âge et à chaque envie seront disponibles\, du jeu de stratégie au jeu de coopération\, en passant par les grands classiques. \n🎯 Pourquoi venir ?\nPour s’amuser\, rencontrer de nouvelles personnes\, découvrir de nouveaux jeux et passer un bon moment en toute simplicité !
URL:https://mairiesaintsiffret.fr/agenda/%f0%9f%8e%b2apres-midi-jeux-de-societe-%f0%9f%93%9a-3/
LOCATION:Espace culturel – Foyer W. Broche\, Route de Saint-Maximin\, Saint-Siffret\, 30700
CATEGORIES:Culture
ATTACH;FMTTYPE=image/jpeg:https://mairiesaintsiffret.fr/wp-content/uploads/2025/07/Apres-midi-jeux-_page-0001.jpg
ORGANIZER;CN="espace culturel":MAILTO:espace-culturel@mairiesaintsiffret.fr
END:VEVENT
BEGIN:VEVENT
DTSTART;TZID=Europe/Paris:20250719T173000
DTEND;TZID=Europe/Paris:20250719T173000
DTSTAMP:20260425T122729
CREATED:20250710T091730Z
LAST-MODIFIED:20250710T105809Z
UID:2758-1752946200-1752946200@mairiesaintsiffret.fr
SUMMARY:🏐Pétanque pour tous en triplettes montées🏐
DESCRIPTION:Samedi 19 juillet \n👉 17h30 Inscription sur place \n👉 5 euros pour les non adhérents \n👉 3 euros pour les adhérents EGBU \nEnfants à partir de 12 ans \n👉18h lancer de bouchon \n👉22h30 Récompense
URL:https://mairiesaintsiffret.fr/agenda/petanque-pour-tous-en-triplettes-montees/
ATTACH;FMTTYPE=image/jpeg:https://mairiesaintsiffret.fr/wp-content/uploads/2025/07/IMG-20250708-WA0009.jpg
END:VEVENT
BEGIN:VEVENT
DTSTART;TZID=Europe/Paris:20250721T190000
DTEND;TZID=Europe/Paris:20250722T010000
DTSTAMP:20260425T122729
CREATED:20250701T100144Z
LAST-MODIFIED:20250710T105845Z
UID:2523-1753124400-1753146000@mairiesaintsiffret.fr
SUMMARY:🇧🇪Fête nationale Belge🇧🇪
DESCRIPTION:Le 21 nous célébrons la fête nationale Belge au parc de la Péran de 19h00 à 01h00 du mat !\nAu menu moules frites sur réservation (06 73 87 93 05) et petite restauration\, date limite de la réservation le 16 juillet 2025. \nCommémorons ensemble le serment du 21 juillet 19831 autour d’un repas et de quelques boissons fraiches ! \nLe tout accompagné de la musique non moins rafraichissante de DJ Galindo !!
URL:https://mairiesaintsiffret.fr/agenda/fete-nationale-belge/
LOCATION:Parc de La Péran\, Place de l’ancienne école\, Saint-Siffret\, 30700
ATTACH;FMTTYPE=image/png:https://mairiesaintsiffret.fr/wp-content/uploads/2025/07/7-scaled.png
END:VEVENT
BEGIN:VEVENT
DTSTART;TZID=Europe/Paris:20250722T110000
DTEND;TZID=Europe/Paris:20250722T160000
DTSTAMP:20260425T122729
CREATED:20250701T145112Z
LAST-MODIFIED:20250710T110055Z
UID:2526-1753182000-1753200000@mairiesaintsiffret.fr
SUMMARY:🚴🇫🇷Le tour de france a Saint-Siffret Parc la Péran🚴🇫🇷
DESCRIPTION:le 22 juillet le Tour de France passe dans le contrebas de Saint-Siffret. A cette occasion nous vous proposons de suivre l’étape du jour avec nous au parc La Péran. \nNous serons là de 11h à 16h ! \nBuvette\, petite restauration sur place.\nUn atelier de petite réparation de vélo sera présent pour vous apprendre\, ou pour que vous appreniez les bases de la réparation  cycliste. Retransmission de l’étape du jour. \nProfitez de voir des coureurs sur la route de Bagnols\, au croisement du Centaure d’Uzès\, et venez nou rejoindre pour un moment convivial! \nEn exclusivité\, DJ Léandro pour un set live !
URL:https://mairiesaintsiffret.fr/agenda/le-tour-de-france-a-saint-siffret-parc-la-peran/
LOCATION:Parc de La Péran\, Place de l’ancienne école\, Saint-Siffret\, 30700
ATTACH;FMTTYPE=image/jpeg:https://mairiesaintsiffret.fr/wp-content/uploads/2025/07/20250701170348_page-0001.jpg
END:VEVENT
BEGIN:VEVENT
DTSTART;VALUE=DATE:20250726
DTEND;VALUE=DATE:20250727
DTSTAMP:20260425T122729
CREATED:20250723T135129Z
LAST-MODIFIED:20250723T135301Z
UID:2805-1753488000-1753574399@mairiesaintsiffret.fr
SUMMARY:Marc Fernandez à Saint-Siffret !
DESCRIPTION:Samedi 26 juillet : Art et Patrimoine à Saint-Siffret !Votre Espace Culturel vous donne rendez-vous au parc de La Péran dès le matin pour une journée placée sous le signe du jeu de société\, de la découverte et de la convivialité. \nAu programme : \n\nDes animations ludiques autour du jeu de société pour petits et grands\,\nLa présence du MobiLivre\,\nEt un moment privilégié avec Marc Fernandez\, auteur de Goutte d’Or Connexion\, qui sera présent de 15h à 16h45 pour une rencontre et une séance de dédicaces. Son dernier ouvrage est d’ores et déjà disponible dans votre Espace Culturel !\n\nVenez nombreux partager ce beau moment culturel avec nous !
URL:https://mairiesaintsiffret.fr/agenda/marc-fernandez-a-saint-siffret/
LOCATION:Parc de La Péran\, Place de l’ancienne école\, Saint-Siffret\, 30700
CATEGORIES:Culture
ATTACH;FMTTYPE=image/jpeg:https://mairiesaintsiffret.fr/wp-content/uploads/2025/07/Programme_Marc_Fernandez_BLEED-2_page-0001-1-scaled.jpg
ORGANIZER;CN="espace culturel":MAILTO:espace-culturel@mairiesaintsiffret.fr
END:VEVENT
BEGIN:VEVENT
DTSTART;TZID=Europe/Paris:20250726T080000
DTEND;TZID=Europe/Paris:20250727T170000
DTSTAMP:20260425T122729
CREATED:20250415T080643Z
LAST-MODIFIED:20250627T134942Z
UID:1646-1753516800-1753635600@mairiesaintsiffret.fr
SUMMARY:🖼️🤩🏛️Festival Art et Patrimoine🏛️🤩🖼️
DESCRIPTION:La mairie de Saint-Siffret\, en partenariat avec l’association Tous en scène Saint-Siffret\, ont le plaisir de vous annoncer que la 5ème édition du festival d’art contemporain « Art & Patrimoine » se déroulera les 26 et 27 juillet 2025 !\n\n\n\n\n\n\nAu programme: \n⭐ Un week-end dédié à l’Art \n⭐ La découverte du patrimoine (3 visites guidées gratuites -samedi 17h30\, dimanche 10h30 et 17h30) \n⭐ 60 artistes exposants \n⭐ Chasse au trésor pour les enfants (Les Mystères de Saint-Siffret – gratuit) \n⭐ Concert Sud Musique (samedi 21h30 – gratuit) \n⭐ Petite restauration \nVenez nombreux flâner dans Saint-Siffret à la découverte d’Artistes talentueux. 🤩 \n 
URL:https://mairiesaintsiffret.fr/agenda/%f0%9f%96%bc%ef%b8%8f%f0%9f%a4%a9%f0%9f%8f%9b%ef%b8%8ffestival-art-et-patrimoine%f0%9f%8f%9b%ef%b8%8f%f0%9f%a4%a9%f0%9f%96%bc%ef%b8%8f/
ATTACH;FMTTYPE=image/jpeg:https://mairiesaintsiffret.fr/wp-content/uploads/2025/04/art-et-patrimoine-2025.jpg
ORGANIZER;CN="Mairie de Saint-Siffret":MAILTO:contact@mairiesaintsiffret.fr
END:VEVENT
BEGIN:VEVENT
DTSTART;TZID=Europe/Paris:20250726T150000
DTEND;TZID=Europe/Paris:20250726T160000
DTSTAMP:20260425T122729
CREATED:20250721T080030Z
LAST-MODIFIED:20250709T150710Z
UID:2747-1753542000-1753545600@mairiesaintsiffret.fr
SUMMARY:🎲APRÈS-MIDI JEUX DE SOCIÉTÉ 📚
DESCRIPTION:La bibliothèque vous invite à partager un moment convivial et ludique lors de ses après-midis jeux de société ! 🎉 \nVenez découvrir ou redécouvrir le plaisir de jouer ensemble\, que vous soyez joueur débutant\, passionné ou simplement curieux. \n🕒 Quand ?\nTous les samedis de 15H à 18H \n📍 Où ?\nÀ l’Espace Culturel – Foyer William Broche\, Rte de Saint Maximin. \n👨‍👩‍👧‍👦 Pour qui ?\nCes rencontres sont ouvertes à tous : enfants\, adolescents\, adultes et familles. \nDes jeux adaptés à chaque âge et à chaque envie seront disponibles\, du jeu de stratégie au jeu de coopération\, en passant par les grands classiques. \n🎯 Pourquoi venir ?\nPour s’amuser\, rencontrer de nouvelles personnes\, découvrir de nouveaux jeux et passer un bon moment en toute simplicité !
URL:https://mairiesaintsiffret.fr/agenda/%f0%9f%8e%b2apres-midi-jeux-de-societe-%f0%9f%93%9a-4/
LOCATION:Espace culturel – Foyer W. Broche\, Route de Saint-Maximin\, Saint-Siffret\, 30700
CATEGORIES:Culture
ATTACH;FMTTYPE=image/jpeg:https://mairiesaintsiffret.fr/wp-content/uploads/2025/07/Apres-midi-jeux-_page-0001.jpg
ORGANIZER;CN="espace culturel":MAILTO:espace-culturel@mairiesaintsiffret.fr
END:VEVENT
BEGIN:VEVENT
DTSTART;TZID=Europe/Paris:20250728T140000
DTEND;TZID=Europe/Paris:20250728T170000
DTSTAMP:20260425T122729
CREATED:20250423T112827Z
LAST-MODIFIED:20250424T173812Z
UID:2220-1753711200-1753722000@mairiesaintsiffret.fr
SUMMARY:♻️ Distribution des sacs jaunes ♻️
DESCRIPTION:À partir du 1er MAI 2025\, la distribution des sacs jaunes aura lieu 2 fois par mois en mairie : \nTous les derniers LUNDIS de chaque mois de 14h00 à 17H00 \net \nTous les derniers MERCREDIS de chaque mois de 8H00 à 12h00 \nMerci pour votre compréhension. \nLes services de la Mairie.
URL:https://mairiesaintsiffret.fr/agenda/%e2%99%bb%ef%b8%8f-distribution-des-sacs-jaunes-%e2%99%bb%ef%b8%8f-5/
LOCATION:Mairie de Saint-Siffret\, Route de Saint-Maximin\, Saint-Siffret\, 30700
CATEGORIES:Communal
ATTACH;FMTTYPE=image/png:https://mairiesaintsiffret.fr/wp-content/uploads/2025/04/Pour-les-habitants-de-Saint-Siffret-1.png
ORGANIZER;CN="Mairie de Saint-Siffret":MAILTO:contact@mairiesaintsiffret.fr
END:VEVENT
BEGIN:VEVENT
DTSTART;TZID=Europe/Paris:20250730T080000
DTEND;TZID=Europe/Paris:20250730T120000
DTSTAMP:20260425T122729
CREATED:20250423T112753Z
LAST-MODIFIED:20250424T173719Z
UID:2218-1753862400-1753876800@mairiesaintsiffret.fr
SUMMARY:♻️ Distribution des sacs jaunes ♻️
DESCRIPTION:À partir du 1er MAI 2025\, la distribution des sacs jaunes aura lieu 2 fois par mois en mairie : \nTous les derniers LUNDIS de chaque mois de 14h00 à 17H00 \net \nTous les derniers MERCREDIS de chaque mois de 8H00 à 12h00 \nMerci pour votre compréhension. \nLes services de la Mairie.
URL:https://mairiesaintsiffret.fr/agenda/%e2%99%bb%ef%b8%8f-distribution-des-sacs-jaunes-%e2%99%bb%ef%b8%8f-4/
LOCATION:Mairie de Saint-Siffret\, Route de Saint-Maximin\, Saint-Siffret\, 30700
CATEGORIES:Communal
ATTACH;FMTTYPE=image/png:https://mairiesaintsiffret.fr/wp-content/uploads/2025/04/Pour-les-habitants-de-Saint-Siffret-1.png
ORGANIZER;CN="Mairie de Saint-Siffret":MAILTO:contact@mairiesaintsiffret.fr
END:VEVENT
END:VCALENDAR