BEGIN:VCALENDAR
VERSION:2.0
PRODID:-//Mairie de Saint Siffret - ECPv6.15.20//NONSGML v1.0//EN
CALSCALE:GREGORIAN
METHOD:PUBLISH
X-ORIGINAL-URL:https://mairiesaintsiffret.fr
X-WR-CALDESC:Évènements pour Mairie de Saint Siffret
REFRESH-INTERVAL;VALUE=DURATION:PT1H
X-Robots-Tag:noindex
X-PUBLISHED-TTL:PT1H
BEGIN:VTIMEZONE
TZID:Europe/Paris
BEGIN:DAYLIGHT
TZOFFSETFROM:+0100
TZOFFSETTO:+0200
TZNAME:CEST
DTSTART:20240331T010000
END:DAYLIGHT
BEGIN:STANDARD
TZOFFSETFROM:+0200
TZOFFSETTO:+0100
TZNAME:CET
DTSTART:20241027T010000
END:STANDARD
BEGIN:DAYLIGHT
TZOFFSETFROM:+0100
TZOFFSETTO:+0200
TZNAME:CEST
DTSTART:20250330T010000
END:DAYLIGHT
BEGIN:STANDARD
TZOFFSETFROM:+0200
TZOFFSETTO:+0100
TZNAME:CET
DTSTART:20251026T010000
END:STANDARD
BEGIN:DAYLIGHT
TZOFFSETFROM:+0100
TZOFFSETTO:+0200
TZNAME:CEST
DTSTART:20260329T010000
END:DAYLIGHT
BEGIN:STANDARD
TZOFFSETFROM:+0200
TZOFFSETTO:+0100
TZNAME:CET
DTSTART:20261025T010000
END:STANDARD
END:VTIMEZONE
BEGIN:VEVENT
DTSTART;TZID=Europe/Paris:20250903T150000
DTEND;TZID=Europe/Paris:20250903T160000
DTSTAMP:20260423T011915
CREATED:20250803T080029Z
LAST-MODIFIED:20250716T142835Z
UID:2737-1756911600-1756915200@mairiesaintsiffret.fr
SUMMARY:📖L'HEURE DES HISTOIRES
DESCRIPTION:📗L’HEURE DES HISTOIRES à l’Espace Culturel : \nRendez-vous incontournable pour les petits et grands rêveurs !\nChaque premier mercredi du mois\, l’Espace Culturel ouvre grand les portes de l’imaginaire avec L’Heure des Histoires. \n✨ Contes\, albums et aventures merveilleuses attendent les enfants\, parents et grands-parents pour un moment de lecture doux\, ludique et plein de surprises. \n📅 Au programme : Une superbe lecture\, une animation au top : création d’une lanterne fantastique et un goûter pour les petits et grands ! \n📍 Où ? À l’Espace Culturel – Foyer William Broche\, Rte de Saint Maximin.\n📅 Quand ? Le premier mercredi de chaque mois\n👶 Pour qui ? Ouvert et gratuit pour tous !\n🕓 Heure ? À 15 H \nVenez partager un instant magique autour des livres ! 📚💫
URL:https://mairiesaintsiffret.fr/agenda/%f0%9f%93%96lheure-des-histoires-3/
LOCATION:Espace culturel – Foyer W. Broche\, Route de Saint-Maximin\, Saint-Siffret\, 30700
CATEGORIES:Culture
ATTACH;FMTTYPE=image/png:https://mairiesaintsiffret.fr/wp-content/uploads/2025/08/LHEURE-DES-HISTOIRES.png
ORGANIZER;CN="espace culturel":MAILTO:espace-culturel@mairiesaintsiffret.fr
END:VEVENT
BEGIN:VEVENT
DTSTART;TZID=Europe/Paris:20250906T133000
DTEND;TZID=Europe/Paris:20250906T170000
DTSTAMP:20260423T011915
CREATED:20250814T075816Z
LAST-MODIFIED:20250905T140629Z
UID:2842-1757165400-1757178000@mairiesaintsiffret.fr
SUMMARY:🎾 FORUM DES ASSOCIATIONS 🎶
DESCRIPTION:🥁🧘🏻‍♀️FORUM DES ASSOCIATIONS 2025 🎭 \nVous souhaitez faire une activité culturelle ou sportive à Saint-Siffret ? Ou découvrir l’offre associative de votre village ? \nLes associations de la commune vous accueilleront au Foyer Broche\, le : \n➡️ SAMEDI 06 SEPTEMBRE de 13H30 à 17h00 au foyer W. Broche\nVenez y découvrir le dynamisme de nos associations\, et pourquoi pas vous inscrire à certaines activités proposées tout au long de l’année : \n– L’Entente Bouliste des Garrigues de l’Uzège (EBGU) : pratique et concours de la pétanque \n– Tous en Scène Saint-Siffret : Cours de musique\, théâtre\, chorale (chœur de vinyles) – programmation d’évènements culturels \n– Sport & détente : Cours de gymnastique\, yoga\, pilâtes et zumba \n– Peinture et Arts Plastiques : Cours de peinture à l’huile et aquarelle (Adultes et enfants) \n– Tennis club de la Pinède : Ecole de Tennis (enfants) et pratique du tennis (pour tous) \n– Les amis de l’âge d’Or : Activités pour les séniors – balades\, chant\, généalogie\, atelier culinaires\, …. \n– Hip Hip Hop : Danse Hip Hop \n– Club de Bridge de Saint-Siffret : Pratique et cours de bridge \n– Association de chasse \n– Les amis du Centaure – Activités équestres \n– L’association des parents d’élèves (APE) \n  \nPlus d’information sur : https://mairiesaintsiffret.fr/associations-a-st-siffret/
URL:https://mairiesaintsiffret.fr/agenda/forum-des-associations-2/
LOCATION:Foyer W. Broche\, Route de Saint-Maximin\, Saint-Siffret\, 30700
CATEGORIES:Associations
ATTACH;FMTTYPE=image/png:https://mairiesaintsiffret.fr/wp-content/uploads/2025/08/Samedi-06-septembre.png
ORGANIZER;CN="Mairie de Saint-Siffret":MAILTO:contact@mairiesaintsiffret.fr
END:VEVENT
BEGIN:VEVENT
DTSTART;TZID=Europe/Paris:20250906T150000
DTEND;TZID=Europe/Paris:20250906T180000
DTSTAMP:20260423T011915
CREATED:20250901T080038Z
LAST-MODIFIED:20250816T123909Z
UID:2755-1757170800-1757181600@mairiesaintsiffret.fr
SUMMARY:🎲APRÈS-MIDI JEUX DE SOCIÉTÉ 📚
DESCRIPTION:La bibliothèque vous invite à partager un moment convivial et ludique lors de ses après-midis jeux de société ! 🎉 \nVenez découvrir ou redécouvrir le plaisir de jouer ensemble\, que vous soyez joueur débutant\, passionné ou simplement curieux. \n🕒 Quand ?\nTous les samedis de 15H à 18H \n📍 Où ?\nÀ l’Espace Culturel – Foyer William Broche\, Rte de Saint Maximin. \n👨‍👩‍👧‍👦 Pour qui ?\nCes rencontres sont ouvertes à tous : enfants\, adolescents\, adultes et familles. \nDes jeux adaptés à chaque âge et à chaque envie seront disponibles\, du jeu de stratégie au jeu de coopération\, en passant par les grands classiques. \n🎯 Pourquoi venir ?\nPour s’amuser\, rencontrer de nouvelles personnes\, découvrir de nouveaux jeux et passer un bon moment en toute simplicité !
URL:https://mairiesaintsiffret.fr/agenda/%f0%9f%8e%b2apres-midi-jeux-de-societe-%f0%9f%93%9a-8/
LOCATION:Espace culturel – Foyer W. Broche\, Route de Saint-Maximin\, Saint-Siffret\, 30700
CATEGORIES:Communal,Culture
ATTACH;FMTTYPE=image/jpeg:https://mairiesaintsiffret.fr/wp-content/uploads/2025/07/Apres-midi-jeux-_page-0001.jpg
ORGANIZER;CN="espace culturel":MAILTO:espace-culturel@mairiesaintsiffret.fr
END:VEVENT
BEGIN:VEVENT
DTSTART;TZID=Europe/Paris:20250920T080000
DTEND;TZID=Europe/Paris:20250920T233000
DTSTAMP:20260423T011915
CREATED:20250816T122343Z
LAST-MODIFIED:20250911T095721Z
UID:2931-1758355200-1758411000@mairiesaintsiffret.fr
SUMMARY:🪩 Journée Festive du comité des fêtes 🐂
DESCRIPTION:LA CLOTURE !\nLe samedi 20 SEPTEMBRE \nVENEZ FINIR LA SAISON AVEC NOUS EN CETTE PRESQUE DERNIÈRE JOURNÉE D’ÉTÉ ! \n⭐09:00:  LE FAMEUX CONCOURS DE BELOTE ! (PRIX POUR LES PREMIERS ET DEUXIÈMES) (5E/PERS)\n⭐11:30 : TAUREAU PISCINE (MANADE LA CLASTRE)\n⭐13:00: -APÉRITIF ANIMÉ PAR DJ LEANDRO !\n-SANGLIER À LA BROCHE (SUR RÉSERVATION 0673879305 AVANT LE 19/09) PLAT/DESSERT/CAFÉ 18 EUROS\n⭐14:30: CONCOURS DE PÉTANQUE (5E/PERS)\n⭐18:30: LE DERNIER TAUREAU PISCINE DE LA SAISON I\n⭐SOIRÉE :  DJ GALINDO POUR NOUS AMBIANCER JUSQU’AU BOUT DE LA NUIT (01H00\, ON SE CALME II) \n*NAVETTES GRATUITES POUR LE LOFT \nINFORMATIONS/RESERVATIONS:\n06 73 87 93 05
URL:https://mairiesaintsiffret.fr/agenda/%f0%9f%aa%a9-journee-festive-du-comite-des-fetes-%f0%9f%90%82/
LOCATION:Foyer W. Broche\, Route de Saint-Maximin\, Saint-Siffret\, 30700
CATEGORIES:Associations,Evènement
ATTACH;FMTTYPE=image/jpeg:https://mairiesaintsiffret.fr/wp-content/uploads/2025/08/IMG_2429.jpeg
END:VEVENT
BEGIN:VEVENT
DTSTART;TZID=Europe/Paris:20250920T100000
DTEND;TZID=Europe/Paris:20250921T170000
DTSTAMP:20260423T011915
CREATED:20250817T111707Z
LAST-MODIFIED:20250817T111824Z
UID:2951-1758362400-1758474000@mairiesaintsiffret.fr
SUMMARY:Pousses les portes de l’église de Saint-Siffret !
DESCRIPTION:Journées européennes du patrimoine 2025\nÉglise du 12ème siècle – Exeptionnellement ouverte.\nAvec sa nef en berceau et son abside en cul de four\, l’église est de style roman.\nLe dessin des moulures de pierre autour du portail permet de dater la construction de la fin du 12ème siècle.\nLe bâtiment imposant au nord de l’église date de la même époque. Il appartenait à l’évêché d’Uzès qui y entreposait une partie des récoltes\, la dîme\, due par les paysans.\nEn contre-bas de l’église\, l’actuelle mairie occupe l’ancien presbytère\, bâti après 1715.\nLe cimetière qui entourait l’église a été déplacé après 1776\, à la suite d’une ordonnance royale prescrivant les inhumations hors de l’enceinte villageoise. \n\n\nSamedi 20 septembre\n\n10:00 – 12:00\n14:00 – 17:00\n\n\n\nDimanche 21 septembre\n\n10:00 – 12:00\n14:00 – 17:00\n\n\n\nPuis Visite libre du vieux village.
URL:https://mairiesaintsiffret.fr/agenda/pousses-les-portes-de-leglise-de-saint-siffret/
LOCATION:Eglise de Saint-Siffret\, Rue de l’église\, Saint-Siffret\, 30700
CATEGORIES:Culture
ATTACH;FMTTYPE=image/jpeg:https://mairiesaintsiffret.fr/wp-content/uploads/2025/08/IMG_2435-1.jpeg
ORGANIZER;CN="Mairie de Saint-Siffret":MAILTO:contact@mairiesaintsiffret.fr
END:VEVENT
BEGIN:VEVENT
DTSTART;TZID=Europe/Paris:20250924T080000
DTEND;TZID=Europe/Paris:20250924T120000
DTSTAMP:20260423T011915
CREATED:20250721T141353Z
LAST-MODIFIED:20250721T141353Z
UID:2791-1758700800-1758715200@mairiesaintsiffret.fr
SUMMARY:♻️ Distribution des sacs jaunes ♻️
DESCRIPTION:À partir du 1er MAI 2025\, la distribution des sacs jaunes aura lieu 2 fois par mois en mairie : \nTous les derniers LUNDIS de chaque mois de 14h00 à 17H00 \net \nTous les derniers MERCREDIS de chaque mois de 8H00 à 12h00 \nMerci pour votre compréhension. \nLes services de la Mairie.
URL:https://mairiesaintsiffret.fr/agenda/%e2%99%bb%ef%b8%8f-distribution-des-sacs-jaunes-%e2%99%bb%ef%b8%8f-8/
LOCATION:Mairie de Saint-Siffret\, Route de Saint-Maximin\, Saint-Siffret\, 30700
CATEGORIES:Communal
ATTACH;FMTTYPE=image/png:https://mairiesaintsiffret.fr/wp-content/uploads/2025/04/Pour-les-habitants-de-Saint-Siffret-1.png
ORGANIZER;CN="Mairie de Saint-Siffret":MAILTO:contact@mairiesaintsiffret.fr
END:VEVENT
BEGIN:VEVENT
DTSTART;TZID=Europe/Paris:20250927T100000
DTEND;TZID=Europe/Paris:20250927T120000
DTSTAMP:20260423T011915
CREATED:20250816T122950Z
LAST-MODIFIED:20250918T135920Z
UID:2934-1758967200-1758974400@mairiesaintsiffret.fr
SUMMARY:☕CAFÉ-DÉBAT à L'ESPACE CULTUREL : Lire en 2025 : vers une renaissance ou une mutation du livre 🤔
DESCRIPTION:☕CAFÉ-DÉBAT à L’ESPACE CULTUREL ! \nLe café-débat est un moment convivial d’échange d’idées\, ouvert à tous\, où chacun peut s’exprimer librement autour d’un thème de société dans un esprit d’écoute et de respect.\nAu programme : Lire en 2025 : vers une renaissance ou une mutation du livre ? \nSeptembre est le mois de la rentrée littéraire en France : chaque année\, près de 400 à 500 romans paraissent entre août et octobre. C’est un moment clé de la vie culturelle\, avec débats\, prix littéraires\, adaptations en série/film\, et montée en puissance des plateformes comme TikTok\, YouTube ou Audible. \n❓Quand ? Samedi 27 Septembre à 10H\n📍Où ? À l’Espace Culturel de Saint-Siffret\, Rte de Saint-Maximin\n👥Pour qui ? Entrée Libre
URL:https://mairiesaintsiffret.fr/agenda/%e2%98%95cafe-debat-a-lespace-culturel-lire-en-2025-vers-une-renaissance-ou-une-mutation-du-libre-%f0%9f%a4%94/
LOCATION:Espace culturel – Foyer W. Broche\, Route de Saint-Maximin\, Saint-Siffret\, 30700
CATEGORIES:Communal,Culture,Evènement
ATTACH;FMTTYPE=image/jpeg:https://mairiesaintsiffret.fr/wp-content/uploads/2025/08/IMG_3573.jpeg
ORGANIZER;CN="Mairie de Saint-Siffret":MAILTO:contact@mairiesaintsiffret.fr
END:VEVENT
BEGIN:VEVENT
DTSTART;TZID=Europe/Paris:20250929T140000
DTEND;TZID=Europe/Paris:20250929T170000
DTSTAMP:20260423T011915
CREATED:20250721T141431Z
LAST-MODIFIED:20250721T141431Z
UID:2794-1759154400-1759165200@mairiesaintsiffret.fr
SUMMARY:♻️ Distribution des sacs jaunes ♻️
DESCRIPTION:À partir du 1er MAI 2025\, la distribution des sacs jaunes aura lieu 2 fois par mois en mairie : \nTous les derniers LUNDIS de chaque mois de 14h00 à 17H00 \net \nTous les derniers MERCREDIS de chaque mois de 8H00 à 12h00 \nMerci pour votre compréhension. \nLes services de la Mairie.
URL:https://mairiesaintsiffret.fr/agenda/%e2%99%bb%ef%b8%8f-distribution-des-sacs-jaunes-%e2%99%bb%ef%b8%8f-9/
LOCATION:Mairie de Saint-Siffret\, Route de Saint-Maximin\, Saint-Siffret\, 30700
CATEGORIES:Communal
ATTACH;FMTTYPE=image/png:https://mairiesaintsiffret.fr/wp-content/uploads/2025/04/Pour-les-habitants-de-Saint-Siffret-1.png
ORGANIZER;CN="Mairie de Saint-Siffret":MAILTO:contact@mairiesaintsiffret.fr
END:VEVENT
END:VCALENDAR