BEGIN:VCALENDAR
VERSION:2.0
PRODID:-//Mairie de Saint Siffret - ECPv6.15.20//NONSGML v1.0//EN
CALSCALE:GREGORIAN
METHOD:PUBLISH
X-ORIGINAL-URL:https://mairiesaintsiffret.fr
X-WR-CALDESC:Évènements pour Mairie de Saint Siffret
REFRESH-INTERVAL;VALUE=DURATION:PT1H
X-Robots-Tag:noindex
X-PUBLISHED-TTL:PT1H
BEGIN:VTIMEZONE
TZID:Europe/Paris
BEGIN:DAYLIGHT
TZOFFSETFROM:+0100
TZOFFSETTO:+0200
TZNAME:CEST
DTSTART:20250330T010000
END:DAYLIGHT
BEGIN:STANDARD
TZOFFSETFROM:+0200
TZOFFSETTO:+0100
TZNAME:CET
DTSTART:20251026T010000
END:STANDARD
BEGIN:DAYLIGHT
TZOFFSETFROM:+0100
TZOFFSETTO:+0200
TZNAME:CEST
DTSTART:20260329T010000
END:DAYLIGHT
BEGIN:STANDARD
TZOFFSETFROM:+0200
TZOFFSETTO:+0100
TZNAME:CET
DTSTART:20261025T010000
END:STANDARD
BEGIN:DAYLIGHT
TZOFFSETFROM:+0100
TZOFFSETTO:+0200
TZNAME:CEST
DTSTART:20270328T010000
END:DAYLIGHT
BEGIN:STANDARD
TZOFFSETFROM:+0200
TZOFFSETTO:+0100
TZNAME:CET
DTSTART:20271031T010000
END:STANDARD
END:VTIMEZONE
BEGIN:VEVENT
DTSTART;TZID=Europe/Paris:20260517T110000
DTEND;TZID=Europe/Paris:20260517T130000
DTSTAMP:20260422T150910
CREATED:20260302T144343Z
LAST-MODIFIED:20260326T104224Z
UID:3416-1779015600-1779022800@mairiesaintsiffret.fr
SUMMARY:🎶 Concert Chansons Française CHŒUR DE VINYLES 🎶
DESCRIPTION:Envie de chanter\, fredonner ou simplement passer un bon moment en musique ?Rejoignez le Chœur de Vinyles pour un concert convivial et accessible à tous ! \n📅 Dimanche 17 mai🕚 À 11h📍 Espace Briargues – Saint-Siffret \n🎟️ Entrée libre \n🎤 AU PROGRAMME\nUn moment musical autour de grands noms de la chanson française :🎵 Renaud\, Bécaud\, Nougaro\, Johnny\, Cohen\, V. Sanson… \n👉 À écouter… ou à chanter ensemble ! \n🎼 POUR QUI ?\n\nTous les amateurs de musique\nLes familles\nLes curieux et les chanteurs du dimanche\n\n🎉 POURQUOI VENIR ?\n\nAmbiance conviviale et participative\nRépertoire connu de tous\nMoment culturel accessible et gratuit\n\n🎶 VENEZ CHANTER AVEC NOUS !
URL:https://mairiesaintsiffret.fr/agenda/concert-chansons-francaise/
LOCATION:Espace Briargues\, Route de Saint-Maximin\, Saint-Siffret\, 30700
ATTACH;FMTTYPE=image/jpeg:https://mairiesaintsiffret.fr/wp-content/uploads/2026/03/20260326123406_00001-scaled.jpg
END:VEVENT
BEGIN:VEVENT
DTSTART;TZID=Europe/Paris:20260524T080000
DTEND;TZID=Europe/Paris:20260524T170000
DTSTAMP:20260422T150910
CREATED:20260417T130712Z
LAST-MODIFIED:20260417T130712Z
UID:3596-1779609600-1779642000@mairiesaintsiffret.fr
SUMMARY:🛍️Vide-grenier de l’APE de Saint-Siffret🛍️
DESCRIPTION:L’APE de Saint-Siffret vous invite à son grand vide-grenier ! Venez chiner\, vendre ou simplement passer un moment convivial en famille.Sur place : buvette\, restauration et musique live pour une ambiance festive toute la journée. \nInformations pratiques : \n\n📅 Date : Dimanche 24 mai\n🕗 Horaires : de 8h à 17h\n📍 Lieu : Foyer William Broche – Route de Saint-Maximin\, 30700 Saint-Siffret\n\nPour les exposants : \n\nEmplacement : 5m x 4m\nTarif : 10€\nRéservation recommandée sur : www.apestsiffret.fr \nOu par SMS : 06 01 64 50 34\n\n👉 Venez nombreux pour une journée conviviale et pleine de bonnes affaires ! \n 
URL:https://mairiesaintsiffret.fr/agenda/%f0%9f%9b%8d%ef%b8%8fvide-grenier-de-lape-de-saint-siffret%f0%9f%9b%8d%ef%b8%8f/
LOCATION:Foyer W. Broche\, Route de Saint-Maximin\, Saint-Siffret\, 30700
ATTACH;FMTTYPE=image/png:https://mairiesaintsiffret.fr/wp-content/uploads/2026/04/Flyer-vide-grenier-2026-b-scaled.png
END:VEVENT
BEGIN:VEVENT
DTSTART;TZID=Europe/Paris:20260530T190000
DTEND;TZID=Europe/Paris:20260531T010000
DTSTAMP:20260422T150910
CREATED:20260302T144806Z
LAST-MODIFIED:20260302T144806Z
UID:3418-1780167600-1780189200@mairiesaintsiffret.fr
SUMMARY:Concert GOSPEL
DESCRIPTION:Tous en Scène vous invite à célébrer le Gospel
URL:https://mairiesaintsiffret.fr/agenda/concert-gospel/
END:VEVENT
END:VCALENDAR